Workbook
Name EF_DM: '[1]EF Summary'!$A$24:$V$28
Name EF_N2O: '[1]EF Summary'!$A$14:$V$18
Name EF_OC: '[1]EF Summary'!$A$8:$V$12
Name gwp_ch4: [1]Constants!$B$5
Name gwp_n2o: [1]Constants!$B$6
Name LCC: '[1]Baseline EFs'!$R$2:$T$1004
Name LS_categories: [1]Grazing!$A$19:$A$32
Name MLRA_Pick: [1]MLRAs!$A$2:$A$280
Name Prior_LU: [1]MLRAs!$H$2:$H$3
Name Soil_Texture: [1]MLRAs!$F$2:$F$4
Name States: [1]Grazing!$E$3:$E$50
Name temp_grazing: [1]Grazing!$A$4:$A$16
Name Version: Instrucciones!$B$3

Sheet Instrucciones
B2: Hoja de Cálculo de Monitoreo de Carbono del Protocolo Forestal para México v3.0
B3: Protocolo Forestal para México v3.0 (octubre de 2022)
B4: DESCRIPCION GENERAL
B5: Esta herramienta la proporciona la Reserva de Acción Climática para acompañar al Protocolo Forestal para México v3.0, para ayudar en la cuantificación de los cálculos de los FSR de Productos de Madera Aprovechada (HWP por sus siglas en inglés) y los cálculos de los CRT en general. Esta versión debe usarse para un Proyecto Forestal con un Área de Actividad. Para proyectos con múltiples Áreas de Actividad, comuníquese con la Reserva para solicitar una versión modificada para su proyecto. Para cualquier duda, comentario o sugerencia relacionada con esta herramienta, favor de mandar un correo electrónico a policy@climateactionreserve.org.
B9: NAVEGACION
C11: Instrucciones | F11: Referirse a esta hoja de cálculo para obtener información relacionada con la versión de la herramienta y su uso
C12: Hoja De Calculo | F12: Ingresar la información del usuario para determinar la emisión de CRT para el periodo de reporte E
C13: Fondo de Aseguramiento | F13: Ingresar la información para calcular la contribución al fondo de aseguramiento. Se necesita copiar el resultado final y pegarlo en la fila 57 de la hoja de calculo para el periodo de reporte.
C14: Herramienta de Productos de Madera (HWP), Carbono de HWP en el Área de Actividad, y Línea de Base de Carbono de HWP | F14: Ingresar la información del usuario para determinar el cálculo de HWP para el periodo de reporte

Sheet Hoja De Calculo
A1: Hoja de Cálculo para el Reporte de Monitoreo Anual | E1: Información determinada por el Proponente de Proyecto | BC1: Información determinada por el Proponente de Proyecto durante cada verificación
E2: Información que se calcula automáticamente | BC2: Información que se calcula automáticamente
A5: Numero de Áreas de Actividad en el agregado o proyecto en total (lo cual es mayor) | B5: 1
A6: *Solo incluir Áreas de Actividad que utilizan la metadologia del inventario del campo
B7: Años > | C7: 1 | D7: =C7+1 -> 2 | E7: =D7+1 -> 3 | F7: =E7+1 -> 4 | G7: =F7+1 -> 5 | H7: =G7+1 -> 6 | I7: =H7+1 -> 7 | J7: =I7+1 -> 8 | K7: =J7+1 -> 9 | ... CX7: =CW7+1 -> 100 | CZ7: Notas | DA7: Ecuación(es) Referencias (PFM) | DB7: Referencia simbólica (PFM)
A8: Fecha de Inicio (mm/dd/aa) | B8: 44549 | C8: Los proyectos tienen hasta dos años a partir de la Fecha de Inicio del proyecto para someter el Reporte de Proyecto. Si se incluye más de un Periodo de Reporte, los créditos se distribuirán cada año según la proporción de tiempo. El inventario reportado deberá ser proporcional al número de días de cada Periodo de Reporte. | CZ8: Fecha de Inicio del proyecto. Es la fecha cuando comienzan las actividades del proyecto, la cual no podrá ser mas de seis meses antes de la fecha cuando se somete el proyecto. (mm/dd/aa) | DA8: 3.12
A9: Fecha de Inicio del Periodo de Reporte (mm/dd/aa) | C9: =B8 -> 44549 | D9: =C10+DATEDIF(DATE(YEAR(C10),MONTH(C10),DAY(C10)),DATE(YEAR(C10),MONTH(C10),DAY(C10)),"d")+1 -> 44914 | E9: =D10+DATEDIF(DATE(YEAR(D10),MONTH(D10),DAY(D10)),DATE(YEAR(D10),MONTH(D10),DAY(D10)),"d")+1 -> 45279 | F9: =E10+DATEDIF(DATE(YEAR(E10),MONTH(E10),DAY(E10)),DATE(YEAR(E10),MONTH(E10),DAY(E10)),"d")+1 -> 45645 | G9: =F10+DATEDIF(DATE(YEAR(F10),MONTH(F10),DAY(F10)),DATE(YEAR(F10),MONTH(F10),DAY(F10)),"d")+1 -> 46010 | H9: =G10+DATEDIF(DATE(YEAR(G10),MONTH(G10),DAY(G10)),DATE(YEAR(G10),MONTH(G10),DAY(G10)),"d")+1 -> 46375 | I9: =H10+DATEDIF(DATE(YEAR(H10),MONTH(H10),DAY(H10)),DATE(YEAR(H10),MONTH(H10),DAY(H10)),"d")+1 -> 46740 | J9: =I10+DATEDIF(DATE(YEAR(I10),MONTH(I10),DAY(I10)),DATE(YEAR(I10),MONTH(I10),DAY(I10)),"d")+1 -> 47106 | K9: =J10+DATEDIF(DATE(YEAR(J10),MONTH(J10),DAY(J10)),DATE(YEAR(J10),MONTH(J10),DAY(J10)),"d")+1 -> 47471 | ... CX9: =CW10+DATEDIF(DATE(YEAR(CW10),MONTH(CW10),DAY(CW10)),DATE(YEAR(CW10),MONTH(CW10),DAY(CW10)),"d")+1 -> 80708
A10: Fecha de Termino del Periodo de Reporte (mm/dd/aa) | C10: 44913 | D10: =D9+DATEDIF(DATE(YEAR(D9),MONTH(D9),DAY(D9)),DATE(YEAR(D9)+1,MONTH(D9),DAY(D9)),"d")-1 -> 45278 | E10: =E9+DATEDIF(DATE(YEAR(E9),MONTH(E9),DAY(E9)),DATE(YEAR(E9)+1,MONTH(E9),DAY(E9)),"d")-1 -> 45644 | F10: =F9+DATEDIF(DATE(YEAR(F9),MONTH(F9),DAY(F9)),DATE(YEAR(F9)+1,MONTH(F9),DAY(F9)),"d")-1 -> 46009 | G10: =G9+DATEDIF(DATE(YEAR(G9),MONTH(G9),DAY(G9)),DATE(YEAR(G9)+1,MONTH(G9),DAY(G9)),"d")-1 -> 46374 | H10: =H9+DATEDIF(DATE(YEAR(H9),MONTH(H9),DAY(H9)),DATE(YEAR(H9)+1,MONTH(H9),DAY(H9)),"d")-1 -> 46739 | I10: =I9+DATEDIF(DATE(YEAR(I9),MONTH(I9),DAY(I9)),DATE(YEAR(I9)+1,MONTH(I9),DAY(I9)),"d")-1 -> 47105 | J10: =J9+DATEDIF(DATE(YEAR(J9),MONTH(J9),DAY(J9)),DATE(YEAR(J9)+1,MONTH(J9),DAY(J9)),"d")-1 -> 47470 | K10: =K9+DATEDIF(DATE(YEAR(K9),MONTH(K9),DAY(K9)),DATE(YEAR(K9)+1,MONTH(K9),DAY(K9)),"d")-1 -> 47835 | ... CX10: =CX9+DATEDIF(DATE(YEAR(CX9),MONTH(CX9),DAY(CX9)),DATE(YEAR(CX9)+1,MONTH(CX9),DAY(CX9)),"d")-1 -> 81072 | CZ10: Ingresar el final del primer periodo de reporte, el cual puede ser entre 6 y 12 meses a partir de la fecha de inicio del proyecto. Después se calcula automáticamente sumando 12 meses para cada periodo de reporte. (mm/dd/aa)
A11: Fecha de Reporte (mm/dd/aa) | C11: 44866 | D11: 23/112023 | CZ11: Ingresar la fecha de entrega del reporte de monitoreo y la hoja de calculo. (mm/dd/aa)
A12: Línea de Base (CO2-e) por cada Área de Actividad | B12: 8064223 | CZ12: Este es el carbono total reportado de todas las fuentes y sumideros de las Áreas de Actividades cuando se inicia el proyecto, se calcula automáticamente en CALCBOSK en el reporte de la línea de base. Al inventario inicial se le agregan las Área de Actividad nuevas que se añaden en periodos de reporte futuros. Si no se agregan Áreas de Actividad nuevas, no es necesario ingresar nuevos datos en periodos de reporte futuros. | DA12: Al inventario inicial se le agregan las Área de Actividad nuevas que se añaden en periodos de reporte futuros. Si no se agregan Áreas de Actividad nuevas, no es necesario ingresar nuevos datos en periodos de reporte futuros.
A13: Acervos de Carbono en Sito Muestreados (toneladas de CO2e) | C13: 8358707 | D13: 8762869 | CZ13: Este es el carbono total en todas las fuentes reportadas en los Áreas de Actividades reportadas como el mejor estimado, independientemente de la confianza estadística. Se calcula automáticamente en CALCBOSK en el reporte de estimación "Crecer las parcelas hasta la fecha". | DA13: 5.1 | DB13: AConsite, y
A14: Incertidumbre de estimación en el año corriente | B14: 0.0438 | C14: 0.0345 | D14: 0.0341 | CZ14: El error de muestreo, calculado en un intervalo de confianza del 90%, se calcula automáticamente en CALCBOSK por el reporte de estimación "Crecer las parcelas hasta la fecha". El error de muestreo no puede ser mayor al 20%. | DA14: B.4 | DB14: TSE
A15: Cálculo para la deducción por incertidumbre del proyecto | C15: =IF(C14<=(VLOOKUP('Hoja De Calculo'!$B$5,TSE!$A$1:$B$17,2,TRUE)),0,IF(AND(20%>=C14,C14>(VLOOKUP('Hoja De Calculo'!$B$5,TSE!$A$1:$B$17,2,TRUE))),(C14-(VLOOKUP('Hoja De Calculo'!$B$5,TSE!$A$1:$B$17,2,TRUE))),IF(C14>20%,100%,0))) -> 0 | D15: =IF(D14<=(VLOOKUP('Hoja De Calculo'!$B$5,TSE!$A$1:$B$17,2,TRUE)),0,IF(AND(20%>=D14,D14>(VLOOKUP('Hoja De Calculo'!$B$5,TSE!$A$1:$B$17,2,TRUE))),(D14-(VLOOKUP('Hoja De Calculo'!$B$5,TSE!$A$1:$B$17,2,TRUE))),IF(D14>20%,100%,0))) -> 0 | E15: =IF(E14<=(VLOOKUP('Hoja De Calculo'!$B$5,TSE!$A$1:$B$17,2,TRUE)),0,IF(AND(20%>=E14,E14>(VLOOKUP('Hoja De Calculo'!$B$5,TSE!$A$1:$B$17,2,TRUE))),(E14-(VLOOKUP('Hoja De Calculo'!$B$5,TSE!$A$1:$B$17,2,TRUE))),IF(E14>20%,100%,0))) -> 0 | F15: =IF(F14<=(VLOOKUP('Hoja De Calculo'!$B$5,TSE!$A$1:$B$17,2,TRUE)),0,IF(AND(20%>=F14,F14>(VLOOKUP('Hoja De Calculo'!$B$5,TSE!$A$1:$B$17,2,TRUE))),(F14-(VLOOKUP('Hoja De Calculo'!$B$5,TSE!$A$1:$B$17,2,TRUE))),IF(F14>20%,100%,0))) -> 0 | G15: =IF(G14<=(VLOOKUP('Hoja De Calculo'!$B$5,TSE!$A$1:$B$17,2,TRUE)),0,IF(AND(20%>=G14,G14>(VLOOKUP('Hoja De Calculo'!$B$5,TSE!$A$1:$B$17,2,TRUE))),(G14-(VLOOKUP('Hoja De Calculo'!$B$5,TSE!$A$1:$B$17,2,TRUE))),IF(G14>20%,100%,0))) -> 0 | H15: =IF(H14<=(VLOOKUP('Hoja De Calculo'!$B$5,TSE!$A$1:$B$17,2,TRUE)),0,IF(AND(20%>=H14,H14>(VLOOKUP('Hoja De Calculo'!$B$5,TSE!$A$1:$B$17,2,TRUE))),(H14-(VLOOKUP('Hoja De Calculo'!$B$5,TSE!$A$1:$B$17,2,TRUE))),IF(H14>20%,100%,0))) -> 0 | I15: =IF(I14<=(VLOOKUP('Hoja De Calculo'!$B$5,TSE!$A$1:$B$17,2,TRUE)),0,IF(AND(20%>=I14,I14>(VLOOKUP('Hoja De Calculo'!$B$5,TSE!$A$1:$B$17,2,TRUE))),(I14-(VLOOKUP('Hoja De Calculo'!$B$5,TSE!$A$1:$B$17,2,TRUE))),IF(I14>20%,100%,0))) -> 0 | J15: =IF(J14<=(VLOOKUP('Hoja De Calculo'!$B$5,TSE!$A$1:$B$17,2,TRUE)),0,IF(AND(20%>=J14,J14>(VLOOKUP('Hoja De Calculo'!$B$5,TSE!$A$1:$B$17,2,TRUE))),(J14-(VLOOKUP('Hoja De Calculo'!$B$5,TSE!$A$1:$B$17,2,TRUE))),IF(J14>20%,100%,0))) -> 0 | ... CX15: =IF(CX14<=(VLOOKUP('Hoja De Calculo'!$B$5,TSE!$A$1:$B$17,2,TRUE)),0,IF(AND(20%>=CX14,CX14>(VLOOKUP('Hoja De Calculo'!$B$5,TSE!$A$1:$B$17,2,TRUE))),(CX14-(VLOOKUP('Hoja De Calculo'!$B$5,TSE!$A$1:$B$17,2,TRUE))),IF(CX14>20%,100%,0))) -> 0 | CZ15: La deducción de confianza se calcula automáticamente según el error de muestreo. | DA15: B.4
A16: Acervos de Carbono en Sitio Muestreados (Ajustados por deducción de confianza) (toneladas de CO2e) | C16: =C13*(1-C15) -> 8358707 | D16: =D13*(1-D15) -> 8762869 | E16: =E13*(1-E15) -> 0 | F16: =F13*(1-F15) -> 0 | G16: =G13*(1-G15) -> 0 | H16: =H13*(1-H15) -> 0 | I16: =I13*(1-I15) -> 0 | J16: =J13*(1-J15) -> 0 | ... CX16: =CX13*(1-CX15) -> 0 | CZ16: Acervos de carbono en sitio actuales ajustados usando la deducción de confianza. | DA16: 5.1 | DB16: AConsite, y x (1-CDy)
A17: Acervos de Carbono en Sitio - Línea de Base (toneladas CO2e) | B17: =B12 -> 8064223 | C17: =B12+C12 -> 8064223 | D17: =MAX($C$17:C17)+D12 -> 8064223 | E17: =MAX($C$17:D17)+E12 -> 8064223 | F17: =MAX($C$17:E17)+F12 -> 8064223 | G17: =MAX($C$17:F17)+G12 -> 8064223 | H17: =MAX($C$17:G17)+H12 -> 8064223 | I17: =MAX($C$17:H17)+I12 -> 8064223 | J17: =MAX($C$17:I17)+J12 -> 8064223 | K17: =MAX($C$17:J17)+K12 -> 8064223 | ... CX17: =MAX($C$17:CW17)+CX12 -> 8064223 | CZ17: Estimación de la línea de base de acervos de carbono en sitio que no son afectados por la deducción de confianza. Los acervos de carbono de la línea de base se determinan del inventario inicial y se modelan siguiendo los lineamientos del PFM. | DA17: 5.1 | DB17: BConsite, y
A18: Remociones de GEI de Acervos de Carbono en Sitio Cuantificadas Verificados (toneladas CO2e) | C18: =IF(C13>0,C16-C17,0) -> 294484 | D18: =IF(D13>0,D16-D17,0) -> 698646 | E18: =IF(E13>0,E16-E17,0) -> 0 | F18: =IF(F13>0,F16-F17,0) -> 0 | G18: =IF(G13>0,G16-G17,0) -> 0 | H18: =IF(H13>0,H16-H17,0) -> 0 | I18: =IF(I13>0,I16-I17,0) -> 0 | J18: =IF(J13>0,J16-J17,0) -> 0 | ... CX18: =IF(CX13>0,CX16-CX17,0) -> 0 | CZ18: La diferencia entre los acervos de carbono actuales y la línea de base. | DA18: 5.1 | DB18: Δ AConsite - Δ BConsite
A19: Remociones de GEI de Acervos de Carbono en Sitio Verificados Anuales (toneladas CO2e) | C19: =C18 -> 294484 | D19: =IF(D18-SUM($C$19:C19)>0,IF(D13>0,D18-SUM($C$19:C19),0),0) -> 404162 | E19: =IF(E18-SUM($C$19:D19)>0,IF(E13>0,E18-SUM($C$19:D19),0),0) -> 0 | F19: =IF(F18-SUM($C$19:E19)>0,IF(F13>0,F18-SUM($C$19:E19),0),0) -> 0 | G19: =IF(G18-SUM($C$19:F19)>0,IF(G13>0,G18-SUM($C$19:F19),0),0) -> 0 | H19: =IF(H18-SUM($C$19:G19)>0,IF(H13>0,H18-SUM($C$19:G19),0),0) -> 0 | I19: =IF(I18-SUM($C$19:H19)>0,IF(I13>0,I18-SUM($C$19:H19),0),0) -> 0 | J19: =IF(J18-SUM($C$19:I19)>0,IF(J13>0,J18-SUM($C$19:I19),0),0) -> 0 | K19: =IF(K18-SUM($C$19:J19)>0,IF(K13>0,K18-SUM($C$19:J19),0),0) -> 0 | ... CX19: =IF(CX18-SUM($C$19:CW19)>0,IF(CX13>0,CX18-SUM($C$19:CW19),0),0) -> 0 | CZ19: La diferencia entre el incremento en los acervos de carbono actual y la línea de base, o la diferencia entre los acervos de carbono actual y del periodo de reporte anterior. Puede ser negativo, lo que indica que ha sucedido una reversión (si hubo créditos emitidos en años previos). Si no se han emitido créditos en años previos, entonces las cantidades negativas se suman a una cuenta negativa.
A20: Efectos Secundarios
A21: Carbono Actual en Árboles Aprovechados para Productos de Madera del Área de Actividad (toneladas CO2e) | C21: 76868.444 | D21: 84912.324 | CZ21: Basado en el carbono real de los acervos de carbono vivo en pie aprovechado para cada Periodo de Reporte, calculado para cada Periodo de Reporte dela pestaña 'Área de Actividad HWP C'. El valor debe copiarse y pegarse directamente desde la pestaña 'Área de Actividad HWP C'. | DA21: 5.4 | DB21: AChv, y
A22: Línea de base del Carbono en Árboles Aprovechados para Productos de Madera del Área de Actividad (toneladas CO2e) | C22: ='HWP C Línea de Base'!$D$22 -> 74463.814 | D22: ='HWP C Línea de Base'!$D$22 -> 74463.814 | E22: ='HWP C Línea de Base'!$D$22 -> 74463.814 | F22: ='HWP C Línea de Base'!$D$22 -> 74463.814 | G22: ='HWP C Línea de Base'!$D$22 -> 74463.814 | H22: ='HWP C Línea de Base'!$D$22 -> 74463.814 | I22: ='HWP C Línea de Base'!$D$22 -> 74463.814 | J22: ='HWP C Línea de Base'!$D$22 -> 74463.814 | ... CY22: ='HWP C Línea de Base'!$D$22 -> 74463.814 | CZ22: Basado en el carbono real de los acervos de carbono vivo acumulado en cada Periodo de Reporte en la Línea de Base, como se calcula en la pestaña 'Línea de base HWP C' | DA22: 5.4 | DB22: BChv, y
A23: Diferencia Anual entre el Carbono Actual y la Línea de Base para Árboles Aprovechados para Productos de Madera (toneladas CO2e) | C23: =IFERROR(C21-C22,"") -> 2404.6308 | D23: =IFERROR(D21-D22,"") -> 10448.51 | E23: =IFERROR(E21-E22,"") -> -74463.814 | F23: =IFERROR(F21-F22,"") -> -74463.814 | G23: =IFERROR(G21-G22,"") -> -74463.814 | H23: =IFERROR(H21-H22,"") -> -74463.814 | I23: =IFERROR(I21-I22,"") -> -74463.814 | J23: =IFERROR(J21-J22,"") -> -74463.814 | ... CY23: =IFERROR(CY21-CY22,"") -> -74463.814 | CZ23: La diferencia entre los valores actuales y línea de base de carbono en madera aprovechada (diferencia entre las líneas 9 y 10) | DA23: 5.4 | DB23: AChv, y - BChv, y
A24: Efectos Secundarios Anuales Brutos para Áreas de Actividad de Manejo Forestal Mejorado | C24: =IFERROR(C23*0.2,"") -> 480.92617 | D24: =IFERROR(D23*0.2,"") -> 2089.7021 | E24: =IFERROR(E23*0.2,"") -> -14892.763 | F24: =IFERROR(F23*0.2,"") -> -14892.763 | G24: =IFERROR(G23*0.2,"") -> -14892.763 | H24: =IFERROR(H23*0.2,"") -> -14892.763 | I24: =IFERROR(I23*0.2,"") -> -14892.763 | J24: =IFERROR(J23*0.2,"") -> -14892.763 | ... CY24: =IFERROR(CY23*0.2,"") -> -14892.763 | CZ24: Fugas anuales independientemente de como se compara el aprovechamiento actual y la línea de base de manera acumulada | DA24: 5.4 | DB24: (AChv,y - BChv,y) x 20%
A25: Emisiones de Efectos Secundarios Brutos Ajustados para Áreas de Actividad de Proyectos de Manejo Forestal Mejorado, que no permitan Efectos Secundarios positivos acumulados pero que no incluyan un traspaso positivo (toneladas CO2e) | C25: =IF(SUM($C$23:C23)>=0,0,C24) -> 0 | D25: =IF(SUM($C$25:C$25)<0,MIN(D24,ABS(SUM($C$25:C$25))),IF(SUM($C23:D23)<0,MIN(0,D24),0)) -> 0 | E25: =IF(SUM($C$25:D$25)<0,MIN(E24,ABS(SUM($C$25:D$25))),IF(SUM($C23:E23)<0,MIN(0,E24),0)) -> -14892.763 | F25: =IF(SUM($C$25:E$25)<0,MIN(F24,ABS(SUM($C$25:E$25))),IF(SUM($C23:F23)<0,MIN(0,F24),0)) -> -14892.763 | G25: =IF(SUM($C$25:F$25)<0,MIN(G24,ABS(SUM($C$25:F$25))),IF(SUM($C23:G23)<0,MIN(0,G24),0)) -> -14892.763 | H25: =IF(SUM($C$25:G$25)<0,MIN(H24,ABS(SUM($C$25:G$25))),IF(SUM($C23:H23)<0,MIN(0,H24),0)) -> -14892.763 | I25: =IF(SUM($C$25:H$25)<0,MIN(I24,ABS(SUM($C$25:H$25))),IF(SUM($C23:I23)<0,MIN(0,I24),0)) -> -14892.763 | J25: =IF(SUM($C$25:I$25)<0,MIN(J24,ABS(SUM($C$25:I$25))),IF(SUM($C23:J23)<0,MIN(0,J24),0)) -> -14892.763 | K25: =IF(SUM($C$25:J$25)<0,MIN(K24,ABS(SUM($C$25:J$25))),IF(SUM($C23:K23)<0,MIN(0,K24),0)) -> -14892.763 | ... CY25: =IF(SUM($C$25:CX$25)<0,MIN(CY24,ABS(SUM($C$25:CX$25))),IF(SUM($C23:CY23)<0,MIN(0,CY24),0)) -> -14892.763 | CZ25: Si el aprovechamiento real es menor que el aprovechamiento de la línea base en forma acumulativa durante el Periodo de Reporte dado, entonces este valor será la diferencia entre el aprovechamiento real y la línea de base antes de la entrega al aserradero en el Periodo de Reporte dado multiplicado por el factor de fuga determinado en la fila anterior. Si el aprovechamiento real es mayor que el aprovechamiento de referencia, en forma acumulativa durante el Periodo de Reporte anterior, este valor será cero en el Periodo de Reporte dado a menos que se recuperen las pérdidas negativas anteriores. | DA25: 5.4
A26: Traspaso Positivo de Emisiones por Efectos Secundarios del Año Previo (toneladas CO2e) | D26: =IF(AND(SUM($C$25:C25)>=0,SUM($C$23:C23)>=0),SUM($C$24:C24),0) -> 480.92617 | E26: =IF(AND(SUM($C$25:D25)>=0,SUM($C$23:D23)>=0),SUM($C$24:D24),0) -> 2570.6282 | F26: =IF(AND(SUM($C$25:E25)>=0,SUM($C$23:E23)>=0),SUM($C$24:E24),0) -> 0 | G26: =IF(AND(SUM($C$25:F25)>=0,SUM($C$23:F23)>=0),SUM($C$24:F24),0) -> 0 | H26: =IF(AND(SUM($C$25:G25)>=0,SUM($C$23:G23)>=0),SUM($C$24:G24),0) -> 0 | I26: =IF(AND(SUM($C$25:H25)>=0,SUM($C$23:H23)>=0),SUM($C$24:H24),0) -> 0 | J26: =IF(AND(SUM($C$25:I25)>=0,SUM($C$23:I23)>=0),SUM($C$24:I24),0) -> 0 | K26: =IF(AND(SUM($C$25:J25)>=0,SUM($C$23:J23)>=0),SUM($C$24:J24),0) -> 0 | ... CY26: =IF(AND(SUM($C$25:CX25)>=0,SUM($C$23:CX23)>=0),SUM($C$24:CX24),0) -> 0 | CZ26: Cantidad de fugas positivas que ocurren cuando el aprovechamiento actual es mayor que la línea de base de manera acumulativa, neta de cualquier cantidad aplicada a la recuperación de fugas negativas.
A27: Emisiones Netas por Efectos Secundarios para Áreas de Actividad de MFM (toneladas CO2e); incluyendo un traspaso positivo (toneladas CO2e) | C27: =-C25 -> 0 | D27: =IFERROR(-(IF(AND(SUM($C$23:D23)<0,D25<0),MIN(0,D25+D26),MIN(D24+D26,ABS(SUM($C$27:C$27))))),"") -> 0 | E27: =IFERROR(-(IF(AND(SUM($C$23:E23)<0,E25<0),MIN(0,E25+E26),MIN(E24+E26,ABS(SUM($C$27:D$27))))),"") -> 12322.134 | F27: =IFERROR(-(IF(AND(SUM($C$23:F23)<0,F25<0),MIN(0,F25+F26),MIN(F24+F26,ABS(SUM($C$27:E$27))))),"") -> 14892.763 | G27: =IFERROR(-(IF(AND(SUM($C$23:G23)<0,G25<0),MIN(0,G25+G26),MIN(G24+G26,ABS(SUM($C$27:F$27))))),"") -> 14892.763 | H27: =IFERROR(-(IF(AND(SUM($C$23:H23)<0,H25<0),MIN(0,H25+H26),MIN(H24+H26,ABS(SUM($C$27:G$27))))),"") -> 14892.763 | I27: =IFERROR(-(IF(AND(SUM($C$23:I23)<0,I25<0),MIN(0,I25+I26),MIN(I24+I26,ABS(SUM($C$27:H$27))))),"") -> 14892.763 | J27: =IFERROR(-(IF(AND(SUM($C$23:J23)<0,J25<0),MIN(0,J25+J26),MIN(J24+J26,ABS(SUM($C$27:I$27))))),"") -> 14892.763 | K27: =IFERROR(-(IF(AND(SUM($C$23:K23)<0,K25<0),MIN(0,K25+K26),MIN(K24+K26,ABS(SUM($C$27:J$27))))),"") -> 14892.763 | ... CY27: =IFERROR(-(IF(AND(SUM($C$23:CY23)<0,CY25<0),MIN(0,CY25+CY26),MIN(CY24+CY26,ABS(SUM($C$27:CX$27))))),"") -> 14892.763 | CZ27: Cantidad de fugas final, neta de cualquier traspaso positivo aplicado contra fugas negativas, si el aprovechamiento actual disminuye por abajo del aprovechamiento de la línea de base de manera cumulativa después de exceder el aprovechamiento de la línea de base excedente. | DA27: 5.4 | DB27: SEy
A28: % Cobertura arbustiva antes de las actividades de la preparación del sitio | CZ28: Para Áreas de Actividad de Reforestación, ingrese el número de hectáreas que serán reforestadas donde se usa equipo mecánico, es decir, rastrillo o masticación, para la eliminación de vegetación que compite con las plántulas reforestadas en el sitio. | DA28: 5.2
A29: % Cobertura arbustiva despues de las actividades de la preparación del sitio | CZ29: Para Áreas de Actividad de Reforestación, ingrese el número de hectáreas que serán reforestadas donde se usa equipo mecánico, es decir, rastrillo o masticación, para la eliminación de vegetación que compite con las plántulas reforestadas en el sitio. | DA29: 5.2
A30: Área de Actividad (ha) | C30: 28596.95 | CZ30: El factor de emisión estándar apropiado de la Tabla 5.1 del protocolo que corresponda a la cobertura de maleza en el área de preparación del sitio. | DA30: 5.2; Tabla 5.1
A31: Deducción por los Efectos Secundarios para Emisiones de Combustión asociadas con la preparación del sitio | C31: =IF(B28>C29,1.61*(B28-C29)*C30,0) -> 0 | D31: =D29*D30 -> 0 | E31: =E29*E30 -> 0 | F31: =F29*F30 -> 0 | G31: =G29*G30 -> 0 | H31: =H29*H30 -> 0 | I31: =I29*I30 -> 0 | J31: =J29*J30 -> 0 | K31: =K29*K30 -> 0 | ... CY31: =CY29*CY30 -> 0 | CZ31: Se calcula automáticamente las emisiones de combustión asociadas con la preparación del sitio.
A32: Estimador de Proporción por Defecto para Arbustos | CZ32: El factor de emisión estándar apropiado de la Tabla 5.1 del protocolo que corresponda a la cobertura de maleza en el área de preparación del sitio. | DA32: 5.2; Tabla 5.1
A33: Dedución por los Efectos Secundarios para Emisiones de la Remoción de Biomasa asociadas con la preparación del sitio | C33: =(B28-C29)*C32 -> 0
A34: Porcentaje de riesgo de fugas asociado con el desplazamiento de practicas agrícolas o pecuarias debido a las actividades de reforestación | C34: 0 | D34: =$C$34 -> 0 | E34: =$C$34 -> 0 | F34: =$C$34 -> 0 | G34: =$C$34 -> 0 | H34: =$C$34 -> 0 | I34: =$C$34 -> 0 | J34: =$C$34 -> 0 | K34: =$C$34 -> 0 | ... CY34: =$C$34 -> 0 | CZ34: Calcula el porcentaje de riesgo de fugas asociado con el desplazamiento de practicas agrícolas o pecuarias segunda la figura 8.1 del protocolo. | DA34: Figura 5.1
A35: Deducción por fugas asociado con el desplazamiento de practicas agrícolas o pecuarias | C35: =C34*C19 -> 0 | D35: =D34*D19 -> 0 | E35: =E34*E19 -> 0 | F35: =F34*F19 -> 0 | G35: =G34*G19 -> 0 | H35: =H34*H19 -> 0 | I35: =I34*I19 -> 0 | J35: =J34*J19 -> 0 | ... CY35: =CY34*CY19 -> 0 | CZ35: Se calcula automáticamente y es la deducción basada en el porcentaje de riesgo. | DA35: 5.3 | DB35: ASy
A36: Efectos Secundarios Totales | C36: =-(C27+C31+C33+C35) -> 0 | D36: =-(D27+D31+D35) -> 0 | E36: =-(E27+E31+E35) -> -12322.134 | F36: =-(F27+F31+F35) -> -14892.763 | G36: =-(G27+G31+G35) -> -14892.763 | H36: =-(H27+H31+H35) -> -14892.763 | I36: =-(I27+I31+I35) -> -14892.763 | J36: =-(J27+J31+J35) -> -14892.763 | K36: =-(K27+K31+K35) -> -14892.763 | ... CY36: =-(CY27+CY31+CY35) -> -14892.763 | CZ36: Suma de los efectos secundarios totales para proyectos de mejoramiento al manejo forestal y el desplazamiento de practicas agrícolas o pecuarias. | DA36: 5.1 | DB36: SEy
A37: Remociones y Reversiones Cuantificadas
A38: Remociones Anuales Cuantificadas de CO2 netas de deducciones y los efectos secundarios (toneladas CO2e) | C38: =C19+C36 -> 294484 | D38: =D19+D36 -> 404162 | E38: =E19+E36 -> -12322.134 | F38: =F19+F36 -> -14892.763 | G38: =G19+G36 -> -14892.763 | H38: =H19+H36 -> -14892.763 | I38: =I19+I36 -> -14892.763 | J38: =J19+J36 -> -14892.763 | ... CY38: =CY19+CY36 -> -14892.763 | CZ38: Se calcula automáticamente las remociones anuales cuantificadas de CO2 netos de deducciones y los efectos secundarios (toneladas CO2e)
A39: Reversiones Anuales (toneladas CO2e) | C39: =-(IF(SUM($C$38:C38)>0,(IF(C38<0,C38,0)),0)) -> 0 | D39: =-(IF(SUM($C$38:D38)>0,(IF(D38<=0,(D13-C13),0)),0)) -> 0 | E39: =-(IF(SUM($C$38:E38)>0,(IF(E38<=0,(E13-D13),0)),0)) -> 8762869 | F39: =-(IF(SUM($C$38:F38)>0,(IF(F38<=0,(F13-E13),0)),0)) -> 0 | G39: =-(IF(SUM($C$38:G38)>0,(IF(G38<=0,(G13-F13),0)),0)) -> 0 | H39: =-(IF(SUM($C$38:H38)>0,(IF(H38<=0,(H13-G13),0)),0)) -> 0 | I39: =-(IF(SUM($C$38:I38)>0,(IF(I38<=0,(I13-H13),0)),0)) -> 0 | J39: =-(IF(SUM($C$38:J38)>0,(IF(J38<=0,(J13-I13),0)),0)) -> 0 | K39: =-(IF(SUM($C$38:K38)>0,(IF(K38<=0,(K13-J13),0)),0)) -> 0 | ... CX39: =-(IF(SUM($C$38:CX38)>0,(IF(CX38<=0,(CX13-CW13),0)),0)) -> 0 | CZ39: Si se han emitido créditos a un proyecto en años previos, entonces cualquier remoción de GEI negativa se considera una reversión. Esta línea le da seguimiento a estas reversiones. Si una reversión disminuye los acervos de carbono en madera viva en pie del proyecto por debajo de la línea de base, el proyecto se dará por terminado.
A40: Remociones Verificados Totales por el Periodo de Reporte
A41: Remociones Anuales verificadas de CO2 | C41: =MAX(C38,0) -> 294484 | D41: =MAX(D38,0) -> 404162 | E41: =MAX(E38,0) -> 0 | F41: =MAX(F38,0) -> 0 | G41: =MAX(G38,0) -> 0 | H41: =MAX(H38,0) -> 0 | I41: =MAX(I38,0) -> 0 | J41: =MAX(J38,0) -> 0 | ... CX41: =MAX(CX38,0) -> 0 | CZ41: Reducciones netas de CO2 verificadas para el Periodo de Reporte. Este número no puede ser negativo. | DA41: 5.5 | DB41: CSp,n
A42: Remociones Acumuladas Verificadas de Años Anteriores, Neto de Reversiones | D42: =SUM($C41:C41)-SUM($D39:D39) -> 294484 | E42: =SUM($C41:D41)-SUM($D39:E39) -> -8064223 | F42: =SUM($C41:E41)-SUM($D39:F39) -> -8064223 | G42: =SUM($C41:F41)-SUM($D39:G39) -> -8064223 | H42: =SUM($C41:G41)-SUM($D39:H39) -> -8064223 | I42: =SUM($C41:H41)-SUM($D39:I39) -> -8064223 | J42: =SUM($C41:I41)-SUM($D39:J39) -> -8064223 | K42: =SUM($C41:J41)-SUM($D39:K39) -> -8064223 | ... CX42: =SUM($C41:CW41)-SUM($D39:CX39) -> -8064223 | CZ42: Reducciones netas de CO2 verificadas durante el Periodo de Reporte. Este número no puede ser negativo.
A43: Año Calendario de la fecha de inicio del Periodo de Reporte | C43: =IF(C9<>"",YEAR(C9),"") -> 2021 | D43: =IF(D9<>"",YEAR(D9),"") -> 2022 | E43: =IF(E9<>"",YEAR(E9),"") -> 2023 | F43: =IF(F9<>"",YEAR(F9),"") -> 2024 | G43: =IF(G9<>"",YEAR(G9),"") -> 2025 | H43: =IF(H9<>"",YEAR(H9),"") -> 2026 | I43: =IF(I9<>"",YEAR(I9),"") -> 2027 | J43: =IF(J9<>"",YEAR(J9),"") -> 2028 | ... CX43: =IF(CX9<>"",YEAR(CX9),"") -> 2120
A44: Periodo de Compromiso - Nuevo o Extendido | B44: 30 | C44: 100 | D44: 100 | CZ44: El periodo de compromiso establecido por el dueño forestal. | DA44: 5.5 | DB44: CL
A45: Periodo de Compromiso - Restante | C45: =C44 -> 100 | D45: =IF(AND(D44>=C44,D44>0),D44,IF(AND(D44<C44,D44>0),C45-1,IF(AND(D44=0,C45>0),C45-1,0))) -> 100 | E45: =IF(AND(E44>=D44,E44>0),E44,IF(AND(E44<D44,E44>0),D45-1,IF(AND(E44=0,D45>0),D45-1,0))) -> 99 | F45: =IF(AND(F44>=E44,F44>0),F44,IF(AND(F44<E44,F44>0),E45-1,IF(AND(F44=0,E45>0),E45-1,0))) -> 98 | G45: =IF(AND(G44>=F44,G44>0),G44,IF(AND(G44<F44,G44>0),F45-1,IF(AND(G44=0,F45>0),F45-1,0))) -> 97 | H45: =IF(AND(H44>=G44,H44>0),H44,IF(AND(H44<G44,H44>0),G45-1,IF(AND(H44=0,G45>0),G45-1,0))) -> 96 | I45: =IF(AND(I44>=H44,I44>0),I44,IF(AND(I44<H44,I44>0),H45-1,IF(AND(I44=0,H45>0),H45-1,0))) -> 95 | J45: =IF(AND(J44>=I44,J44>0),J44,IF(AND(J44<I44,J44>0),I45-1,IF(AND(J44=0,I45>0),I45-1,0))) -> 94 | K45: =IF(AND(K44>=J44,K44>0),K44,IF(AND(K44<J44,K44>0),J45-1,IF(AND(K44=0,J45>0),J45-1,0))) -> 93 | ... CX45: =IF(AND(CX44>=CW44,CX44>0),CX44,IF(AND(CX44<CW44,CX44>0),CW45-1,IF(AND(CX44=0,CW45>0),CW45-1,0))) -> 2 | CZ45: El período de tiempo más largo restante en el compromiso establecido o extendido.
A46: Créditos Emitidos al Dueño del Proyecto (antes de la contribución al Fondo de Aseguramiento)
A47: Créditos Emitidos al Titular de la Cuenta del Año Corriente | C47: =(IF(C44<100,C41*(C45+1)*0.01,IF(C44=100,C41*(C45)*0.01,0))) -> 294484 | D47: =(IF(D44<100,D41*(D45+1)*0.01,IF(D44=100,D41*(D45)*0.01,0))) -> 404162 | E47: =(IF(E44<100,E41*(E45+1)*0.01,IF(E44=100,E41*(E45)*0.01,0))) -> 0 | F47: =(IF(F44<100,F41*(F45+1)*0.01,IF(F44=100,F41*(F45)*0.01,0))) -> 0 | G47: =ROUNDDOWN(IF(G44<100,G41*(G45+1)*0.01,IF(G44=100,G41*(G45)*0.01,0)),0) -> 0 | H47: =ROUNDDOWN(IF(H44<100,H41*(H45+1)*0.01,IF(H44=100,H41*(H45)*0.01,0)),0) -> 0 | I47: =ROUNDDOWN(IF(I44<100,I41*(I45+1)*0.01,IF(I44=100,I41*(I45)*0.01,0)),0) -> 0 | J47: =ROUNDDOWN(IF(J44<100,J41*(J45+1)*0.01,IF(J44=100,J41*(J45)*0.01,0)),0) -> 0 | K47: =ROUNDDOWN(IF(K44<100,K41*(K45+1)*0.01,IF(K44=100,K41*(K45)*0.01,0)),0) -> 0 | L47: =ROUNDDOWN(IF(L44<100,L41*(L45+1)*0.01,IF(L44=100,L41*(L45)*0.01,0)),0) -> 0 | M47: =ROUNDDOWN(IF(M44<100,M41*(M45+1)*0.01,IF(M44=100,M41*(M45)*0.01,0)),0) -> 0 | N47: =ROUNDDOWN(IF(N44<100,N41*(N45+1)*0.01,IF(N44=100,N41*(N45)*0.01,0)),0) -> 0 | ... CX47: =ROUNDDOWN(IF(CX44<100,CX41*(CX45+1)*0.01,IF(CX44=100,CX41*(CX45)*0.01,0)),0) -> 0 | CZ47: Créditos netos de CO2 emitidos al proyecto por CO2 adicional capturado durante el periodo de reporte. Este número no puede ser negativo.
A48: Remociones Verificables no Emitidos al Titular de la Cuenta para el Periodo de Reporte Actual | C48: =C41-C47 -> 0 | D48: =D41-D47 -> 0 | E48: =E41-E47 -> 0 | F48: =F41-F47 -> 0 | G48: =G41-G47 -> 0 | H48: =H41-H47 -> 0 | I48: =I41-I47 -> 0 | J48: =J41-J47 -> 0 | ... CX48: =CX41-CX47 -> 0
A49: Remociones Verificables no Emitidos al Titular de la Cuenta | D49: =C48+D48-D50 -> 0 | E49: =D49+E48-E50 -> 0 | F49: =E49+F48-F50 -> 0 | G49: =F49+G48-G50 -> 0 | H49: =G49+H48-H50 -> 0 | I49: =H49+I48-I50 -> 0 | J49: =I49+J48-J50 -> 0 | K49: =J49+K48-K50 -> 0 | L49: =K49+L48-L50 -> 0 | ... CX49: =CW49+CX48-CX50 -> 0
A50: Créditos Adicionales emitidos de años anteriores debido al período contractual de largo plazo o al mantenimiento continuo después de que el período contractual haya finalizado | D50: =SUM(Sheet2!C22:C121)-D47 -> 0 | E50: =SUM(Sheet2!D22:D121)-E47 -> 0 | F50: =SUM(Sheet2!E22:E121)-F47 -> 0 | G50: =SUM(Sheet2!F22:F121)-G47 -> 0 | H50: =SUM(Sheet2!G22:G121)-H47 -> 0 | I50: =SUM(Sheet2!H22:H121)-I47 -> 0 | J50: =SUM(Sheet2!I22:I121)-J47 -> 0 | K50: =SUM(Sheet2!J22:J121)-K47 -> 0 | ... CX50: =SUM(Sheet2!CW22:CW121)-CX47 -> 0 | CZ50: Créditos adicionales de CO2 emitidos al proyecto de CO2 capturado durante el periodo de reporte anterior que no se emitieron en el periodo de reporte debido a la estenxión de un periodo de compromiso menor a 100 años.
A51: Créditos Totales Emitidos al Titular de la Cuenta en el Año Corriente | C51: =ROUNDDOWN(C47+C50,0) -> 294484 | D51: =IF(D41>=C41,D47+D50,0) -> 404162 | E51: =E47+E50 -> 0 | F51: =F47+F50 -> 0 | G51: =G47+G50 -> 0 | H51: =H47+H50 -> 0 | I51: =I47+I50 -> 0 | J51: =J47+J50 -> 0 | K51: =K47+K50 -> 0 | L51: =L47+L50 -> 0 | ... CX51: =CX47+CX50 -> 0 | CZ51: Créditos totales de CO2 emitidos durante el proyecto durante el periodo de reporte actual. Este número no puede ser negativo. | DA51: 5.5 | DB51: CRTp
A52: Créditos Reversibles Emitidos en el Año Corriente | C52: =Sheet2!B22-(Sheet2!B21*Sheet2!B2) -> 291539.16 | D52: =D47-(D41*0.01) -> 400120.38 | E52: =E47-(E41*0.01) -> 0 | F52: =F47-(F41*0.01) -> 0 | G52: =IF(G44=100,G51,G51-G41*0.01) -> 0 | H52: =IF(H44=100,H51,H51-H41*0.01) -> 0 | I52: =IF(I44=100,I51,I51-I41*0.01) -> 0 | J52: =IF(J44=100,J51,J51-J41*0.01) -> 0 | K52: =IF(K44=100,K51,K51-K41*0.01) -> 0 | L52: =IF(L44=100,L51,L51-L41*0.01) -> 0 | M52: =IF(M44=100,M51,M51-M41*0.01) -> 0 | N52: =IF(N44=100,N51,N51-N41*0.01) -> 0 | ... CX52: =IF(CX44=100,CX51,CX51-CX41*0.01) -> 0 | CZ52: Créditos anuales garantizados por un compromiso, que se podrían ser afectados por cualquier reversión
A53: Créditos Acumulados Brutos | C53: =B53+C51 -> 294484 | D53: =C53+D51 -> 698646 | E53: =D53+E51 -> 698646 | F53: =E53+F51 -> 698646 | G53: =F53+G51 -> 698646 | H53: =G53+H51 -> 698646 | I53: =H53+I51 -> 698646 | J53: =I53+J51 -> 698646 | ... CX53: =CW53+CX51 -> 698646 | CZ53: Créditos netos de CO2 emitidos para el proyecto. Este número no puede ser negativo
A54: Créditos Acumulados Reversibles | C54: =SUM($C$52:C52) -> 291539.16 | D54: =SUM($C$52:D52) -> 691659.54 | E54: =SUM($C$52:E52) -> 691659.54 | F54: =SUM($C$52:F52) -> 691659.54 | G54: =SUM($C$52:G52) -> 691659.54 | H54: =SUM($C$52:H52) -> 691659.54 | I54: =SUM($C$52:I52) -> 691659.54 | J54: =SUM($C$52:J52) -> 691659.54 | ... CX54: =SUM($C$52:CX52) -> 691659.54 | CZ54: Créditos acumulados garantizados por un compromiso, que podrían verse afectados por cualquier reversión
A55: Compensación por Reversiones | C55: =IF(C13<B12,C22*C45*0.01,0) -> 0 | D55: =IF(D13<C13,(D13-C13)*D45*0.01,0) -> 0 | E55: =IF(E13<D13,(E13-D13)*E45*0.01,0) -> -8675240.3 | F55: =IF(F13<E13,(F13-E13)*F45*0.01,0) -> 0 | G55: =IF(G13<F13,(G13-F13)*G45*0.01,0) -> 0 | H55: =IF(H13<G13,(H13-G13)*H45*0.01,0) -> 0 | I55: =IF(I13<H13,(I13-H13)*I45*0.01,0) -> 0 | J55: =IF(J13<I13,(J13-I13)*J45*0.01,0) -> 0 | K55: =IF(K13<J13,(K13-J13)*K45*0.01,0) -> 0 | ... CX55: =IF(CX13<CW13,(CX13-CW13)*CX45*0.01,0) -> 0 | CZ55: Número de créditos requeridos para la compensación de una reversión
A56: Remociones Verificados no Emitidos como Créditos
A57: Remociones Verificadas anuales de CO2 no emitidas como créditos en el mismo periodo de reporte | C57: =C41-C47 -> 0 | D57: =D41-D47 -> 0 | E57: =E41-E47 -> 0 | F57: =F41-F47 -> 0 | G57: =G41-G47 -> 0 | H57: =H41-H47 -> 0 | I57: =I41-I47 -> 0 | J57: =J41-J47 -> 0 | ... CX57: =CX41-CX47 -> 0 | CZ57: Las remociones anuales de GEI cuantificadas que han sido verificadas a través de una verificación en sitio o de escritorio pero que no han sido aseguradas se conocen como Remociones Verificadas (RVs) y no se emiten como CRTs hasta que hayan sido aseguradas a través de un compromiso o a través del tiempo | DA57: 5.5
A58: Remociones Verificadas totales de CO2 no emitidas como créditos hasta la fecha | C58: =C57 -> 0 | D58: =(D57+C58)-D50 -> 0 | E58: =(E57+D58)-E50 -> 0 | F58: =(F57+E58)-F50 -> 0 | G58: =(G57+F58)-G50 -> 0 | H58: =(H57+G58)-H50 -> 0 | I58: =(I57+H58)-I50 -> 0 | J58: =(J57+I58)-J50 -> 0 | K58: =(K57+J58)-K50 -> 0 | ... CX58: =(CX57+CW58)-CX50 -> 0 | CZ58: Las remociones totales de GEI cuantificadas que han sido verificadas a través de una verificación en sitio o de escritorio pero que no han sido aseguradas o emitidos como créditos
A59: Créditos Emitidos al Dueño Forestal (Después de la contribución al Fondo de Aseguramiento)
A60: Tasa de Contribución al Fondo de Aseguramiento | B60: 30 | C60: 0.2939 | D60: 0.2939 | CZ60: Tasa de contribución al Fondo de Aseguramiento | DA60: G.1; G.2 | DB60: %
A61: Contribución de Créditos del Proyecto al Fondo de Aseguramiento | C61: =ROUNDDOWN(IF(C51>0,C60*C52,0),0) -> 85683 | D61: =ROUNDDOWN(IF(D51>0,D60*D52,0),0) -> 117595 | E61: =ROUNDDOWN(IF(E51>0,E60*E52,0),0) -> 0 | F61: =ROUNDDOWN(IF(F51>0,F60*F52,0),0) -> 0 | G61: =ROUNDDOWN(IF(G51>0,G60*G52,0),0) -> 0 | H61: =ROUNDDOWN(IF(H51>0,H60*H52,0),0) -> 0 | I61: =ROUNDDOWN(IF(I51>0,I60*I52,0),0) -> 0 | J61: =ROUNDDOWN(IF(J51>0,J60*J52,0),0) -> 0 | ... CX61: =ROUNDDOWN(IF(CX51>0,CX60*CX52,0),0) -> 0 | CZ61: Contribución de Créditos del Proyecto al Fondo de Aseguramiento - total para el Periodo de Reporte, incluyendo para créditos nuevos emitidos del Periodo de Reportes anteriores | DA61: 6.2
A62: Dividendos del Fondo de Aseguramiento | C62: 0 | D62: 0 | E62: 0 | F62: 0 | G62: 0 | H62: =SUM('FA Dividendos'!$B$20:G20)-SUM('FA Dividendos'!G21:G120) -> 11020.73 | I62: 0 | J62: 0 | K62: 0 | L62: 0 | M62: 0 | N62: =SUM('FA Dividendos'!$B$20:M20)-SUM('FA Dividendos'!M21:M120) -> 23217.41 | O62: 0 | P62: 0 | Q62: 0 | R62: 0 | S62: 0 | T62: =SUM('FA Dividendos'!$B$20:S20)-SUM('FA Dividendos'!S21:S120) -> 35414.09 | U62: 0 | V62: 0 | W62: 0 | X62: 0 | Y62: 0 | Z62: =SUM('FA Dividendos'!$B$20:Y20)-SUM('FA Dividendos'!Y21:Y120) -> 47610.77 | AA62: 0 | AB62: 0 | AC62: 0 | AD62: 0 | AE62: 0 | AF62: =SUM('FA Dividendos'!$B$20:AE20)-SUM('FA Dividendos'!AE21:AE120) -> 59807.45 | AG62: 0 | AH62: 0 | AI62: 0 | AJ62: 0 | AK62: 0 | AL62: =SUM('FA Dividendos'!$B$20:AK20)-SUM('FA Dividendos'!AK21:AK120) -> 72004.13 | AM62: 0 | AN62: 0 | AO62: 0 | AP62: 0 | AQ62: 0 | AR62: =SUM('FA Dividendos'!$B$20:AQ20)-SUM('FA Dividendos'!AQ21:AQ120) -> 84200.81 | AS62: 0 | AT62: 0 | AU62: 0 | AV62: 0 | AW62: 0 | AX62: =SUM('FA Dividendos'!$B$20:AW20)-SUM('FA Dividendos'!AW21:AW120) -> 96397.49 | AY62: 0 | AZ62: 0 | BA62: 0 | BB62: 0 | BC62: 0 | BD62: =SUM('FA Dividendos'!$B$20:BC20)-SUM('FA Dividendos'!BC21:BC120) -> 108594.17 | BE62: 0 | BF62: 0 | BG62: 0 | BH62: 0 | BI62: 0 | BJ62: =SUM('FA Dividendos'!$B$20:BI20)-SUM('FA Dividendos'!BI21:BI120) -> 120790.85 | BK62: 0 | BL62: 0 | BM62: 0 | BN62: 0 | BO62: 0 | BP62: =SUM('FA Dividendos'!$B$20:BO20)-SUM('FA Dividendos'!BO21:BO120) -> 132987.53 | BQ62: 0 | BR62: 0 | BS62: 0 | BT62: 0 | BU62: 0 | BV62: =SUM('FA Dividendos'!$B$20:BU20)-SUM('FA Dividendos'!BU21:BU120) -> 145184.21 | BW62: 0 | BX62: 0 | BY62: 0 | BZ62: 0 | CA62: 0 | CB62: =SUM('FA Dividendos'!$B$20:CA20)-SUM('FA Dividendos'!CA21:CA120) -> 157380.89 | CC62: 0 | CD62: 0 | CE62: 0 | CF62: 0 | CG62: 0 | CH62: =SUM('FA Dividendos'!$B$20:CG20)-SUM('FA Dividendos'!CG21:CG120) -> 169577.57 | CI62: 0 | CJ62: 0 | CK62: 0 | CL62: 0 | CM62: 0 | CN62: =SUM('FA Dividendos'!$B$20:CM20)-SUM('FA Dividendos'!CM21:CM120) -> 181774.25 | CO62: 0 | CP62: 0 | CQ62: 0 | CR62: 0 | CS62: 0 | CT62: =SUM('FA Dividendos'!$B$20:CS20)-SUM('FA Dividendos'!CS21:CS120) -> 193970.93 | CU62: 0 | CV62: 0 | CW62: 0 | CX62: 0
A63: Créditos Netos Emitidos al Dueño Forestal | C63: =ROUNDDOWN(C51-C61+C62,0) -> 208801 | D63: =ROUNDDOWN(D51-D61+D62,0) -> 286567 | E63: =ROUNDDOWN(E51-E61+E62,0) -> 0 | F63: =ROUNDDOWN(F51-F61+F62,0) -> 0 | G63: =ROUNDDOWN(G51-G61+G62,0) -> 0 | H63: =ROUNDDOWN(H51-H61+H62,0) -> 11020 | I63: =ROUNDDOWN(I51-I61+I62,0) -> 0 | J63: =ROUNDDOWN(J51-J61+J62,0) -> 0 | ... CX63: =ROUNDDOWN(CX51-CX61+CX62,0) -> 0 | CZ63: Se calcula automáticamente créditos emitidos anualmente al dueño forestal netos de la contribución al Fondo de Aseguramiento (toneladas CO2e)
A64: Créditos Acumulados Brutos | C64: =C63 -> 208801 | D64: =C64+D63 -> 495368 | E64: =D64+E63 -> 495368 | F64: =E64+F63 -> 495368 | G64: =F64+G63 -> 495368 | H64: =G64+H63 -> 506388 | I64: =H64+I63 -> 506388 | J64: =I64+J63 -> 506388 | K64: =J64+K63 -> 506388 | ... CX64: =CW64+CX63 -> 2135293 | CZ64: Se calcula automáticamente créditos emitidos acumulados al dueño forestal netos de la contribución al Fondo de Aseguramiento (toneladas CO2e)
A65: Reporte por Vintage
A66: Vintage 1 | C66: =YEAR(C9) -> 2021 | D66: =YEAR(D9) -> 2022 | E66: =YEAR(E9) -> 2023 | F66: =YEAR(F9) -> 2024 | G66: =YEAR(G9) -> 2025 | H66: =YEAR(H9) -> 2026 | I66: =YEAR(I9) -> 2027 | J66: =YEAR(J9) -> 2028 | ... CY66: =YEAR(CY9) -> 1900 | CZ66: El año de establecimiento o vintages se asignan a los CRTs según la cantidad proporcional de CRTs dentro de cada año calendario dentro de un Período de Reporte. | DA66: Tabla 7.2
A67: Créditos Netos Emitidos al Dueño Forestal | C67: =ROUNDDOWN(IF(YEAR(C9)=YEAR(C10),C63,(DATEDIF(DATE(YEAR(C9),MONTH(C9),DAY(C9)),DATE(YEAR(C9),12,31),"D")/DATEDIF(C9,C10,"D"))*C63),0) -> 6883 | D67: =ROUNDDOWN((DATEDIF(DATE(YEAR(D9),MONTH(D9),DAY(D9)),DATE(YEAR(D9),12,31),"D")/DATEDIF(D9,D10,"D"))*D63,0) -> 9447 | E67: =ROUNDDOWN((DATEDIF(DATE(YEAR(E9),MONTH(E9),DAY(E9)),DATE(YEAR(E9),12,31),"D")/DATEDIF(E9,E10,"D"))*E63,0) -> 0 | F67: =ROUNDDOWN((DATEDIF(DATE(YEAR(F9),MONTH(F9),DAY(F9)),DATE(YEAR(F9),12,31),"D")/DATEDIF(F9,F10,"D"))*F63,0) -> 0 | G67: =ROUNDDOWN((DATEDIF(DATE(YEAR(G9),MONTH(G9),DAY(G9)),DATE(YEAR(G9),12,31),"D")/DATEDIF(G9,G10,"D"))*G63,0) -> 0 | H67: =ROUNDDOWN((DATEDIF(DATE(YEAR(H9),MONTH(H9),DAY(H9)),DATE(YEAR(H9),12,31),"D")/DATEDIF(H9,H10,"D"))*H63,0) -> 363 | I67: =ROUNDDOWN((DATEDIF(DATE(YEAR(I9),MONTH(I9),DAY(I9)),DATE(YEAR(I9),12,31),"D")/DATEDIF(I9,I10,"D"))*I63,0) -> 0 | J67: =ROUNDDOWN((DATEDIF(DATE(YEAR(J9),MONTH(J9),DAY(J9)),DATE(YEAR(J9),12,31),"D")/DATEDIF(J9,J10,"D"))*J63,0) -> 0 | K67: =ROUNDDOWN((DATEDIF(DATE(YEAR(K9),MONTH(K9),DAY(K9)),DATE(YEAR(K9),12,31),"D")/DATEDIF(K9,K10,"D"))*K63,0) -> 0 | ... CY67: =ROUNDDOWN((DATEDIF(DATE(YEAR(CY9),MONTH(CY9),DAY(CY9)),DATE(YEAR(CY9),12,31),"D")/DATEDIF(CY9,CY10,"D"))*CY63,0) -> #DIV/0!
A68: Contribución de Créditos de Proyecto al Fondo de Aseguramiento | C68: =ROUNDDOWN(IF(YEAR(C9)=YEAR(C10),C61,(DATEDIF(DATE(YEAR(C9),MONTH(C9),DAY(C9)),DATE(YEAR(C9),12,31),"D")/DATEDIF(C9,C10,"D"))*C61),0) -> 2824 | D68: =ROUNDDOWN((DATEDIF(DATE(YEAR(D9),MONTH(D9),DAY(D9)),DATE(YEAR(D9),12,31),"D")/DATEDIF(D9,D10,"D"))*D61,0) -> 3876 | E68: =ROUNDDOWN((DATEDIF(DATE(YEAR(E9),MONTH(E9),DAY(E9)),DATE(YEAR(E9),12,31),"D")/DATEDIF(E9,E10,"D"))*E61,0) -> 0 | F68: =ROUNDDOWN((DATEDIF(DATE(YEAR(F9),MONTH(F9),DAY(F9)),DATE(YEAR(F9),12,31),"D")/DATEDIF(F9,F10,"D"))*F61,0) -> 0 | G68: =ROUNDDOWN((DATEDIF(DATE(YEAR(G9),MONTH(G9),DAY(G9)),DATE(YEAR(G9),12,31),"D")/DATEDIF(G9,G10,"D"))*G61,0) -> 0 | H68: =ROUNDDOWN((DATEDIF(DATE(YEAR(H9),MONTH(H9),DAY(H9)),DATE(YEAR(H9),12,31),"D")/DATEDIF(H9,H10,"D"))*H61,0) -> 0 | I68: =ROUNDDOWN((DATEDIF(DATE(YEAR(I9),MONTH(I9),DAY(I9)),DATE(YEAR(I9),12,31),"D")/DATEDIF(I9,I10,"D"))*I61,0) -> 0 | J68: =ROUNDDOWN((DATEDIF(DATE(YEAR(J9),MONTH(J9),DAY(J9)),DATE(YEAR(J9),12,31),"D")/DATEDIF(J9,J10,"D"))*J61,0) -> 0 | K68: =ROUNDDOWN((DATEDIF(DATE(YEAR(K9),MONTH(K9),DAY(K9)),DATE(YEAR(K9),12,31),"D")/DATEDIF(K9,K10,"D"))*K61,0) -> 0 | ... CY68: =ROUNDDOWN((DATEDIF(DATE(YEAR(CY9),MONTH(CY9),DAY(CY9)),DATE(YEAR(CY9),12,31),"D")/DATEDIF(CY9,CY10,"D"))*CY61,0) -> #DIV/0!
A69: Vintage 2 | C69: =IF(DATEDIF(C9,C10,"d")>INT(DATEDIF(DATE(YEAR(C9),MONTH(C9),DAY(C9)),DATE(YEAR(C9),12,31),"D")),C66+1,"NA") -> 2022 | D69: =IF(DATEDIF(D9,D10,"d")>INT(DATEDIF(DATE(YEAR(D9),MONTH(D9),DAY(D9)),DATE(YEAR(D9),12,31),"D")),D66+1,"NA") -> 2023 | E69: =IF(DATEDIF(E9,E10,"d")>INT(DATEDIF(DATE(YEAR(E9),MONTH(E9),DAY(E9)),DATE(YEAR(E9),12,31),"D")),E66+1,"NA") -> 2024 | F69: =IF(DATEDIF(F9,F10,"d")>INT(DATEDIF(DATE(YEAR(F9),MONTH(F9),DAY(F9)),DATE(YEAR(F9),12,31),"D")),F66+1,"NA") -> 2025 | G69: =IF(DATEDIF(G9,G10,"d")>INT(DATEDIF(DATE(YEAR(G9),MONTH(G9),DAY(G9)),DATE(YEAR(G9),12,31),"D")),G66+1,"NA") -> 2026 | H69: =IF(DATEDIF(H9,H10,"d")>INT(DATEDIF(DATE(YEAR(H9),MONTH(H9),DAY(H9)),DATE(YEAR(H9),12,31),"D")),H66+1,"NA") -> 2027 | I69: =IF(DATEDIF(I9,I10,"d")>INT(DATEDIF(DATE(YEAR(I9),MONTH(I9),DAY(I9)),DATE(YEAR(I9),12,31),"D")),I66+1,"NA") -> 2028 | J69: =IF(DATEDIF(J9,J10,"d")>INT(DATEDIF(DATE(YEAR(J9),MONTH(J9),DAY(J9)),DATE(YEAR(J9),12,31),"D")),J66+1,"NA") -> 2029 | ... CY69: =IF(DATEDIF(CY9,CY10,"d")>INT(DATEDIF(DATE(YEAR(CY9),MONTH(CY9),DAY(CY9)),DATE(YEAR(CY9),12,31),"D")),CY66+1,"NA") -> NA
A70: Créditos Netos Emitidos al Dueño Forestal | C70: =ROUNDDOWN((IF(C69<>"NA",MIN(YEARFRAC(C9,C10,3)*365-INT(DATEDIF(DATE(YEAR(C9),MONTH(C9),DAY(C9)),DATE(YEAR(C9),12,31),"D")),365)/(YEARFRAC(C9,C10,3)*365),0))*C63,0) -> 201917 | D70: =ROUNDDOWN((IF(D69<>"NA",MIN(YEARFRAC(D9,D10,3)*365-INT(DATEDIF(DATE(YEAR(D9),MONTH(D9),DAY(D9)),DATE(YEAR(D9),12,31),"D")),365)/(YEARFRAC(D9,D10,3)*365),0))*D63,0) -> 277119 | E70: =ROUNDDOWN((IF(E69<>"NA",MIN(YEARFRAC(E9,E10,3)*365-INT(DATEDIF(DATE(YEAR(E9),MONTH(E9),DAY(E9)),DATE(YEAR(E9),12,31),"D")),365)/(YEARFRAC(E9,E10,3)*365),0))*E63,0) -> 0 | F70: =ROUNDDOWN((IF(F69<>"NA",MIN(YEARFRAC(F9,F10,3)*365-INT(DATEDIF(DATE(YEAR(F9),MONTH(F9),DAY(F9)),DATE(YEAR(F9),12,31),"D")),365)/(YEARFRAC(F9,F10,3)*365),0))*F63,0) -> 0 | G70: =ROUNDDOWN((IF(G69<>"NA",MIN(YEARFRAC(G9,G10,3)*365-INT(DATEDIF(DATE(YEAR(G9),MONTH(G9),DAY(G9)),DATE(YEAR(G9),12,31),"D")),365)/(YEARFRAC(G9,G10,3)*365),0))*G63,0) -> 0 | H70: =ROUNDDOWN((IF(H69<>"NA",MIN(YEARFRAC(H9,H10,3)*365-INT(DATEDIF(DATE(YEAR(H9),MONTH(H9),DAY(H9)),DATE(YEAR(H9),12,31),"D")),365)/(YEARFRAC(H9,H10,3)*365),0))*H63,0) -> 10656 | I70: =ROUNDDOWN((IF(I69<>"NA",MIN(YEARFRAC(I9,I10,3)*365-INT(DATEDIF(DATE(YEAR(I9),MONTH(I9),DAY(I9)),DATE(YEAR(I9),12,31),"D")),365)/(YEARFRAC(I9,I10,3)*365),0))*I63,0) -> 0 | J70: =ROUNDDOWN((IF(J69<>"NA",MIN(YEARFRAC(J9,J10,3)*365-INT(DATEDIF(DATE(YEAR(J9),MONTH(J9),DAY(J9)),DATE(YEAR(J9),12,31),"D")),365)/(YEARFRAC(J9,J10,3)*365),0))*J63,0) -> 0 | ... CY70: =ROUNDDOWN((IF(CY69<>"NA",MIN(YEARFRAC(CY9,CY10,3)*365-INT(DATEDIF(DATE(YEAR(CY9),MONTH(CY9),DAY(CY9)),DATE(YEAR(CY9),12,31),"D")),365)/(YEARFRAC(CY9,CY10,3)*365),0))*CY63,0) -> 0
A71: Contribución de Créditos de Proyecto al Fondo de Aseguramiento | C71: =ROUNDDOWN((IF(C69<>"NA",MIN(YEARFRAC(C9,C10,3)*365-INT(DATEDIF(DATE(YEAR(C9),MONTH(C9),DAY(C9)),DATE(YEAR(C9),12,31),"D")),365)/(YEARFRAC(C9,C10,3)*365),0))*C61,0) -> 82858 | D71: =ROUNDDOWN((IF(D69<>"NA",MIN(YEARFRAC(D9,D10,3)*365-INT(DATEDIF(DATE(YEAR(D9),MONTH(D9),DAY(D9)),DATE(YEAR(D9),12,31),"D")),365)/(YEARFRAC(D9,D10,3)*365),0))*D61,0) -> 113718 | E71: =ROUNDDOWN((IF(E69<>"NA",MIN(YEARFRAC(E9,E10,3)*365-INT(DATEDIF(DATE(YEAR(E9),MONTH(E9),DAY(E9)),DATE(YEAR(E9),12,31),"D")),365)/(YEARFRAC(E9,E10,3)*365),0))*E61,0) -> 0 | F71: =ROUNDDOWN((IF(F69<>"NA",MIN(YEARFRAC(F9,F10,3)*365-INT(DATEDIF(DATE(YEAR(F9),MONTH(F9),DAY(F9)),DATE(YEAR(F9),12,31),"D")),365)/(YEARFRAC(F9,F10,3)*365),0))*F61,0) -> 0 | G71: =ROUNDDOWN((IF(G69<>"NA",MIN(YEARFRAC(G9,G10,3)*365-INT(DATEDIF(DATE(YEAR(G9),MONTH(G9),DAY(G9)),DATE(YEAR(G9),12,31),"D")),365)/(YEARFRAC(G9,G10,3)*365),0))*G61,0) -> 0 | H71: =ROUNDDOWN((IF(H69<>"NA",MIN(YEARFRAC(H9,H10,3)*365-INT(DATEDIF(DATE(YEAR(H9),MONTH(H9),DAY(H9)),DATE(YEAR(H9),12,31),"D")),365)/(YEARFRAC(H9,H10,3)*365),0))*H61,0) -> 0 | I71: =ROUNDDOWN((IF(I69<>"NA",MIN(YEARFRAC(I9,I10,3)*365-INT(DATEDIF(DATE(YEAR(I9),MONTH(I9),DAY(I9)),DATE(YEAR(I9),12,31),"D")),365)/(YEARFRAC(I9,I10,3)*365),0))*I61,0) -> 0 | J71: =ROUNDDOWN((IF(J69<>"NA",MIN(YEARFRAC(J9,J10,3)*365-INT(DATEDIF(DATE(YEAR(J9),MONTH(J9),DAY(J9)),DATE(YEAR(J9),12,31),"D")),365)/(YEARFRAC(J9,J10,3)*365),0))*J61,0) -> 0 | ... CY71: =ROUNDDOWN((IF(CY69<>"NA",MIN(YEARFRAC(CY9,CY10,3)*365-INT(DATEDIF(DATE(YEAR(CY9),MONTH(CY9),DAY(CY9)),DATE(YEAR(CY9),12,31),"D")),365)/(YEARFRAC(CY9,CY10,3)*365),0))*CY61,0) -> 0

Sheet TSE
A1: Areas de Actividad | B1: TSE
A2: 1 | B2: 0.05
A3: 2 | B3: 0.07
A4: 3 | B4: 0.08
A5: 4 | B5: 0.09
A6: 5 | B6: 0.1
A7: 6 | B7: 0.114
A8: 7 | B8: 0.1232
A9: 8 | B9: 0.134
A10: 9 | B10: 0.14
A11: 10 | B11: 0.15
A12: 11 | B12: 0.16
A13: 12 | B13: 0.17
... A15: 14 | B15: 0.19
A16: =15 -> 15 | B16: 0.2
A17: >15 | B17: 0.2

Sheet Sheet2
B1: TYV
B2: 0.01
A18: Periodo de Compromiso - Nuevo o Extendido | B18: ='Hoja De Calculo'!C44 -> 100 | C18: ='Hoja De Calculo'!D44 -> 100 | D18: ='Hoja De Calculo'!E44 -> 0 | E18: ='Hoja De Calculo'!F44 -> 0 | F18: ='Hoja De Calculo'!G44 -> 0 | G18: ='Hoja De Calculo'!H44 -> 0 | H18: ='Hoja De Calculo'!I44 -> 0 | I18: ='Hoja De Calculo'!J44 -> 0 | ... CW18: ='Hoja De Calculo'!CX44 -> 0
A19: Periodo de Compromiso - Restante | B19: ='Hoja De Calculo'!C45 -> 100 | C19: ='Hoja De Calculo'!D45 -> 100 | D19: ='Hoja De Calculo'!E45 -> 99 | E19: ='Hoja De Calculo'!F45 -> 98 | F19: ='Hoja De Calculo'!G45 -> 97 | G19: ='Hoja De Calculo'!H45 -> 96 | H19: ='Hoja De Calculo'!I45 -> 95 | I19: ='Hoja De Calculo'!J45 -> 94 | ... CW19: ='Hoja De Calculo'!CX45 -> 2
A20: Reporting Period | B20: 1 | C20: 2 | D20: 3 | E20: 4 | F20: 5 | G20: 6 | H20: 7 | I20: 8 | J20: 9 | K20: 10 | L20: 11 | M20: 12 | N20: 13 | O20: 14 | P20: 15 | Q20: 16 | R20: 17 | S20: 18 | T20: 19 | U20: 20 | V20: 21 | W20: 22 | X20: 23 | Y20: 24 | Z20: 25 | AA20: 26 | AB20: 27 | AC20: 28 | AD20: 29 | AE20: 30 | AF20: 31 | AG20: 32 | AH20: 33 | AI20: 34 | AJ20: 35 | AK20: 36 | AL20: 37 | AM20: 38 | AN20: 39 | AO20: 40 | AP20: 41 | AQ20: 42 | AR20: 43 | AS20: 44 | AT20: 45 | AU20: 46 | AV20: 47 | AW20: 48 | AX20: 49 | AY20: 50 | AZ20: 51 | BA20: 52 | BB20: 53 | BC20: 54 | BD20: 55 | BE20: 56 | BF20: 57 | BG20: 58 | BH20: 59 | BI20: 60 | BJ20: 61 | BK20: 62 | BL20: 63 | BM20: 64 | BN20: 65 | BO20: 66 | BP20: 67 | BQ20: 68 | BR20: 69 | BS20: 70 | BT20: 71 | BU20: 72 | BV20: 73 | BW20: 74 | BX20: 75 | BY20: 76 | BZ20: 77 | CA20: 78 | CB20: 79 | CC20: 80 | CD20: 81 | CE20: 82 | CF20: 83 | CG20: 84 | CH20: 85 | CI20: 86 | CJ20: 87 | CK20: 88 | CL20: 89 | CM20: 90 | CN20: 91 | CO20: 92 | CP20: 93 | CQ20: 94 | CR20: 95 | CS20: 96 | CT20: 97 | CU20: 98 | CV20: 99 | CW20: 100
B21: ='Hoja De Calculo'!C41 -> 294484 | C21: ='Hoja De Calculo'!D41 -> 404162 | D21: ='Hoja De Calculo'!E41 -> 0 | E21: ='Hoja De Calculo'!F41 -> 0 | F21: ='Hoja De Calculo'!G41 -> 0 | G21: ='Hoja De Calculo'!H41 -> 0 | H21: ='Hoja De Calculo'!I41 -> 0 | I21: ='Hoja De Calculo'!J41 -> 0 | ... CW21: ='Hoja De Calculo'!CX41 -> 0
A22: RP 1 | B22: =IF(B18<100,$B$21*$B$2*(B18+1),$B$21*$B$2*(B18)) -> 294484 | C22: =IF('Hoja De Calculo'!D13>='Hoja De Calculo'!C13,IF(C18=100,($B$21*C18*$B$2)-SUM($B$22:B22),IF(C18>B19,((C18-B19+1)*$B$2*$B$21),IF(C18>=B19,$B$21*$B$2))),0) -> 0 | D22: =IF('Hoja De Calculo'!E13>='Hoja De Calculo'!D13,IF(D18=100,($B$21*D18*$B$2)-SUM($B$22:C22),IF(D18>C19,((D18-C19+1)*$B$2*$B$21),IF(D18>=C19,$B$21*$B$2))),0) -> 0 | E22: =IF('Hoja De Calculo'!F13>='Hoja De Calculo'!E13,IF(E18=100,($B$21*E18*$B$2)-SUM($B$22:D22),IF(E18>D19,((E18-D19+1)*$B$2*$B$21),IF(E18>=D19,$B$21*$B$2))),0) -> FALSE | F22: =IF('Hoja De Calculo'!G13>='Hoja De Calculo'!F13,IF(F18=100,($B$21*F18*$B$2)-SUM($B$22:E22),IF(F18>E19,((F18-E19+1)*$B$2*$B$21),IF(F18>=E19,$B$21*$B$2))),0) -> FALSE | G22: =IF('Hoja De Calculo'!H13>='Hoja De Calculo'!G13,IF(G18=100,($B$21*G18*$B$2)-SUM($B$22:F22),IF(G18>F19,((G18-F19+1)*$B$2*$B$21),IF(G18>=F19,$B$21*$B$2))),0) -> FALSE | H22: =IF('Hoja De Calculo'!I13>='Hoja De Calculo'!H13,IF(H18=100,($B$21*H18*$B$2)-SUM($B$22:G22),IF(H18>G19,((H18-G19+1)*$B$2*$B$21),IF(H18>=G19,$B$21*$B$2))),0) -> FALSE | I22: =IF('Hoja De Calculo'!J13>='Hoja De Calculo'!I13,IF(I18=100,($B$21*I18*$B$2)-SUM($B$22:H22),IF(I18>H19,((I18-H19+1)*$B$2*$B$21),IF(I18>=H19,$B$21*$B$2))),0) -> FALSE | J22: =IF('Hoja De Calculo'!K13>='Hoja De Calculo'!J13,IF(J18=100,($B$21*J18*$B$2)-SUM($B$22:I22),IF(J18>I19,((J18-I19+1)*$B$2*$B$21),IF(J18>=I19,$B$21*$B$2))),0) -> FALSE | ... CW22: =IF('Hoja De Calculo'!CX13>='Hoja De Calculo'!CW13,IF(CW18=100,($B$21*CW18*$B$2)-SUM($B$22:CV22),IF(CW18>CV19,((CW18-CV19+1)*$B$2*$B$21),IF(CW18>=CV19,$B$21*$B$2))),0) -> FALSE
A23: RP 2 | C23: =($C$21*$B$2*(C19+(IF(C19=100,0,1)))) -> 404162 | D23: =IF('Hoja De Calculo'!E13>='Hoja De Calculo'!D13,IF(D18=100,($C$21*D18*$B$2)-SUM($C$23:C23),IF(D18>C19,((D18-C19+1)*$B$2*$C$21),IF(D18>=C19,$C$21*$B$2))),0) -> 0 | E23: =IF('Hoja De Calculo'!F13>='Hoja De Calculo'!E13,IF(E18=100,($C$21*E18*$B$2)-SUM($C$23:D23),IF(E18>D19,((E18-D19+1)*$B$2*$C$21),IF(E18>=D19,$C$21*$B$2))),0) -> FALSE | F23: =IF('Hoja De Calculo'!G13>='Hoja De Calculo'!F13,IF(F18=100,($C$21*F18*$B$2)-SUM($C$23:E23),IF(F18>E19,((F18-E19+1)*$B$2*$C$21),IF(F18>=E19,$C$21*$B$2))),0) -> FALSE | G23: =IF('Hoja De Calculo'!H13>='Hoja De Calculo'!G13,IF(G18=100,($C$21*G18*$B$2)-SUM($C$23:F23),IF(G18>F19,((G18-F19+1)*$B$2*$C$21),IF(G18>=F19,$C$21*$B$2))),0) -> FALSE | H23: =IF('Hoja De Calculo'!I13>='Hoja De Calculo'!H13,IF(H18=100,($C$21*H18*$B$2)-SUM($C$23:G23),IF(H18>G19,((H18-G19+1)*$B$2*$C$21),IF(H18>=G19,$C$21*$B$2))),0) -> FALSE | I23: =IF('Hoja De Calculo'!J13>='Hoja De Calculo'!I13,IF(I18=100,($C$21*I18*$B$2)-SUM($C$23:H23),IF(I18>H19,((I18-H19+1)*$B$2*$C$21),IF(I18>=H19,$C$21*$B$2))),0) -> FALSE | J23: =IF('Hoja De Calculo'!K13>='Hoja De Calculo'!J13,IF(J18=100,($C$21*J18*$B$2)-SUM($C$23:I23),IF(J18>I19,((J18-I19+1)*$B$2*$C$21),IF(J18>=I19,$C$21*$B$2))),0) -> FALSE | K23: =IF('Hoja De Calculo'!L13>='Hoja De Calculo'!K13,IF(K18=100,($C$21*K18*$B$2)-SUM($C$23:J23),IF(K18>J19,((K18-J19+1)*$B$2*$C$21),IF(K18>=J19,$C$21*$B$2))),0) -> FALSE | ... CW23: =IF('Hoja De Calculo'!CX13>='Hoja De Calculo'!CW13,IF(CW18=100,($C$21*CW18*$B$2)-SUM($C$23:CV23),IF(CW18>CV19,((CW18-CV19+1)*$B$2*$C$21),IF(CW18>=CV19,$C$21*$B$2))),0) -> FALSE
A24: RP 3 | D24: =($D$21*$B$2*(D19+(IF(D19=100,0,1)))) -> 0 | E24: =IF('Hoja De Calculo'!F13>='Hoja De Calculo'!E13,IF(E18=100,($D$21*E18*$B$2)-SUM($D$24:D24),IF(E18>D19,((E18-D19+1)*$B$2*$D$21),IF(E18>=D19,$D$21*$B$2))),0) -> FALSE | F24: =IF('Hoja De Calculo'!G13>='Hoja De Calculo'!F13,IF(F18=100,($D$21*F18*$B$2)-SUM($D$24:E24),IF(F18>E19,((F18-E19+1)*$B$2*$D$21),IF(F18>=E19,$D$21*$B$2))),0) -> FALSE | G24: =IF('Hoja De Calculo'!H13>='Hoja De Calculo'!G13,IF(G18=100,($D$21*G18*$B$2)-SUM($D$24:F24),IF(G18>F19,((G18-F19+1)*$B$2*$D$21),IF(G18>=F19,$D$21*$B$2))),0) -> FALSE | H24: =IF('Hoja De Calculo'!I13>='Hoja De Calculo'!H13,IF(H18=100,($D$21*H18*$B$2)-SUM($D$24:G24),IF(H18>G19,((H18-G19+1)*$B$2*$D$21),IF(H18>=G19,$D$21*$B$2))),0) -> FALSE | I24: =IF('Hoja De Calculo'!J13>='Hoja De Calculo'!I13,IF(I18=100,($D$21*I18*$B$2)-SUM($D$24:H24),IF(I18>H19,((I18-H19+1)*$B$2*$D$21),IF(I18>=H19,$D$21*$B$2))),0) -> FALSE | J24: =IF('Hoja De Calculo'!K13>='Hoja De Calculo'!J13,IF(J18=100,($D$21*J18*$B$2)-SUM($D$24:I24),IF(J18>I19,((J18-I19+1)*$B$2*$D$21),IF(J18>=I19,$D$21*$B$2))),0) -> FALSE | K24: =IF('Hoja De Calculo'!L13>='Hoja De Calculo'!K13,IF(K18=100,($D$21*K18*$B$2)-SUM($D$24:J24),IF(K18>J19,((K18-J19+1)*$B$2*$D$21),IF(K18>=J19,$D$21*$B$2))),0) -> FALSE | L24: =IF('Hoja De Calculo'!M13>='Hoja De Calculo'!L13,IF(L18=100,($D$21*L18*$B$2)-SUM($D$24:K24),IF(L18>K19,((L18-K19+1)*$B$2*$D$21),IF(L18>=K19,$D$21*$B$2))),0) -> FALSE | ... CW24: =IF('Hoja De Calculo'!CX13>='Hoja De Calculo'!CW13,IF(CW18=100,($D$21*CW18*$B$2)-SUM($D$24:CV24),IF(CW18>CV19,((CW18-CV19+1)*$B$2*$D$21),IF(CW18>=CV19,$D$21*$B$2))),0) -> FALSE
A25: RP 4 | E25: =(E$21*$B$2*(E$19+(IF(E$19=100,0,1)))) -> 0 | F25: =IF('Hoja De Calculo'!G13>='Hoja De Calculo'!F13,IF(F18=100,($E$21*F18*$B$2)-SUM($E$25:E25),IF(F18>E19,((F18-E19+1)*$B$2*$E$21),IF(F18>=E19,$E$21*$B$2))),0) -> FALSE | G25: =IF('Hoja De Calculo'!H13>='Hoja De Calculo'!G13,IF(G18=100,($E$21*G18*$B$2)-SUM($E$25:F25),IF(G18>F19,((G18-F19+1)*$B$2*$E$21),IF(G18>=F19,$E$21*$B$2))),0) -> FALSE | H25: =IF('Hoja De Calculo'!I13>='Hoja De Calculo'!H13,IF(H18=100,($E$21*H18*$B$2)-SUM($E$25:G25),IF(H18>G19,((H18-G19+1)*$B$2*$E$21),IF(H18>=G19,$E$21*$B$2))),0) -> FALSE | I25: =IF('Hoja De Calculo'!J13>='Hoja De Calculo'!I13,IF(I18=100,($E$21*I18*$B$2)-SUM($E$25:H25),IF(I18>H19,((I18-H19+1)*$B$2*$E$21),IF(I18>=H19,$E$21*$B$2))),0) -> FALSE | J25: =IF('Hoja De Calculo'!K13>='Hoja De Calculo'!J13,IF(J18=100,($E$21*J18*$B$2)-SUM($E$25:I25),IF(J18>I19,((J18-I19+1)*$B$2*$E$21),IF(J18>=I19,$E$21*$B$2))),0) -> FALSE | K25: =IF('Hoja De Calculo'!L13>='Hoja De Calculo'!K13,IF(K18=100,($E$21*K18*$B$2)-SUM($E$25:J25),IF(K18>J19,((K18-J19+1)*$B$2*$E$21),IF(K18>=J19,$E$21*$B$2))),0) -> FALSE | L25: =IF('Hoja De Calculo'!M13>='Hoja De Calculo'!L13,IF(L18=100,($E$21*L18*$B$2)-SUM($E$25:K25),IF(L18>K19,((L18-K19+1)*$B$2*$E$21),IF(L18>=K19,$E$21*$B$2))),0) -> FALSE | M25: =IF('Hoja De Calculo'!N13>='Hoja De Calculo'!M13,IF(M18=100,($E$21*M18*$B$2)-SUM($E$25:L25),IF(M18>L19,((M18-L19+1)*$B$2*$E$21),IF(M18>=L19,$E$21*$B$2))),0) -> FALSE | ... CW25: =IF('Hoja De Calculo'!CX13>='Hoja De Calculo'!CW13,IF(CW18=100,($E$21*CW18*$B$2)-SUM($E$25:CV25),IF(CW18>CV19,((CW18-CV19+1)*$B$2*$E$21),IF(CW18>=CV19,$E$21*$B$2))),0) -> FALSE
A26: RP 5 | F26: =(F$21*$B$2*(F$19+(IF(F$19=100,0,1)))) -> 0 | G26: =IF('Hoja De Calculo'!H13>='Hoja De Calculo'!G13,IF(G18=100,($F$21*G18*$B$2)-SUM($F$26:F26),IF(G18>F19,((G18-F19+1)*$B$2*$F$21),IF(G18>=F19,$F$21*$B$2))),0) -> FALSE | H26: =IF('Hoja De Calculo'!I13>='Hoja De Calculo'!H13,IF(H18=100,($F$21*H18*$B$2)-SUM($F$26:G26),IF(H18>G19,((H18-G19+1)*$B$2*$F$21),IF(H18>=G19,$F$21*$B$2))),0) -> FALSE | I26: =IF('Hoja De Calculo'!J13>='Hoja De Calculo'!I13,IF(I18=100,($F$21*I18*$B$2)-SUM($F$26:H26),IF(I18>H19,((I18-H19+1)*$B$2*$F$21),IF(I18>=H19,$F$21*$B$2))),0) -> FALSE | J26: =IF('Hoja De Calculo'!K13>='Hoja De Calculo'!J13,IF(J18=100,($F$21*J18*$B$2)-SUM($F$26:I26),IF(J18>I19,((J18-I19+1)*$B$2*$F$21),IF(J18>=I19,$F$21*$B$2))),0) -> FALSE | K26: =IF('Hoja De Calculo'!L13>='Hoja De Calculo'!K13,IF(K18=100,($F$21*K18*$B$2)-SUM($F$26:J26),IF(K18>J19,((K18-J19+1)*$B$2*$F$21),IF(K18>=J19,$F$21*$B$2))),0) -> FALSE | L26: =IF('Hoja De Calculo'!M13>='Hoja De Calculo'!L13,IF(L18=100,($F$21*L18*$B$2)-SUM($F$26:K26),IF(L18>K19,((L18-K19+1)*$B$2*$F$21),IF(L18>=K19,$F$21*$B$2))),0) -> FALSE | M26: =IF('Hoja De Calculo'!N13>='Hoja De Calculo'!M13,IF(M18=100,($F$21*M18*$B$2)-SUM($F$26:L26),IF(M18>L19,((M18-L19+1)*$B$2*$F$21),IF(M18>=L19,$F$21*$B$2))),0) -> FALSE | N26: =IF('Hoja De Calculo'!O13>='Hoja De Calculo'!N13,IF(N18=100,($F$21*N18*$B$2)-SUM($F$26:M26),IF(N18>M19,((N18-M19+1)*$B$2*$F$21),IF(N18>=M19,$F$21*$B$2))),0) -> FALSE | ... CW26: =IF('Hoja De Calculo'!CX13>='Hoja De Calculo'!CW13,IF(CW18=100,($F$21*CW18*$B$2)-SUM($F$26:CV26),IF(CW18>CV19,((CW18-CV19+1)*$B$2*$F$21),IF(CW18>=CV19,$F$21*$B$2))),0) -> FALSE
A27: RP 6 | G27: =(G$21*$B$2*(G$19+(IF(G$19=100,0,1)))) -> 0 | H27: =IF('Hoja De Calculo'!I13>='Hoja De Calculo'!H13,IF(H18=100,($G$21*H18*$B$2)-SUM($G$27:G27),IF(H18>G19,((H18-G19+1)*$B$2*$G$21),IF(H18>=G19,$G$21*$B$2))),0) -> FALSE | I27: =IF('Hoja De Calculo'!J13>='Hoja De Calculo'!I13,IF(I18=100,($G$21*I18*$B$2)-SUM($G$27:H27),IF(I18>H19,((I18-H19+1)*$B$2*$G$21),IF(I18>=H19,$G$21*$B$2))),0) -> FALSE | J27: =IF('Hoja De Calculo'!K13>='Hoja De Calculo'!J13,IF(J18=100,($G$21*J18*$B$2)-SUM($G$27:I27),IF(J18>I19,((J18-I19+1)*$B$2*$G$21),IF(J18>=I19,$G$21*$B$2))),0) -> FALSE | K27: =IF('Hoja De Calculo'!L13>='Hoja De Calculo'!K13,IF(K18=100,($G$21*K18*$B$2)-SUM($G$27:J27),IF(K18>J19,((K18-J19+1)*$B$2*$G$21),IF(K18>=J19,$G$21*$B$2))),0) -> FALSE | L27: =IF('Hoja De Calculo'!M13>='Hoja De Calculo'!L13,IF(L18=100,($G$21*L18*$B$2)-SUM($G$27:K27),IF(L18>K19,((L18-K19+1)*$B$2*$G$21),IF(L18>=K19,$G$21*$B$2))),0) -> FALSE | M27: =IF('Hoja De Calculo'!N13>='Hoja De Calculo'!M13,IF(M18=100,($G$21*M18*$B$2)-SUM($G$27:L27),IF(M18>L19,((M18-L19+1)*$B$2*$G$21),IF(M18>=L19,$G$21*$B$2))),0) -> FALSE | N27: =IF('Hoja De Calculo'!O13>='Hoja De Calculo'!N13,IF(N18=100,($G$21*N18*$B$2)-SUM($G$27:M27),IF(N18>M19,((N18-M19+1)*$B$2*$G$21),IF(N18>=M19,$G$21*$B$2))),0) -> FALSE | O27: =IF('Hoja De Calculo'!P13>='Hoja De Calculo'!O13,IF(O18=100,($G$21*O18*$B$2)-SUM($G$27:N27),IF(O18>N19,((O18-N19+1)*$B$2*$G$21),IF(O18>=N19,$G$21*$B$2))),0) -> FALSE | ... CW27: =IF('Hoja De Calculo'!CX13>='Hoja De Calculo'!CW13,IF(CW18=100,($G$21*CW18*$B$2)-SUM($G$27:CV27),IF(CW18>CV19,((CW18-CV19+1)*$B$2*$G$21),IF(CW18>=CV19,$G$21*$B$2))),0) -> FALSE
A28: RP 7 | H28: =(H$21*$B$2*(H$19+(IF(H$19=100,0,1)))) -> 0 | I28: =IF('Hoja De Calculo'!J13>='Hoja De Calculo'!I13,IF(I18=100,($H$21*I18*$B$2)-SUM($H$28:H28),IF(I18>H19,((I18-H19+1)*$B$2*$H$21),IF(I18>=H19,$H$21*$B$2))),0) -> FALSE | J28: =IF('Hoja De Calculo'!K13>='Hoja De Calculo'!J13,IF(J18=100,($H$21*J18*$B$2)-SUM($H$28:I28),IF(J18>I19,((J18-I19+1)*$B$2*$H$21),IF(J18>=I19,$H$21*$B$2))),0) -> FALSE | K28: =IF('Hoja De Calculo'!L13>='Hoja De Calculo'!K13,IF(K18=100,($H$21*K18*$B$2)-SUM($H$28:J28),IF(K18>J19,((K18-J19+1)*$B$2*$H$21),IF(K18>=J19,$H$21*$B$2))),0) -> FALSE | L28: =IF('Hoja De Calculo'!M13>='Hoja De Calculo'!L13,IF(L18=100,($H$21*L18*$B$2)-SUM($H$28:K28),IF(L18>K19,((L18-K19+1)*$B$2*$H$21),IF(L18>=K19,$H$21*$B$2))),0) -> FALSE | M28: =IF('Hoja De Calculo'!N13>='Hoja De Calculo'!M13,IF(M18=100,($H$21*M18*$B$2)-SUM($H$28:L28),IF(M18>L19,((M18-L19+1)*$B$2*$H$21),IF(M18>=L19,$H$21*$B$2))),0) -> FALSE | N28: =IF('Hoja De Calculo'!O13>='Hoja De Calculo'!N13,IF(N18=100,($H$21*N18*$B$2)-SUM($H$28:M28),IF(N18>M19,((N18-M19+1)*$B$2*$H$21),IF(N18>=M19,$H$21*$B$2))),0) -> FALSE | O28: =IF('Hoja De Calculo'!P13>='Hoja De Calculo'!O13,IF(O18=100,($H$21*O18*$B$2)-SUM($H$28:N28),IF(O18>N19,((O18-N19+1)*$B$2*$H$21),IF(O18>=N19,$H$21*$B$2))),0) -> FALSE | P28: =IF('Hoja De Calculo'!Q13>='Hoja De Calculo'!P13,IF(P18=100,($H$21*P18*$B$2)-SUM($H$28:O28),IF(P18>O19,((P18-O19+1)*$B$2*$H$21),IF(P18>=O19,$H$21*$B$2))),0) -> FALSE | ... CW28: =IF('Hoja De Calculo'!CX13>='Hoja De Calculo'!CW13,IF(CW18=100,($H$21*CW18*$B$2)-SUM($H$28:CV28),IF(CW18>CV19,((CW18-CV19+1)*$B$2*$H$21),IF(CW18>=CV19,$H$21*$B$2))),0) -> FALSE
A29: RP 8 | I29: =(I$21*$B$2*(I$19+(IF(I$19=100,0,1)))) -> 0 | J29: =IF('Hoja De Calculo'!K13>='Hoja De Calculo'!J13,IF(J18=100,($I$21*J$18*$B$2)-SUM($I29:I29),IF(J$18>I$19,((J$18-I$19+1)*$B$2*$I$21),IF(J$18>=I$19,$I$21*$B$2))),0) -> FALSE | K29: =IF('Hoja De Calculo'!L13>='Hoja De Calculo'!K13,IF(K18=100,($I$21*K$18*$B$2)-SUM($I29:J29),IF(K$18>J$19,((K$18-J$19+1)*$B$2*$I$21),IF(K$18>=J$19,$I$21*$B$2))),0) -> FALSE | L29: =IF('Hoja De Calculo'!M13>='Hoja De Calculo'!L13,IF(L18=100,($I$21*L$18*$B$2)-SUM($I29:K29),IF(L$18>K$19,((L$18-K$19+1)*$B$2*$I$21),IF(L$18>=K$19,$I$21*$B$2))),0) -> FALSE | M29: =IF('Hoja De Calculo'!N13>='Hoja De Calculo'!M13,IF(M18=100,($I$21*M$18*$B$2)-SUM($I29:L29),IF(M$18>L$19,((M$18-L$19+1)*$B$2*$I$21),IF(M$18>=L$19,$I$21*$B$2))),0) -> FALSE | N29: =IF('Hoja De Calculo'!O13>='Hoja De Calculo'!N13,IF(N18=100,($I$21*N$18*$B$2)-SUM($I29:M29),IF(N$18>M$19,((N$18-M$19+1)*$B$2*$I$21),IF(N$18>=M$19,$I$21*$B$2))),0) -> FALSE | O29: =IF('Hoja De Calculo'!P13>='Hoja De Calculo'!O13,IF(O18=100,($I$21*O$18*$B$2)-SUM($I29:N29),IF(O$18>N$19,((O$18-N$19+1)*$B$2*$I$21),IF(O$18>=N$19,$I$21*$B$2))),0) -> FALSE | P29: =IF('Hoja De Calculo'!Q13>='Hoja De Calculo'!P13,IF(P18=100,($I$21*P$18*$B$2)-SUM($I29:O29),IF(P$18>O$19,((P$18-O$19+1)*$B$2*$I$21),IF(P$18>=O$19,$I$21*$B$2))),0) -> FALSE | Q29: =IF('Hoja De Calculo'!R13>='Hoja De Calculo'!Q13,IF(Q18=100,($I$21*Q$18*$B$2)-SUM($I29:P29),IF(Q$18>P$19,((Q$18-P$19+1)*$B$2*$I$21),IF(Q$18>=P$19,$I$21*$B$2))),0) -> FALSE | ... CW29: =IF('Hoja De Calculo'!CX13>='Hoja De Calculo'!CW13,IF(CW18=100,($I$21*CW$18*$B$2)-SUM($I29:CV29),IF(CW$18>CV$19,((CW$18-CV$19+1)*$B$2*$I$21),IF(CW$18>=CV$19,$I$21*$B$2))),0) -> FALSE
A30: RP 9 | J30: =(J$21*$B$2*(J$19+(IF(J$19=100,0,1)))) -> 0 | K30: =IF('Hoja De Calculo'!L13>='Hoja De Calculo'!K13,IF(K$18=100,($J$21*K$18*$B$2)-SUM($I30:J30),IF(K$18>J$19,((K$18-J$19+1)*$B$2*$J$21),IF(K$18>=J$19,$J$21*$B$2))),0) -> FALSE | L30: =IF('Hoja De Calculo'!M13>='Hoja De Calculo'!L13,IF(L$18=100,($J$21*L$18*$B$2)-SUM($I30:K30),IF(L$18>K$19,((L$18-K$19+1)*$B$2*$J$21),IF(L$18>=K$19,$J$21*$B$2))),0) -> FALSE | M30: =IF('Hoja De Calculo'!N13>='Hoja De Calculo'!M13,IF(M$18=100,($J$21*M$18*$B$2)-SUM($I30:L30),IF(M$18>L$19,((M$18-L$19+1)*$B$2*$J$21),IF(M$18>=L$19,$J$21*$B$2))),0) -> FALSE | N30: =IF('Hoja De Calculo'!O13>='Hoja De Calculo'!N13,IF(N$18=100,($J$21*N$18*$B$2)-SUM($I30:M30),IF(N$18>M$19,((N$18-M$19+1)*$B$2*$J$21),IF(N$18>=M$19,$J$21*$B$2))),0) -> FALSE | O30: =IF('Hoja De Calculo'!P13>='Hoja De Calculo'!O13,IF(O$18=100,($J$21*O$18*$B$2)-SUM($I30:N30),IF(O$18>N$19,((O$18-N$19+1)*$B$2*$J$21),IF(O$18>=N$19,$J$21*$B$2))),0) -> FALSE | P30: =IF('Hoja De Calculo'!Q13>='Hoja De Calculo'!P13,IF(P$18=100,($J$21*P$18*$B$2)-SUM($I30:O30),IF(P$18>O$19,((P$18-O$19+1)*$B$2*$J$21),IF(P$18>=O$19,$J$21*$B$2))),0) -> FALSE | Q30: =IF('Hoja De Calculo'!R13>='Hoja De Calculo'!Q13,IF(Q$18=100,($J$21*Q$18*$B$2)-SUM($I30:P30),IF(Q$18>P$19,((Q$18-P$19+1)*$B$2*$J$21),IF(Q$18>=P$19,$J$21*$B$2))),0) -> FALSE | R30: =IF('Hoja De Calculo'!S13>='Hoja De Calculo'!R13,IF(R$18=100,($J$21*R$18*$B$2)-SUM($I30:Q30),IF(R$18>Q$19,((R$18-Q$19+1)*$B$2*$J$21),IF(R$18>=Q$19,$J$21*$B$2))),0) -> FALSE | ... CW30: =IF('Hoja De Calculo'!CX13>='Hoja De Calculo'!CW13,IF(CW$18=100,($J$21*CW$18*$B$2)-SUM($I30:CV30),IF(CW$18>CV$19,((CW$18-CV$19+1)*$B$2*$J$21),IF(CW$18>=CV$19,$J$21*$B$2))),0) -> FALSE
A31: RP 10 | K31: =(K$21*$B$2*(K$19+(IF(K$19=100,0,1)))) -> 0 | L31: =IF('Hoja De Calculo'!M13>='Hoja De Calculo'!L13,IF(L$18=100,($K$21*L$18*$B$2)-SUM($I31:K31),IF(L$18>K$19,((L$18-K$19+1)*$B$2*$K$21),IF(L$18>=K$19,$K$21*$B$2))),0) -> FALSE | M31: =IF('Hoja De Calculo'!N13>='Hoja De Calculo'!M13,IF(M$18=100,($K$21*M$18*$B$2)-SUM($I31:L31),IF(M$18>L$19,((M$18-L$19+1)*$B$2*$K$21),IF(M$18>=L$19,$K$21*$B$2))),0) -> FALSE | N31: =IF('Hoja De Calculo'!O13>='Hoja De Calculo'!N13,IF(N$18=100,($K$21*N$18*$B$2)-SUM($I31:M31),IF(N$18>M$19,((N$18-M$19+1)*$B$2*$K$21),IF(N$18>=M$19,$K$21*$B$2))),0) -> FALSE | O31: =IF('Hoja De Calculo'!P13>='Hoja De Calculo'!O13,IF(O$18=100,($K$21*O$18*$B$2)-SUM($I31:N31),IF(O$18>N$19,((O$18-N$19+1)*$B$2*$K$21),IF(O$18>=N$19,$K$21*$B$2))),0) -> FALSE | P31: =IF('Hoja De Calculo'!Q13>='Hoja De Calculo'!P13,IF(P$18=100,($K$21*P$18*$B$2)-SUM($I31:O31),IF(P$18>O$19,((P$18-O$19+1)*$B$2*$K$21),IF(P$18>=O$19,$K$21*$B$2))),0) -> FALSE | Q31: =IF('Hoja De Calculo'!R13>='Hoja De Calculo'!Q13,IF(Q$18=100,($K$21*Q$18*$B$2)-SUM($I31:P31),IF(Q$18>P$19,((Q$18-P$19+1)*$B$2*$K$21),IF(Q$18>=P$19,$K$21*$B$2))),0) -> FALSE | R31: =IF('Hoja De Calculo'!S13>='Hoja De Calculo'!R13,IF(R$18=100,($K$21*R$18*$B$2)-SUM($I31:Q31),IF(R$18>Q$19,((R$18-Q$19+1)*$B$2*$K$21),IF(R$18>=Q$19,$K$21*$B$2))),0) -> FALSE | S31: =IF('Hoja De Calculo'!T13>='Hoja De Calculo'!S13,IF(S$18=100,($K$21*S$18*$B$2)-SUM($I31:R31),IF(S$18>R$19,((S$18-R$19+1)*$B$2*$K$21),IF(S$18>=R$19,$K$21*$B$2))),0) -> FALSE | ... CW31: =IF('Hoja De Calculo'!CX13>='Hoja De Calculo'!CW13,IF(CW$18=100,($K$21*CW$18*$B$2)-SUM($I31:CV31),IF(CW$18>CV$19,((CW$18-CV$19+1)*$B$2*$K$21),IF(CW$18>=CV$19,$K$21*$B$2))),0) -> FALSE
A32: RP 11 | L32: =(L$21*$B$2*(L$19+(IF(L$19=100,0,1)))) -> 0 | M32: =IF('Hoja De Calculo'!N13>='Hoja De Calculo'!M13,IF(M$18=100,($L$21*M$18*$B$2)-SUM($I32:L32),IF(M$18>L$19,((M$18-L$19+1)*$B$2*$L$21),IF(M$18>=L$19,$L$21*$B$2))),0) -> FALSE | N32: =IF('Hoja De Calculo'!O13>='Hoja De Calculo'!N13,IF(N$18=100,($L$21*N$18*$B$2)-SUM($I32:M32),IF(N$18>M$19,((N$18-M$19+1)*$B$2*$L$21),IF(N$18>=M$19,$L$21*$B$2))),0) -> FALSE | O32: =IF('Hoja De Calculo'!P13>='Hoja De Calculo'!O13,IF(O$18=100,($L$21*O$18*$B$2)-SUM($I32:N32),IF(O$18>N$19,((O$18-N$19+1)*$B$2*$L$21),IF(O$18>=N$19,$L$21*$B$2))),0) -> FALSE | P32: =IF('Hoja De Calculo'!Q13>='Hoja De Calculo'!P13,IF(P$18=100,($L$21*P$18*$B$2)-SUM($I32:O32),IF(P$18>O$19,((P$18-O$19+1)*$B$2*$L$21),IF(P$18>=O$19,$L$21*$B$2))),0) -> FALSE | Q32: =IF('Hoja De Calculo'!R13>='Hoja De Calculo'!Q13,IF(Q$18=100,($L$21*Q$18*$B$2)-SUM($I32:P32),IF(Q$18>P$19,((Q$18-P$19+1)*$B$2*$L$21),IF(Q$18>=P$19,$L$21*$B$2))),0) -> FALSE | R32: =IF('Hoja De Calculo'!S13>='Hoja De Calculo'!R13,IF(R$18=100,($L$21*R$18*$B$2)-SUM($I32:Q32),IF(R$18>Q$19,((R$18-Q$19+1)*$B$2*$L$21),IF(R$18>=Q$19,$L$21*$B$2))),0) -> FALSE | S32: =IF('Hoja De Calculo'!T13>='Hoja De Calculo'!S13,IF(S$18=100,($L$21*S$18*$B$2)-SUM($I32:R32),IF(S$18>R$19,((S$18-R$19+1)*$B$2*$L$21),IF(S$18>=R$19,$L$21*$B$2))),0) -> FALSE | T32: =IF('Hoja De Calculo'!U13>='Hoja De Calculo'!T13,IF(T$18=100,($L$21*T$18*$B$2)-SUM($I32:S32),IF(T$18>S$19,((T$18-S$19+1)*$B$2*$L$21),IF(T$18>=S$19,$L$21*$B$2))),0) -> FALSE | ... CW32: =IF('Hoja De Calculo'!CX13>='Hoja De Calculo'!CW13,IF(CW$18=100,($L$21*CW$18*$B$2)-SUM($I32:CV32),IF(CW$18>CV$19,((CW$18-CV$19+1)*$B$2*$L$21),IF(CW$18>=CV$19,$L$21*$B$2))),0) -> FALSE
A33: RP 12 | M33: =(M$21*$B$2*(M$19+(IF(M$19=100,0,1)))) -> 0 | N33: =IF('Hoja De Calculo'!O13>='Hoja De Calculo'!N13,IF(N$18=100,($M$21*N$18*$B$2)-SUM($I33:M33),IF(N$18>M$19,((N$18-M$19+1)*$B$2*$M$21),IF(N$18>=M$19,$M$21*$B$2))),0) -> FALSE | O33: =IF('Hoja De Calculo'!P13>='Hoja De Calculo'!O13,IF(O$18=100,($M$21*O$18*$B$2)-SUM($I33:N33),IF(O$18>N$19,((O$18-N$19+1)*$B$2*$M$21),IF(O$18>=N$19,$M$21*$B$2))),0) -> FALSE | P33: =IF('Hoja De Calculo'!Q13>='Hoja De Calculo'!P13,IF(P$18=100,($M$21*P$18*$B$2)-SUM($I33:O33),IF(P$18>O$19,((P$18-O$19+1)*$B$2*$M$21),IF(P$18>=O$19,$M$21*$B$2))),0) -> FALSE | Q33: =IF('Hoja De Calculo'!R13>='Hoja De Calculo'!Q13,IF(Q$18=100,($M$21*Q$18*$B$2)-SUM($I33:P33),IF(Q$18>P$19,((Q$18-P$19+1)*$B$2*$M$21),IF(Q$18>=P$19,$M$21*$B$2))),0) -> FALSE | R33: =IF('Hoja De Calculo'!S13>='Hoja De Calculo'!R13,IF(R$18=100,($M$21*R$18*$B$2)-SUM($I33:Q33),IF(R$18>Q$19,((R$18-Q$19+1)*$B$2*$M$21),IF(R$18>=Q$19,$M$21*$B$2))),0) -> FALSE | S33: =IF('Hoja De Calculo'!T13>='Hoja De Calculo'!S13,IF(S$18=100,($M$21*S$18*$B$2)-SUM($I33:R33),IF(S$18>R$19,((S$18-R$19+1)*$B$2*$M$21),IF(S$18>=R$19,$M$21*$B$2))),0) -> FALSE | T33: =IF('Hoja De Calculo'!U13>='Hoja De Calculo'!T13,IF(T$18=100,($M$21*T$18*$B$2)-SUM($I33:S33),IF(T$18>S$19,((T$18-S$19+1)*$B$2*$M$21),IF(T$18>=S$19,$M$21*$B$2))),0) -> FALSE | U33: =IF('Hoja De Calculo'!V13>='Hoja De Calculo'!U13,IF(U$18=100,($M$21*U$18*$B$2)-SUM($I33:T33),IF(U$18>T$19,((U$18-T$19+1)*$B$2*$M$21),IF(U$18>=T$19,$M$21*$B$2))),0) -> FALSE | ... CW33: =IF('Hoja De Calculo'!CX13>='Hoja De Calculo'!CW13,IF(CW$18=100,($M$21*CW$18*$B$2)-SUM($I33:CV33),IF(CW$18>CV$19,((CW$18-CV$19+1)*$B$2*$M$21),IF(CW$18>=CV$19,$M$21*$B$2))),0) -> FALSE
A34: RP 13 | N34: =(N$21*$B$2*(N$19+(IF(N$19=100,0,1)))) -> 0 | O34: =IF('Hoja De Calculo'!P13>='Hoja De Calculo'!O13,IF(O$18=100,($N$21*O$18*$B$2)-SUM($I34:N34),IF(O$18>N$19,((O$18-N$19+1)*$B$2*$N$21),IF(O$18>=N$19,$N$21*$B$2))),0) -> FALSE | P34: =IF('Hoja De Calculo'!Q13>='Hoja De Calculo'!P13,IF(P$18=100,($N$21*P$18*$B$2)-SUM($I34:O34),IF(P$18>O$19,((P$18-O$19+1)*$B$2*$N$21),IF(P$18>=O$19,$N$21*$B$2))),0) -> FALSE | Q34: =IF('Hoja De Calculo'!R13>='Hoja De Calculo'!Q13,IF(Q$18=100,($N$21*Q$18*$B$2)-SUM($I34:P34),IF(Q$18>P$19,((Q$18-P$19+1)*$B$2*$N$21),IF(Q$18>=P$19,$N$21*$B$2))),0) -> FALSE | R34: =IF('Hoja De Calculo'!S13>='Hoja De Calculo'!R13,IF(R$18=100,($N$21*R$18*$B$2)-SUM($I34:Q34),IF(R$18>Q$19,((R$18-Q$19+1)*$B$2*$N$21),IF(R$18>=Q$19,$N$21*$B$2))),0) -> FALSE | S34: =IF('Hoja De Calculo'!T13>='Hoja De Calculo'!S13,IF(S$18=100,($N$21*S$18*$B$2)-SUM($I34:R34),IF(S$18>R$19,((S$18-R$19+1)*$B$2*$N$21),IF(S$18>=R$19,$N$21*$B$2))),0) -> FALSE | T34: =IF('Hoja De Calculo'!U13>='Hoja De Calculo'!T13,IF(T$18=100,($N$21*T$18*$B$2)-SUM($I34:S34),IF(T$18>S$19,((T$18-S$19+1)*$B$2*$N$21),IF(T$18>=S$19,$N$21*$B$2))),0) -> FALSE | U34: =IF('Hoja De Calculo'!V13>='Hoja De Calculo'!U13,IF(U$18=100,($N$21*U$18*$B$2)-SUM($I34:T34),IF(U$18>T$19,((U$18-T$19+1)*$B$2*$N$21),IF(U$18>=T$19,$N$21*$B$2))),0) -> FALSE | V34: =IF('Hoja De Calculo'!W13>='Hoja De Calculo'!V13,IF(V$18=100,($N$21*V$18*$B$2)-SUM($I34:U34),IF(V$18>U$19,((V$18-U$19+1)*$B$2*$N$21),IF(V$18>=U$19,$N$21*$B$2))),0) -> FALSE | ... CW34: =IF('Hoja De Calculo'!CX13>='Hoja De Calculo'!CW13,IF(CW$18=100,($N$21*CW$18*$B$2)-SUM($I34:CV34),IF(CW$18>CV$19,((CW$18-CV$19+1)*$B$2*$N$21),IF(CW$18>=CV$19,$N$21*$B$2))),0) -> FALSE
A35: RP 14 | O35: =(O$21*$B$2*(O$19+(IF(O$19=100,0,1)))) -> 0 | P35: =IF('Hoja De Calculo'!Q13>='Hoja De Calculo'!P13,IF(P$18=100,($O$21*P$18*$B$2)-SUM($I35:O35),IF(P$18>O$19,((P$18-O$19+1)*$B$2*$O$21),IF(P$18>=O$19,$O$21*$B$2))),0) -> FALSE | Q35: =IF('Hoja De Calculo'!R13>='Hoja De Calculo'!Q13,IF(Q$18=100,($O$21*Q$18*$B$2)-SUM($I35:P35),IF(Q$18>P$19,((Q$18-P$19+1)*$B$2*$O$21),IF(Q$18>=P$19,$O$21*$B$2))),0) -> FALSE | R35: =IF('Hoja De Calculo'!S13>='Hoja De Calculo'!R13,IF(R$18=100,($O$21*R$18*$B$2)-SUM($I35:Q35),IF(R$18>Q$19,((R$18-Q$19+1)*$B$2*$O$21),IF(R$18>=Q$19,$O$21*$B$2))),0) -> FALSE | S35: =IF('Hoja De Calculo'!T13>='Hoja De Calculo'!S13,IF(S$18=100,($O$21*S$18*$B$2)-SUM($I35:R35),IF(S$18>R$19,((S$18-R$19+1)*$B$2*$O$21),IF(S$18>=R$19,$O$21*$B$2))),0) -> FALSE | T35: =IF('Hoja De Calculo'!U13>='Hoja De Calculo'!T13,IF(T$18=100,($O$21*T$18*$B$2)-SUM($I35:S35),IF(T$18>S$19,((T$18-S$19+1)*$B$2*$O$21),IF(T$18>=S$19,$O$21*$B$2))),0) -> FALSE | U35: =IF('Hoja De Calculo'!V13>='Hoja De Calculo'!U13,IF(U$18=100,($O$21*U$18*$B$2)-SUM($I35:T35),IF(U$18>T$19,((U$18-T$19+1)*$B$2*$O$21),IF(U$18>=T$19,$O$21*$B$2))),0) -> FALSE | V35: =IF('Hoja De Calculo'!W13>='Hoja De Calculo'!V13,IF(V$18=100,($O$21*V$18*$B$2)-SUM($I35:U35),IF(V$18>U$19,((V$18-U$19+1)*$B$2*$O$21),IF(V$18>=U$19,$O$21*$B$2))),0) -> FALSE | W35: =IF('Hoja De Calculo'!X13>='Hoja De Calculo'!W13,IF(W$18=100,($O$21*W$18*$B$2)-SUM($I35:V35),IF(W$18>V$19,((W$18-V$19+1)*$B$2*$O$21),IF(W$18>=V$19,$O$21*$B$2))),0) -> FALSE | ... CW35: =IF('Hoja De Calculo'!CX13>='Hoja De Calculo'!CW13,IF(CW$18=100,($O$21*CW$18*$B$2)-SUM($I35:CV35),IF(CW$18>CV$19,((CW$18-CV$19+1)*$B$2*$O$21),IF(CW$18>=CV$19,$O$21*$B$2))),0) -> FALSE
A36: RP 15 | P36: =(P$21*$B$2*(P$19+(IF(P$19=100,0,1)))) -> 0 | Q36: =IF('Hoja De Calculo'!R13>='Hoja De Calculo'!Q13,IF(Q$18=100,($P$21*Q$18*$B$2)-SUM($I36:P36),IF(Q$18>P$19,((Q$18-P$19+1)*$B$2*$P$21),IF(Q$18>=P$19,$P$21*$B$2))),0) -> FALSE | R36: =IF('Hoja De Calculo'!S13>='Hoja De Calculo'!R13,IF(R$18=100,($P$21*R$18*$B$2)-SUM($I36:Q36),IF(R$18>Q$19,((R$18-Q$19+1)*$B$2*$P$21),IF(R$18>=Q$19,$P$21*$B$2))),0) -> FALSE | S36: =IF('Hoja De Calculo'!T13>='Hoja De Calculo'!S13,IF(S$18=100,($P$21*S$18*$B$2)-SUM($I36:R36),IF(S$18>R$19,((S$18-R$19+1)*$B$2*$P$21),IF(S$18>=R$19,$P$21*$B$2))),0) -> FALSE | T36: =IF('Hoja De Calculo'!U13>='Hoja De Calculo'!T13,IF(T$18=100,($P$21*T$18*$B$2)-SUM($I36:S36),IF(T$18>S$19,((T$18-S$19+1)*$B$2*$P$21),IF(T$18>=S$19,$P$21*$B$2))),0) -> FALSE | U36: =IF('Hoja De Calculo'!V13>='Hoja De Calculo'!U13,IF(U$18=100,($P$21*U$18*$B$2)-SUM($I36:T36),IF(U$18>T$19,((U$18-T$19+1)*$B$2*$P$21),IF(U$18>=T$19,$P$21*$B$2))),0) -> FALSE | V36: =IF('Hoja De Calculo'!W13>='Hoja De Calculo'!V13,IF(V$18=100,($P$21*V$18*$B$2)-SUM($I36:U36),IF(V$18>U$19,((V$18-U$19+1)*$B$2*$P$21),IF(V$18>=U$19,$P$21*$B$2))),0) -> FALSE | W36: =IF('Hoja De Calculo'!X13>='Hoja De Calculo'!W13,IF(W$18=100,($P$21*W$18*$B$2)-SUM($I36:V36),IF(W$18>V$19,((W$18-V$19+1)*$B$2*$P$21),IF(W$18>=V$19,$P$21*$B$2))),0) -> FALSE | X36: =IF('Hoja De Calculo'!Y13>='Hoja De Calculo'!X13,IF(X$18=100,($P$21*X$18*$B$2)-SUM($I36:W36),IF(X$18>W$19,((X$18-W$19+1)*$B$2*$P$21),IF(X$18>=W$19,$P$21*$B$2))),0) -> FALSE | ... CW36: =IF('Hoja De Calculo'!CX13>='Hoja De Calculo'!CW13,IF(CW$18=100,($P$21*CW$18*$B$2)-SUM($I36:CV36),IF(CW$18>CV$19,((CW$18-CV$19+1)*$B$2*$P$21),IF(CW$18>=CV$19,$P$21*$B$2))),0) -> FALSE
A37: RP 16 | Q37: =(Q$21*$B$2*(Q$19+(IF(Q$19=100,0,1)))) -> 0 | R37: =IF('Hoja De Calculo'!S13>='Hoja De Calculo'!R13,IF(R$18=100,($Q$21*R$18*$B$2)-SUM($I37:Q37),IF(R$18>Q$19,((R$18-Q$19+1)*$B$2*$Q$21),IF(R$18>=Q$19,$Q$21*$B$2))),0) -> FALSE | S37: =IF('Hoja De Calculo'!T13>='Hoja De Calculo'!S13,IF(S$18=100,($Q$21*S$18*$B$2)-SUM($I37:R37),IF(S$18>R$19,((S$18-R$19+1)*$B$2*$Q$21),IF(S$18>=R$19,$Q$21*$B$2))),0) -> FALSE | T37: =IF('Hoja De Calculo'!U13>='Hoja De Calculo'!T13,IF(T$18=100,($Q$21*T$18*$B$2)-SUM($I37:S37),IF(T$18>S$19,((T$18-S$19+1)*$B$2*$Q$21),IF(T$18>=S$19,$Q$21*$B$2))),0) -> FALSE | U37: =IF('Hoja De Calculo'!V13>='Hoja De Calculo'!U13,IF(U$18=100,($Q$21*U$18*$B$2)-SUM($I37:T37),IF(U$18>T$19,((U$18-T$19+1)*$B$2*$Q$21),IF(U$18>=T$19,$Q$21*$B$2))),0) -> FALSE | V37: =IF('Hoja De Calculo'!W13>='Hoja De Calculo'!V13,IF(V$18=100,($Q$21*V$18*$B$2)-SUM($I37:U37),IF(V$18>U$19,((V$18-U$19+1)*$B$2*$Q$21),IF(V$18>=U$19,$Q$21*$B$2))),0) -> FALSE | W37: =IF('Hoja De Calculo'!X13>='Hoja De Calculo'!W13,IF(W$18=100,($Q$21*W$18*$B$2)-SUM($I37:V37),IF(W$18>V$19,((W$18-V$19+1)*$B$2*$Q$21),IF(W$18>=V$19,$Q$21*$B$2))),0) -> FALSE | X37: =IF('Hoja De Calculo'!Y13>='Hoja De Calculo'!X13,IF(X$18=100,($Q$21*X$18*$B$2)-SUM($I37:W37),IF(X$18>W$19,((X$18-W$19+1)*$B$2*$Q$21),IF(X$18>=W$19,$Q$21*$B$2))),0) -> FALSE | Y37: =IF('Hoja De Calculo'!Z13>='Hoja De Calculo'!Y13,IF(Y$18=100,($Q$21*Y$18*$B$2)-SUM($I37:X37),IF(Y$18>X$19,((Y$18-X$19+1)*$B$2*$Q$21),IF(Y$18>=X$19,$Q$21*$B$2))),0) -> FALSE | ... CW37: =IF('Hoja De Calculo'!CX13>='Hoja De Calculo'!CW13,IF(CW$18=100,($Q$21*CW$18*$B$2)-SUM($I37:CV37),IF(CW$18>CV$19,((CW$18-CV$19+1)*$B$2*$Q$21),IF(CW$18>=CV$19,$Q$21*$B$2))),0) -> FALSE
A38: RP 17 | R38: =(R$21*$B$2*(R$19+(IF(R$19=100,0,1)))) -> 0 | S38: =IF('Hoja De Calculo'!T13>='Hoja De Calculo'!S13,IF(S$18=100,($R$21*S$18*$B$2)-SUM($I38:R38),IF(S$18>R$19,((S$18-R$19+1)*$B$2*$R$21),IF(S$18>=R$19,$R$21*$B$2))),0) -> FALSE | T38: =IF('Hoja De Calculo'!U13>='Hoja De Calculo'!T13,IF(T$18=100,($R$21*T$18*$B$2)-SUM($I38:S38),IF(T$18>S$19,((T$18-S$19+1)*$B$2*$R$21),IF(T$18>=S$19,$R$21*$B$2))),0) -> FALSE | U38: =IF('Hoja De Calculo'!V13>='Hoja De Calculo'!U13,IF(U$18=100,($R$21*U$18*$B$2)-SUM($I38:T38),IF(U$18>T$19,((U$18-T$19+1)*$B$2*$R$21),IF(U$18>=T$19,$R$21*$B$2))),0) -> FALSE | V38: =IF('Hoja De Calculo'!W13>='Hoja De Calculo'!V13,IF(V$18=100,($R$21*V$18*$B$2)-SUM($I38:U38),IF(V$18>U$19,((V$18-U$19+1)*$B$2*$R$21),IF(V$18>=U$19,$R$21*$B$2))),0) -> FALSE | W38: =IF('Hoja De Calculo'!X13>='Hoja De Calculo'!W13,IF(W$18=100,($R$21*W$18*$B$2)-SUM($I38:V38),IF(W$18>V$19,((W$18-V$19+1)*$B$2*$R$21),IF(W$18>=V$19,$R$21*$B$2))),0) -> FALSE | X38: =IF('Hoja De Calculo'!Y13>='Hoja De Calculo'!X13,IF(X$18=100,($R$21*X$18*$B$2)-SUM($I38:W38),IF(X$18>W$19,((X$18-W$19+1)*$B$2*$R$21),IF(X$18>=W$19,$R$21*$B$2))),0) -> FALSE | Y38: =IF('Hoja De Calculo'!Z13>='Hoja De Calculo'!Y13,IF(Y$18=100,($R$21*Y$18*$B$2)-SUM($I38:X38),IF(Y$18>X$19,((Y$18-X$19+1)*$B$2*$R$21),IF(Y$18>=X$19,$R$21*$B$2))),0) -> FALSE | Z38: =IF('Hoja De Calculo'!AA13>='Hoja De Calculo'!Z13,IF(Z$18=100,($R$21*Z$18*$B$2)-SUM($I38:Y38),IF(Z$18>Y$19,((Z$18-Y$19+1)*$B$2*$R$21),IF(Z$18>=Y$19,$R$21*$B$2))),0) -> FALSE | ... CW38: =IF('Hoja De Calculo'!CX13>='Hoja De Calculo'!CW13,IF(CW$18=100,($R$21*CW$18*$B$2)-SUM($I38:CV38),IF(CW$18>CV$19,((CW$18-CV$19+1)*$B$2*$R$21),IF(CW$18>=CV$19,$R$21*$B$2))),0) -> FALSE
A39: RP 18 | S39: =(S$21*$B$2*(S$19+(IF(S$19=100,0,1)))) -> 0 | T39: =IF('Hoja De Calculo'!U13>='Hoja De Calculo'!T13,IF(T$18=100,($S$21*T$18*$B$2)-SUM($I39:S39),IF(T$18>S$19,((T$18-S$19+1)*$B$2*$S$21),IF(T$18>=S$19,$S$21*$B$2))),0) -> FALSE | U39: =IF('Hoja De Calculo'!V13>='Hoja De Calculo'!U13,IF(U$18=100,($S$21*U$18*$B$2)-SUM($I39:T39),IF(U$18>T$19,((U$18-T$19+1)*$B$2*$S$21),IF(U$18>=T$19,$S$21*$B$2))),0) -> FALSE | V39: =IF('Hoja De Calculo'!W13>='Hoja De Calculo'!V13,IF(V$18=100,($S$21*V$18*$B$2)-SUM($I39:U39),IF(V$18>U$19,((V$18-U$19+1)*$B$2*$S$21),IF(V$18>=U$19,$S$21*$B$2))),0) -> FALSE | W39: =IF('Hoja De Calculo'!X13>='Hoja De Calculo'!W13,IF(W$18=100,($S$21*W$18*$B$2)-SUM($I39:V39),IF(W$18>V$19,((W$18-V$19+1)*$B$2*$S$21),IF(W$18>=V$19,$S$21*$B$2))),0) -> FALSE | X39: =IF('Hoja De Calculo'!Y13>='Hoja De Calculo'!X13,IF(X$18=100,($S$21*X$18*$B$2)-SUM($I39:W39),IF(X$18>W$19,((X$18-W$19+1)*$B$2*$S$21),IF(X$18>=W$19,$S$21*$B$2))),0) -> FALSE | Y39: =IF('Hoja De Calculo'!Z13>='Hoja De Calculo'!Y13,IF(Y$18=100,($S$21*Y$18*$B$2)-SUM($I39:X39),IF(Y$18>X$19,((Y$18-X$19+1)*$B$2*$S$21),IF(Y$18>=X$19,$S$21*$B$2))),0) -> FALSE | Z39: =IF('Hoja De Calculo'!AA13>='Hoja De Calculo'!Z13,IF(Z$18=100,($S$21*Z$18*$B$2)-SUM($I39:Y39),IF(Z$18>Y$19,((Z$18-Y$19+1)*$B$2*$S$21),IF(Z$18>=Y$19,$S$21*$B$2))),0) -> FALSE | AA39: =IF('Hoja De Calculo'!AB13>='Hoja De Calculo'!AA13,IF(AA$18=100,($S$21*AA$18*$B$2)-SUM($I39:Z39),IF(AA$18>Z$19,((AA$18-Z$19+1)*$B$2*$S$21),IF(AA$18>=Z$19,$S$21*$B$2))),0) -> FALSE | ... CW39: =IF('Hoja De Calculo'!CX13>='Hoja De Calculo'!CW13,IF(CW$18=100,($S$21*CW$18*$B$2)-SUM($I39:CV39),IF(CW$18>CV$19,((CW$18-CV$19+1)*$B$2*$S$21),IF(CW$18>=CV$19,$S$21*$B$2))),0) -> FALSE
A40: RP 19 | T40: =(T$21*$B$2*(T$19+(IF(T$19=100,0,1)))) -> 0 | U40: =IF('Hoja De Calculo'!V13>='Hoja De Calculo'!U13,IF(U$18=100,($T$21*U$18*$B$2)-SUM($I40:T40),IF(U$18>T$19,((U$18-T$19+1)*$B$2*$T$21),IF(U$18>=T$19,$T$21*$B$2))),0) -> FALSE | V40: =IF('Hoja De Calculo'!W13>='Hoja De Calculo'!V13,IF(V$18=100,($T$21*V$18*$B$2)-SUM($I40:U40),IF(V$18>U$19,((V$18-U$19+1)*$B$2*$T$21),IF(V$18>=U$19,$T$21*$B$2))),0) -> FALSE | W40: =IF('Hoja De Calculo'!X13>='Hoja De Calculo'!W13,IF(W$18=100,($T$21*W$18*$B$2)-SUM($I40:V40),IF(W$18>V$19,((W$18-V$19+1)*$B$2*$T$21),IF(W$18>=V$19,$T$21*$B$2))),0) -> FALSE | X40: =IF('Hoja De Calculo'!Y13>='Hoja De Calculo'!X13,IF(X$18=100,($T$21*X$18*$B$2)-SUM($I40:W40),IF(X$18>W$19,((X$18-W$19+1)*$B$2*$T$21),IF(X$18>=W$19,$T$21*$B$2))),0) -> FALSE | Y40: =IF('Hoja De Calculo'!Z13>='Hoja De Calculo'!Y13,IF(Y$18=100,($T$21*Y$18*$B$2)-SUM($I40:X40),IF(Y$18>X$19,((Y$18-X$19+1)*$B$2*$T$21),IF(Y$18>=X$19,$T$21*$B$2))),0) -> FALSE | Z40: =IF('Hoja De Calculo'!AA13>='Hoja De Calculo'!Z13,IF(Z$18=100,($T$21*Z$18*$B$2)-SUM($I40:Y40),IF(Z$18>Y$19,((Z$18-Y$19+1)*$B$2*$T$21),IF(Z$18>=Y$19,$T$21*$B$2))),0) -> FALSE | AA40: =IF('Hoja De Calculo'!AB13>='Hoja De Calculo'!AA13,IF(AA$18=100,($T$21*AA$18*$B$2)-SUM($I40:Z40),IF(AA$18>Z$19,((AA$18-Z$19+1)*$B$2*$T$21),IF(AA$18>=Z$19,$T$21*$B$2))),0) -> FALSE | AB40: =IF('Hoja De Calculo'!AC13>='Hoja De Calculo'!AB13,IF(AB$18=100,($T$21*AB$18*$B$2)-SUM($I40:AA40),IF(AB$18>AA$19,((AB$18-AA$19+1)*$B$2*$T$21),IF(AB$18>=AA$19,$T$21*$B$2))),0) -> FALSE | ... CW40: =IF('Hoja De Calculo'!CX13>='Hoja De Calculo'!CW13,IF(CW$18=100,($T$21*CW$18*$B$2)-SUM($I40:CV40),IF(CW$18>CV$19,((CW$18-CV$19+1)*$B$2*$T$21),IF(CW$18>=CV$19,$T$21*$B$2))),0) -> FALSE
A41: RP 20 | U41: =(U$21*$B$2*(U$19+(IF(U$19=100,0,1)))) -> 0 | V41: =IF('Hoja De Calculo'!W13>='Hoja De Calculo'!V13,IF(V$18=100,($U$21*V$18*$B$2)-SUM($I41:U41),IF(V$18>U$19,((V$18-U$19+1)*$B$2*$U$21),IF(V$18>=U$19,$U$21*$B$2))),0) -> FALSE | W41: =IF('Hoja De Calculo'!X13>='Hoja De Calculo'!W13,IF(W$18=100,($U$21*W$18*$B$2)-SUM($I41:V41),IF(W$18>V$19,((W$18-V$19+1)*$B$2*$U$21),IF(W$18>=V$19,$U$21*$B$2))),0) -> FALSE | X41: =IF('Hoja De Calculo'!Y13>='Hoja De Calculo'!X13,IF(X$18=100,($U$21*X$18*$B$2)-SUM($I41:W41),IF(X$18>W$19,((X$18-W$19+1)*$B$2*$U$21),IF(X$18>=W$19,$U$21*$B$2))),0) -> FALSE | Y41: =IF('Hoja De Calculo'!Z13>='Hoja De Calculo'!Y13,IF(Y$18=100,($U$21*Y$18*$B$2)-SUM($I41:X41),IF(Y$18>X$19,((Y$18-X$19+1)*$B$2*$U$21),IF(Y$18>=X$19,$U$21*$B$2))),0) -> FALSE | Z41: =IF('Hoja De Calculo'!AA13>='Hoja De Calculo'!Z13,IF(Z$18=100,($U$21*Z$18*$B$2)-SUM($I41:Y41),IF(Z$18>Y$19,((Z$18-Y$19+1)*$B$2*$U$21),IF(Z$18>=Y$19,$U$21*$B$2))),0) -> FALSE | AA41: =IF('Hoja De Calculo'!AB13>='Hoja De Calculo'!AA13,IF(AA$18=100,($U$21*AA$18*$B$2)-SUM($I41:Z41),IF(AA$18>Z$19,((AA$18-Z$19+1)*$B$2*$U$21),IF(AA$18>=Z$19,$U$21*$B$2))),0) -> FALSE | AB41: =IF('Hoja De Calculo'!AC13>='Hoja De Calculo'!AB13,IF(AB$18=100,($U$21*AB$18*$B$2)-SUM($I41:AA41),IF(AB$18>AA$19,((AB$18-AA$19+1)*$B$2*$U$21),IF(AB$18>=AA$19,$U$21*$B$2))),0) -> FALSE | AC41: =IF('Hoja De Calculo'!AD13>='Hoja De Calculo'!AC13,IF(AC$18=100,($U$21*AC$18*$B$2)-SUM($I41:AB41),IF(AC$18>AB$19,((AC$18-AB$19+1)*$B$2*$U$21),IF(AC$18>=AB$19,$U$21*$B$2))),0) -> FALSE | ... CW41: =IF('Hoja De Calculo'!CX13>='Hoja De Calculo'!CW13,IF(CW$18=100,($U$21*CW$18*$B$2)-SUM($I41:CV41),IF(CW$18>CV$19,((CW$18-CV$19+1)*$B$2*$U$21),IF(CW$18>=CV$19,$U$21*$B$2))),0) -> FALSE
A42: RP 21 | V42: =(V$21*$B$2*(V$19+(IF(V$19=100,0,1)))) -> 0 | W42: =IF('Hoja De Calculo'!X13>='Hoja De Calculo'!W13,IF(W$18=100,($V$21*W$18*$B$2)-SUM($I42:V42),IF(W$18>V$19,((W$18-V$19+1)*$B$2*$V$21),IF(W$18>=V$19,$V$21*$B$2))),0) -> FALSE | X42: =IF('Hoja De Calculo'!Y13>='Hoja De Calculo'!X13,IF(X$18=100,($V$21*X$18*$B$2)-SUM($I42:W42),IF(X$18>W$19,((X$18-W$19+1)*$B$2*$V$21),IF(X$18>=W$19,$V$21*$B$2))),0) -> FALSE | Y42: =IF('Hoja De Calculo'!Z13>='Hoja De Calculo'!Y13,IF(Y$18=100,($V$21*Y$18*$B$2)-SUM($I42:X42),IF(Y$18>X$19,((Y$18-X$19+1)*$B$2*$V$21),IF(Y$18>=X$19,$V$21*$B$2))),0) -> FALSE | Z42: =IF('Hoja De Calculo'!AA13>='Hoja De Calculo'!Z13,IF(Z$18=100,($V$21*Z$18*$B$2)-SUM($I42:Y42),IF(Z$18>Y$19,((Z$18-Y$19+1)*$B$2*$V$21),IF(Z$18>=Y$19,$V$21*$B$2))),0) -> FALSE | AA42: =IF('Hoja De Calculo'!AB13>='Hoja De Calculo'!AA13,IF(AA$18=100,($V$21*AA$18*$B$2)-SUM($I42:Z42),IF(AA$18>Z$19,((AA$18-Z$19+1)*$B$2*$V$21),IF(AA$18>=Z$19,$V$21*$B$2))),0) -> FALSE | AB42: =IF('Hoja De Calculo'!AC13>='Hoja De Calculo'!AB13,IF(AB$18=100,($V$21*AB$18*$B$2)-SUM($I42:AA42),IF(AB$18>AA$19,((AB$18-AA$19+1)*$B$2*$V$21),IF(AB$18>=AA$19,$V$21*$B$2))),0) -> FALSE | AC42: =IF('Hoja De Calculo'!AD13>='Hoja De Calculo'!AC13,IF(AC$18=100,($V$21*AC$18*$B$2)-SUM($I42:AB42),IF(AC$18>AB$19,((AC$18-AB$19+1)*$B$2*$V$21),IF(AC$18>=AB$19,$V$21*$B$2))),0) -> FALSE | AD42: =IF('Hoja De Calculo'!AE13>='Hoja De Calculo'!AD13,IF(AD$18=100,($V$21*AD$18*$B$2)-SUM($I42:AC42),IF(AD$18>AC$19,((AD$18-AC$19+1)*$B$2*$V$21),IF(AD$18>=AC$19,$V$21*$B$2))),0) -> FALSE | ... CW42: =IF('Hoja De Calculo'!CX13>='Hoja De Calculo'!CW13,IF(CW$18=100,($V$21*CW$18*$B$2)-SUM($I42:CV42),IF(CW$18>CV$19,((CW$18-CV$19+1)*$B$2*$V$21),IF(CW$18>=CV$19,$V$21*$B$2))),0) -> FALSE
A43: RP 22 | W43: =(W$21*$B$2*(W$19+(IF(W$19=100,0,1)))) -> 0 | X43: =IF('Hoja De Calculo'!Y13>='Hoja De Calculo'!X13,IF(X$18=100,($W$21*X$18*$B$2)-SUM($I43:W43),IF(X$18>W$19,((X$18-W$19+1)*$B$2*$W$21),IF(X$18>=W$19,$W$21*$B$2))),0) -> FALSE | Y43: =IF('Hoja De Calculo'!Z13>='Hoja De Calculo'!Y13,IF(Y$18=100,($W$21*Y$18*$B$2)-SUM($I43:X43),IF(Y$18>X$19,((Y$18-X$19+1)*$B$2*$W$21),IF(Y$18>=X$19,$W$21*$B$2))),0) -> FALSE | Z43: =IF('Hoja De Calculo'!AA13>='Hoja De Calculo'!Z13,IF(Z$18=100,($W$21*Z$18*$B$2)-SUM($I43:Y43),IF(Z$18>Y$19,((Z$18-Y$19+1)*$B$2*$W$21),IF(Z$18>=Y$19,$W$21*$B$2))),0) -> FALSE | AA43: =IF('Hoja De Calculo'!AB13>='Hoja De Calculo'!AA13,IF(AA$18=100,($W$21*AA$18*$B$2)-SUM($I43:Z43),IF(AA$18>Z$19,((AA$18-Z$19+1)*$B$2*$W$21),IF(AA$18>=Z$19,$W$21*$B$2))),0) -> FALSE | AB43: =IF('Hoja De Calculo'!AC13>='Hoja De Calculo'!AB13,IF(AB$18=100,($W$21*AB$18*$B$2)-SUM($I43:AA43),IF(AB$18>AA$19,((AB$18-AA$19+1)*$B$2*$W$21),IF(AB$18>=AA$19,$W$21*$B$2))),0) -> FALSE | AC43: =IF('Hoja De Calculo'!AD13>='Hoja De Calculo'!AC13,IF(AC$18=100,($W$21*AC$18*$B$2)-SUM($I43:AB43),IF(AC$18>AB$19,((AC$18-AB$19+1)*$B$2*$W$21),IF(AC$18>=AB$19,$W$21*$B$2))),0) -> FALSE | AD43: =IF('Hoja De Calculo'!AE13>='Hoja De Calculo'!AD13,IF(AD$18=100,($W$21*AD$18*$B$2)-SUM($I43:AC43),IF(AD$18>AC$19,((AD$18-AC$19+1)*$B$2*$W$21),IF(AD$18>=AC$19,$W$21*$B$2))),0) -> FALSE | AE43: =IF('Hoja De Calculo'!AF13>='Hoja De Calculo'!AE13,IF(AE$18=100,($W$21*AE$18*$B$2)-SUM($I43:AD43),IF(AE$18>AD$19,((AE$18-AD$19+1)*$B$2*$W$21),IF(AE$18>=AD$19,$W$21*$B$2))),0) -> FALSE | ... CW43: =IF('Hoja De Calculo'!CX13>='Hoja De Calculo'!CW13,IF(CW$18=100,($W$21*CW$18*$B$2)-SUM($I43:CV43),IF(CW$18>CV$19,((CW$18-CV$19+1)*$B$2*$W$21),IF(CW$18>=CV$19,$W$21*$B$2))),0) -> FALSE
A44: RP 23 | X44: =(X$21*$B$2*(X$19+(IF(X$19=100,0,1)))) -> 0 | Y44: =IF('Hoja De Calculo'!Z13>='Hoja De Calculo'!Y13,IF(Y$18=100,($X$21*Y$18*$B$2)-SUM($I44:X44),IF(Y$18>X$19,((Y$18-X$19+1)*$B$2*$X$21),IF(Y$18>=X$19,$X$21*$B$2))),0) -> FALSE | Z44: =IF('Hoja De Calculo'!AA13>='Hoja De Calculo'!Z13,IF(Z$18=100,($X$21*Z$18*$B$2)-SUM($I44:Y44),IF(Z$18>Y$19,((Z$18-Y$19+1)*$B$2*$X$21),IF(Z$18>=Y$19,$X$21*$B$2))),0) -> FALSE | AA44: =IF('Hoja De Calculo'!AB13>='Hoja De Calculo'!AA13,IF(AA$18=100,($X$21*AA$18*$B$2)-SUM($I44:Z44),IF(AA$18>Z$19,((AA$18-Z$19+1)*$B$2*$X$21),IF(AA$18>=Z$19,$X$21*$B$2))),0) -> FALSE | AB44: =IF('Hoja De Calculo'!AC13>='Hoja De Calculo'!AB13,IF(AB$18=100,($X$21*AB$18*$B$2)-SUM($I44:AA44),IF(AB$18>AA$19,((AB$18-AA$19+1)*$B$2*$X$21),IF(AB$18>=AA$19,$X$21*$B$2))),0) -> FALSE | AC44: =IF('Hoja De Calculo'!AD13>='Hoja De Calculo'!AC13,IF(AC$18=100,($X$21*AC$18*$B$2)-SUM($I44:AB44),IF(AC$18>AB$19,((AC$18-AB$19+1)*$B$2*$X$21),IF(AC$18>=AB$19,$X$21*$B$2))),0) -> FALSE | AD44: =IF('Hoja De Calculo'!AE13>='Hoja De Calculo'!AD13,IF(AD$18=100,($X$21*AD$18*$B$2)-SUM($I44:AC44),IF(AD$18>AC$19,((AD$18-AC$19+1)*$B$2*$X$21),IF(AD$18>=AC$19,$X$21*$B$2))),0) -> FALSE | AE44: =IF('Hoja De Calculo'!AF13>='Hoja De Calculo'!AE13,IF(AE$18=100,($X$21*AE$18*$B$2)-SUM($I44:AD44),IF(AE$18>AD$19,((AE$18-AD$19+1)*$B$2*$X$21),IF(AE$18>=AD$19,$X$21*$B$2))),0) -> FALSE | AF44: =IF('Hoja De Calculo'!AG13>='Hoja De Calculo'!AF13,IF(AF$18=100,($X$21*AF$18*$B$2)-SUM($I44:AE44),IF(AF$18>AE$19,((AF$18-AE$19+1)*$B$2*$X$21),IF(AF$18>=AE$19,$X$21*$B$2))),0) -> FALSE | ... CW44: =IF('Hoja De Calculo'!CX13>='Hoja De Calculo'!CW13,IF(CW$18=100,($X$21*CW$18*$B$2)-SUM($I44:CV44),IF(CW$18>CV$19,((CW$18-CV$19+1)*$B$2*$X$21),IF(CW$18>=CV$19,$X$21*$B$2))),0) -> FALSE
A45: RP 24 | Y45: =(Y$21*$B$2*(Y$19+(IF(Y$19=100,0,1)))) -> 0 | Z45: =IF('Hoja De Calculo'!AA13>='Hoja De Calculo'!Z13,IF(Z$18=100,($Y$21*Z$18*$B$2)-SUM($I45:Y45),IF(Z$18>Y$19,((Z$18-Y$19+1)*$B$2*$Y$21),IF(Z$18>=Y$19,$Y$21*$B$2))),0) -> FALSE | AA45: =IF('Hoja De Calculo'!AB13>='Hoja De Calculo'!AA13,IF(AA$18=100,($Y$21*AA$18*$B$2)-SUM($I45:Z45),IF(AA$18>Z$19,((AA$18-Z$19+1)*$B$2*$Y$21),IF(AA$18>=Z$19,$Y$21*$B$2))),0) -> FALSE | AB45: =IF('Hoja De Calculo'!AC13>='Hoja De Calculo'!AB13,IF(AB$18=100,($Y$21*AB$18*$B$2)-SUM($I45:AA45),IF(AB$18>AA$19,((AB$18-AA$19+1)*$B$2*$Y$21),IF(AB$18>=AA$19,$Y$21*$B$2))),0) -> FALSE | AC45: =IF('Hoja De Calculo'!AD13>='Hoja De Calculo'!AC13,IF(AC$18=100,($Y$21*AC$18*$B$2)-SUM($I45:AB45),IF(AC$18>AB$19,((AC$18-AB$19+1)*$B$2*$Y$21),IF(AC$18>=AB$19,$Y$21*$B$2))),0) -> FALSE | AD45: =IF('Hoja De Calculo'!AE13>='Hoja De Calculo'!AD13,IF(AD$18=100,($Y$21*AD$18*$B$2)-SUM($I45:AC45),IF(AD$18>AC$19,((AD$18-AC$19+1)*$B$2*$Y$21),IF(AD$18>=AC$19,$Y$21*$B$2))),0) -> FALSE | AE45: =IF('Hoja De Calculo'!AF13>='Hoja De Calculo'!AE13,IF(AE$18=100,($Y$21*AE$18*$B$2)-SUM($I45:AD45),IF(AE$18>AD$19,((AE$18-AD$19+1)*$B$2*$Y$21),IF(AE$18>=AD$19,$Y$21*$B$2))),0) -> FALSE | AF45: =IF('Hoja De Calculo'!AG13>='Hoja De Calculo'!AF13,IF(AF$18=100,($Y$21*AF$18*$B$2)-SUM($I45:AE45),IF(AF$18>AE$19,((AF$18-AE$19+1)*$B$2*$Y$21),IF(AF$18>=AE$19,$Y$21*$B$2))),0) -> FALSE | AG45: =IF('Hoja De Calculo'!AH13>='Hoja De Calculo'!AG13,IF(AG$18=100,($Y$21*AG$18*$B$2)-SUM($I45:AF45),IF(AG$18>AF$19,((AG$18-AF$19+1)*$B$2*$Y$21),IF(AG$18>=AF$19,$Y$21*$B$2))),0) -> FALSE | ... CW45: =IF('Hoja De Calculo'!CX13>='Hoja De Calculo'!CW13,IF(CW$18=100,($Y$21*CW$18*$B$2)-SUM($I45:CV45),IF(CW$18>CV$19,((CW$18-CV$19+1)*$B$2*$Y$21),IF(CW$18>=CV$19,$Y$21*$B$2))),0) -> FALSE
A46: RP 25 | Z46: =(Z$21*$B$2*(Z$19+(IF(Z$19=100,0,1)))) -> 0 | AA46: =IF('Hoja De Calculo'!AB13>='Hoja De Calculo'!AA13,IF(AA$18=100,($Z$21*AA$18*$B$2)-SUM($I46:Z46),IF(AA$18>Z$19,((AA$18-Z$19+1)*$B$2*$Z$21),IF(AA$18>=Z$19,$Z$21*$B$2))),0) -> FALSE | AB46: =IF('Hoja De Calculo'!AC13>='Hoja De Calculo'!AB13,IF(AB$18=100,($Z$21*AB$18*$B$2)-SUM($I46:AA46),IF(AB$18>AA$19,((AB$18-AA$19+1)*$B$2*$Z$21),IF(AB$18>=AA$19,$Z$21*$B$2))),0) -> FALSE | AC46: =IF('Hoja De Calculo'!AD13>='Hoja De Calculo'!AC13,IF(AC$18=100,($Z$21*AC$18*$B$2)-SUM($I46:AB46),IF(AC$18>AB$19,((AC$18-AB$19+1)*$B$2*$Z$21),IF(AC$18>=AB$19,$Z$21*$B$2))),0) -> FALSE | AD46: =IF('Hoja De Calculo'!AE13>='Hoja De Calculo'!AD13,IF(AD$18=100,($Z$21*AD$18*$B$2)-SUM($I46:AC46),IF(AD$18>AC$19,((AD$18-AC$19+1)*$B$2*$Z$21),IF(AD$18>=AC$19,$Z$21*$B$2))),0) -> FALSE | AE46: =IF('Hoja De Calculo'!AF13>='Hoja De Calculo'!AE13,IF(AE$18=100,($Z$21*AE$18*$B$2)-SUM($I46:AD46),IF(AE$18>AD$19,((AE$18-AD$19+1)*$B$2*$Z$21),IF(AE$18>=AD$19,$Z$21*$B$2))),0) -> FALSE | AF46: =IF('Hoja De Calculo'!AG13>='Hoja De Calculo'!AF13,IF(AF$18=100,($Z$21*AF$18*$B$2)-SUM($I46:AE46),IF(AF$18>AE$19,((AF$18-AE$19+1)*$B$2*$Z$21),IF(AF$18>=AE$19,$Z$21*$B$2))),0) -> FALSE | AG46: =IF('Hoja De Calculo'!AH13>='Hoja De Calculo'!AG13,IF(AG$18=100,($Z$21*AG$18*$B$2)-SUM($I46:AF46),IF(AG$18>AF$19,((AG$18-AF$19+1)*$B$2*$Z$21),IF(AG$18>=AF$19,$Z$21*$B$2))),0) -> FALSE | AH46: =IF('Hoja De Calculo'!AI13>='Hoja De Calculo'!AH13,IF(AH$18=100,($Z$21*AH$18*$B$2)-SUM($I46:AG46),IF(AH$18>AG$19,((AH$18-AG$19+1)*$B$2*$Z$21),IF(AH$18>=AG$19,$Z$21*$B$2))),0) -> FALSE | ... CW46: =IF('Hoja De Calculo'!CX13>='Hoja De Calculo'!CW13,IF(CW$18=100,($Z$21*CW$18*$B$2)-SUM($I46:CV46),IF(CW$18>CV$19,((CW$18-CV$19+1)*$B$2*$Z$21),IF(CW$18>=CV$19,$Z$21*$B$2))),0) -> FALSE
A47: RP 26 | AA47: =(AA$21*$B$2*(AA$19+(IF(AA$19=100,0,1)))) -> 0 | AB47: =IF('Hoja De Calculo'!AC13>='Hoja De Calculo'!AB13,IF(AB$18=100,($AA$21*AB$18*$B$2)-SUM($I47:AA47),IF(AB$18>AA$19,((AB$18-AA$19+1)*$B$2*$AA$21),IF(AB$18>=AA$19,$AA$21*$B$2))),0) -> FALSE | AC47: =IF('Hoja De Calculo'!AD13>='Hoja De Calculo'!AC13,IF(AC$18=100,($AA$21*AC$18*$B$2)-SUM($I47:AB47),IF(AC$18>AB$19,((AC$18-AB$19+1)*$B$2*$AA$21),IF(AC$18>=AB$19,$AA$21*$B$2))),0) -> FALSE | AD47: =IF('Hoja De Calculo'!AE13>='Hoja De Calculo'!AD13,IF(AD$18=100,($AA$21*AD$18*$B$2)-SUM($I47:AC47),IF(AD$18>AC$19,((AD$18-AC$19+1)*$B$2*$AA$21),IF(AD$18>=AC$19,$AA$21*$B$2))),0) -> FALSE | AE47: =IF('Hoja De Calculo'!AF13>='Hoja De Calculo'!AE13,IF(AE$18=100,($AA$21*AE$18*$B$2)-SUM($I47:AD47),IF(AE$18>AD$19,((AE$18-AD$19+1)*$B$2*$AA$21),IF(AE$18>=AD$19,$AA$21*$B$2))),0) -> FALSE | AF47: =IF('Hoja De Calculo'!AG13>='Hoja De Calculo'!AF13,IF(AF$18=100,($AA$21*AF$18*$B$2)-SUM($I47:AE47),IF(AF$18>AE$19,((AF$18-AE$19+1)*$B$2*$AA$21),IF(AF$18>=AE$19,$AA$21*$B$2))),0) -> FALSE | AG47: =IF('Hoja De Calculo'!AH13>='Hoja De Calculo'!AG13,IF(AG$18=100,($AA$21*AG$18*$B$2)-SUM($I47:AF47),IF(AG$18>AF$19,((AG$18-AF$19+1)*$B$2*$AA$21),IF(AG$18>=AF$19,$AA$21*$B$2))),0) -> FALSE | AH47: =IF('Hoja De Calculo'!AI13>='Hoja De Calculo'!AH13,IF(AH$18=100,($AA$21*AH$18*$B$2)-SUM($I47:AG47),IF(AH$18>AG$19,((AH$18-AG$19+1)*$B$2*$AA$21),IF(AH$18>=AG$19,$AA$21*$B$2))),0) -> FALSE | AI47: =IF('Hoja De Calculo'!AJ13>='Hoja De Calculo'!AI13,IF(AI$18=100,($AA$21*AI$18*$B$2)-SUM($I47:AH47),IF(AI$18>AH$19,((AI$18-AH$19+1)*$B$2*$AA$21),IF(AI$18>=AH$19,$AA$21*$B$2))),0) -> FALSE | ... CW47: =IF('Hoja De Calculo'!CX13>='Hoja De Calculo'!CW13,IF(CW$18=100,($AA$21*CW$18*$B$2)-SUM($I47:CV47),IF(CW$18>CV$19,((CW$18-CV$19+1)*$B$2*$AA$21),IF(CW$18>=CV$19,$AA$21*$B$2))),0) -> FALSE
A48: RP 27 | AB48: =(AB$21*$B$2*(AB$19+(IF(AB$19=100,0,1)))) -> 0 | AC48: =IF('Hoja De Calculo'!AD13>='Hoja De Calculo'!AC13,IF(AC$18=100,($AB$21*AC$18*$B$2)-SUM($I48:AB48),IF(AC$18>AB$19,((AC$18-AB$19+1)*$B$2*$AB$21),IF(AC$18>=AB$19,$AB$21*$B$2))),0) -> FALSE | AD48: =IF('Hoja De Calculo'!AE13>='Hoja De Calculo'!AD13,IF(AD$18=100,($AB$21*AD$18*$B$2)-SUM($I48:AC48),IF(AD$18>AC$19,((AD$18-AC$19+1)*$B$2*$AB$21),IF(AD$18>=AC$19,$AB$21*$B$2))),0) -> FALSE | AE48: =IF('Hoja De Calculo'!AF13>='Hoja De Calculo'!AE13,IF(AE$18=100,($AB$21*AE$18*$B$2)-SUM($I48:AD48),IF(AE$18>AD$19,((AE$18-AD$19+1)*$B$2*$AB$21),IF(AE$18>=AD$19,$AB$21*$B$2))),0) -> FALSE | AF48: =IF('Hoja De Calculo'!AG13>='Hoja De Calculo'!AF13,IF(AF$18=100,($AB$21*AF$18*$B$2)-SUM($I48:AE48),IF(AF$18>AE$19,((AF$18-AE$19+1)*$B$2*$AB$21),IF(AF$18>=AE$19,$AB$21*$B$2))),0) -> FALSE | AG48: =IF('Hoja De Calculo'!AH13>='Hoja De Calculo'!AG13,IF(AG$18=100,($AB$21*AG$18*$B$2)-SUM($I48:AF48),IF(AG$18>AF$19,((AG$18-AF$19+1)*$B$2*$AB$21),IF(AG$18>=AF$19,$AB$21*$B$2))),0) -> FALSE | AH48: =IF('Hoja De Calculo'!AI13>='Hoja De Calculo'!AH13,IF(AH$18=100,($AB$21*AH$18*$B$2)-SUM($I48:AG48),IF(AH$18>AG$19,((AH$18-AG$19+1)*$B$2*$AB$21),IF(AH$18>=AG$19,$AB$21*$B$2))),0) -> FALSE | AI48: =IF('Hoja De Calculo'!AJ13>='Hoja De Calculo'!AI13,IF(AI$18=100,($AB$21*AI$18*$B$2)-SUM($I48:AH48),IF(AI$18>AH$19,((AI$18-AH$19+1)*$B$2*$AB$21),IF(AI$18>=AH$19,$AB$21*$B$2))),0) -> FALSE | AJ48: =IF('Hoja De Calculo'!AK13>='Hoja De Calculo'!AJ13,IF(AJ$18=100,($AB$21*AJ$18*$B$2)-SUM($I48:AI48),IF(AJ$18>AI$19,((AJ$18-AI$19+1)*$B$2*$AB$21),IF(AJ$18>=AI$19,$AB$21*$B$2))),0) -> FALSE | ... CW48: =IF('Hoja De Calculo'!CX13>='Hoja De Calculo'!CW13,IF(CW$18=100,($AB$21*CW$18*$B$2)-SUM($I48:CV48),IF(CW$18>CV$19,((CW$18-CV$19+1)*$B$2*$AB$21),IF(CW$18>=CV$19,$AB$21*$B$2))),0) -> FALSE
A49: RP 28 | AC49: =(AC$21*$B$2*(AC$19+(IF(AC$19=100,0,1)))) -> 0 | AD49: =IF('Hoja De Calculo'!AE13>='Hoja De Calculo'!AD13,IF(AD$18=100,($AC$21*AD$18*$B$2)-SUM($I49:AC49),IF(AD$18>AC$19,((AD$18-AC$19+1)*$B$2*$AC$21),IF(AD$18>=AC$19,$AC$21*$B$2))),0) -> FALSE | AE49: =IF('Hoja De Calculo'!AF13>='Hoja De Calculo'!AE13,IF(AE$18=100,($AC$21*AE$18*$B$2)-SUM($I49:AD49),IF(AE$18>AD$19,((AE$18-AD$19+1)*$B$2*$AC$21),IF(AE$18>=AD$19,$AC$21*$B$2))),0) -> FALSE | AF49: =IF('Hoja De Calculo'!AG13>='Hoja De Calculo'!AF13,IF(AF$18=100,($AC$21*AF$18*$B$2)-SUM($I49:AE49),IF(AF$18>AE$19,((AF$18-AE$19+1)*$B$2*$AC$21),IF(AF$18>=AE$19,$AC$21*$B$2))),0) -> FALSE | AG49: =IF('Hoja De Calculo'!AH13>='Hoja De Calculo'!AG13,IF(AG$18=100,($AC$21*AG$18*$B$2)-SUM($I49:AF49),IF(AG$18>AF$19,((AG$18-AF$19+1)*$B$2*$AC$21),IF(AG$18>=AF$19,$AC$21*$B$2))),0) -> FALSE | AH49: =IF('Hoja De Calculo'!AI13>='Hoja De Calculo'!AH13,IF(AH$18=100,($AC$21*AH$18*$B$2)-SUM($I49:AG49),IF(AH$18>AG$19,((AH$18-AG$19+1)*$B$2*$AC$21),IF(AH$18>=AG$19,$AC$21*$B$2))),0) -> FALSE | AI49: =IF('Hoja De Calculo'!AJ13>='Hoja De Calculo'!AI13,IF(AI$18=100,($AC$21*AI$18*$B$2)-SUM($I49:AH49),IF(AI$18>AH$19,((AI$18-AH$19+1)*$B$2*$AC$21),IF(AI$18>=AH$19,$AC$21*$B$2))),0) -> FALSE | AJ49: =IF('Hoja De Calculo'!AK13>='Hoja De Calculo'!AJ13,IF(AJ$18=100,($AC$21*AJ$18*$B$2)-SUM($I49:AI49),IF(AJ$18>AI$19,((AJ$18-AI$19+1)*$B$2*$AC$21),IF(AJ$18>=AI$19,$AC$21*$B$2))),0) -> FALSE | AK49: =IF('Hoja De Calculo'!AL13>='Hoja De Calculo'!AK13,IF(AK$18=100,($AC$21*AK$18*$B$2)-SUM($I49:AJ49),IF(AK$18>AJ$19,((AK$18-AJ$19+1)*$B$2*$AC$21),IF(AK$18>=AJ$19,$AC$21*$B$2))),0) -> FALSE | ... CW49: =IF('Hoja De Calculo'!CX13>='Hoja De Calculo'!CW13,IF(CW$18=100,($AC$21*CW$18*$B$2)-SUM($I49:CV49),IF(CW$18>CV$19,((CW$18-CV$19+1)*$B$2*$AC$21),IF(CW$18>=CV$19,$AC$21*$B$2))),0) -> FALSE
A50: RP 29 | AD50: =(AD$21*$B$2*(AD$19+(IF(AD$19=100,0,1)))) -> 0 | AE50: =IF('Hoja De Calculo'!AF13>='Hoja De Calculo'!AE13,IF(AE$18=100,($AD$21*AE$18*$B$2)-SUM($I50:AD50),IF(AE$18>AD$19,((AE$18-AD$19+1)*$B$2*$AD$21),IF(AE$18>=AD$19,$AD$21*$B$2))),0) -> FALSE | AF50: =IF('Hoja De Calculo'!AG13>='Hoja De Calculo'!AF13,IF(AF$18=100,($AD$21*AF$18*$B$2)-SUM($I50:AE50),IF(AF$18>AE$19,((AF$18-AE$19+1)*$B$2*$AD$21),IF(AF$18>=AE$19,$AD$21*$B$2))),0) -> FALSE | AG50: =IF('Hoja De Calculo'!AH13>='Hoja De Calculo'!AG13,IF(AG$18=100,($AD$21*AG$18*$B$2)-SUM($I50:AF50),IF(AG$18>AF$19,((AG$18-AF$19+1)*$B$2*$AD$21),IF(AG$18>=AF$19,$AD$21*$B$2))),0) -> FALSE | AH50: =IF('Hoja De Calculo'!AI13>='Hoja De Calculo'!AH13,IF(AH$18=100,($AD$21*AH$18*$B$2)-SUM($I50:AG50),IF(AH$18>AG$19,((AH$18-AG$19+1)*$B$2*$AD$21),IF(AH$18>=AG$19,$AD$21*$B$2))),0) -> FALSE | AI50: =IF('Hoja De Calculo'!AJ13>='Hoja De Calculo'!AI13,IF(AI$18=100,($AD$21*AI$18*$B$2)-SUM($I50:AH50),IF(AI$18>AH$19,((AI$18-AH$19+1)*$B$2*$AD$21),IF(AI$18>=AH$19,$AD$21*$B$2))),0) -> FALSE | AJ50: =IF('Hoja De Calculo'!AK13>='Hoja De Calculo'!AJ13,IF(AJ$18=100,($AD$21*AJ$18*$B$2)-SUM($I50:AI50),IF(AJ$18>AI$19,((AJ$18-AI$19+1)*$B$2*$AD$21),IF(AJ$18>=AI$19,$AD$21*$B$2))),0) -> FALSE | AK50: =IF('Hoja De Calculo'!AL13>='Hoja De Calculo'!AK13,IF(AK$18=100,($AD$21*AK$18*$B$2)-SUM($I50:AJ50),IF(AK$18>AJ$19,((AK$18-AJ$19+1)*$B$2*$AD$21),IF(AK$18>=AJ$19,$AD$21*$B$2))),0) -> FALSE | AL50: =IF('Hoja De Calculo'!AM13>='Hoja De Calculo'!AL13,IF(AL$18=100,($AD$21*AL$18*$B$2)-SUM($I50:AK50),IF(AL$18>AK$19,((AL$18-AK$19+1)*$B$2*$AD$21),IF(AL$18>=AK$19,$AD$21*$B$2))),0) -> FALSE | ... CW50: =IF('Hoja De Calculo'!CX13>='Hoja De Calculo'!CW13,IF(CW$18=100,($AD$21*CW$18*$B$2)-SUM($I50:CV50),IF(CW$18>CV$19,((CW$18-CV$19+1)*$B$2*$AD$21),IF(CW$18>=CV$19,$AD$21*$B$2))),0) -> FALSE
A51: RP 30 | AE51: =(AE$21*$B$2*(AE$19+(IF(AE$19=100,0,1)))) -> 0 | AF51: =IF('Hoja De Calculo'!AG13>='Hoja De Calculo'!AF13,IF(AF$18=100,($AE$21*AF$18*$B$2)-SUM($I51:AE51),IF(AF$18>AE$19,((AF$18-AE$19+1)*$B$2*$AE$21),IF(AF$18>=AE$19,$AE$21*$B$2))),0) -> FALSE | AG51: =IF('Hoja De Calculo'!AH13>='Hoja De Calculo'!AG13,IF(AG$18=100,($AE$21*AG$18*$B$2)-SUM($I51:AF51),IF(AG$18>AF$19,((AG$18-AF$19+1)*$B$2*$AE$21),IF(AG$18>=AF$19,$AE$21*$B$2))),0) -> FALSE | AH51: =IF('Hoja De Calculo'!AI13>='Hoja De Calculo'!AH13,IF(AH$18=100,($AE$21*AH$18*$B$2)-SUM($I51:AG51),IF(AH$18>AG$19,((AH$18-AG$19+1)*$B$2*$AE$21),IF(AH$18>=AG$19,$AE$21*$B$2))),0) -> FALSE | AI51: =IF('Hoja De Calculo'!AJ13>='Hoja De Calculo'!AI13,IF(AI$18=100,($AE$21*AI$18*$B$2)-SUM($I51:AH51),IF(AI$18>AH$19,((AI$18-AH$19+1)*$B$2*$AE$21),IF(AI$18>=AH$19,$AE$21*$B$2))),0) -> FALSE | AJ51: =IF('Hoja De Calculo'!AK13>='Hoja De Calculo'!AJ13,IF(AJ$18=100,($AE$21*AJ$18*$B$2)-SUM($I51:AI51),IF(AJ$18>AI$19,((AJ$18-AI$19+1)*$B$2*$AE$21),IF(AJ$18>=AI$19,$AE$21*$B$2))),0) -> FALSE | AK51: =IF('Hoja De Calculo'!AL13>='Hoja De Calculo'!AK13,IF(AK$18=100,($AE$21*AK$18*$B$2)-SUM($I51:AJ51),IF(AK$18>AJ$19,((AK$18-AJ$19+1)*$B$2*$AE$21),IF(AK$18>=AJ$19,$AE$21*$B$2))),0) -> FALSE | AL51: =IF('Hoja De Calculo'!AM13>='Hoja De Calculo'!AL13,IF(AL$18=100,($AE$21*AL$18*$B$2)-SUM($I51:AK51),IF(AL$18>AK$19,((AL$18-AK$19+1)*$B$2*$AE$21),IF(AL$18>=AK$19,$AE$21*$B$2))),0) -> FALSE | AM51: =IF('Hoja De Calculo'!AN13>='Hoja De Calculo'!AM13,IF(AM$18=100,($AE$21*AM$18*$B$2)-SUM($I51:AL51),IF(AM$18>AL$19,((AM$18-AL$19+1)*$B$2*$AE$21),IF(AM$18>=AL$19,$AE$21*$B$2))),0) -> FALSE | ... CW51: =IF('Hoja De Calculo'!CX13>='Hoja De Calculo'!CW13,IF(CW$18=100,($AE$21*CW$18*$B$2)-SUM($I51:CV51),IF(CW$18>CV$19,((CW$18-CV$19+1)*$B$2*$AE$21),IF(CW$18>=CV$19,$AE$21*$B$2))),0) -> FALSE
A52: RP 31 | AF52: =(AF$21*$B$2*(AF$19+(IF(AF$19=100,0,1)))) -> 0 | AG52: =IF('Hoja De Calculo'!AH13>='Hoja De Calculo'!AG13,IF(AG$18=100,($AF$21*AG$18*$B$2)-SUM($I52:AF52),IF(AG$18>AF$19,((AG$18-AF$19+1)*$B$2*$AF$21),IF(AG$18>=AF$19,$AF$21*$B$2))),0) -> FALSE | AH52: =IF('Hoja De Calculo'!AI13>='Hoja De Calculo'!AH13,IF(AH$18=100,($AF$21*AH$18*$B$2)-SUM($I52:AG52),IF(AH$18>AG$19,((AH$18-AG$19+1)*$B$2*$AF$21),IF(AH$18>=AG$19,$AF$21*$B$2))),0) -> FALSE | AI52: =IF('Hoja De Calculo'!AJ13>='Hoja De Calculo'!AI13,IF(AI$18=100,($AF$21*AI$18*$B$2)-SUM($I52:AH52),IF(AI$18>AH$19,((AI$18-AH$19+1)*$B$2*$AF$21),IF(AI$18>=AH$19,$AF$21*$B$2))),0) -> FALSE | AJ52: =IF('Hoja De Calculo'!AK13>='Hoja De Calculo'!AJ13,IF(AJ$18=100,($AF$21*AJ$18*$B$2)-SUM($I52:AI52),IF(AJ$18>AI$19,((AJ$18-AI$19+1)*$B$2*$AF$21),IF(AJ$18>=AI$19,$AF$21*$B$2))),0) -> FALSE | AK52: =IF('Hoja De Calculo'!AL13>='Hoja De Calculo'!AK13,IF(AK$18=100,($AF$21*AK$18*$B$2)-SUM($I52:AJ52),IF(AK$18>AJ$19,((AK$18-AJ$19+1)*$B$2*$AF$21),IF(AK$18>=AJ$19,$AF$21*$B$2))),0) -> FALSE | AL52: =IF('Hoja De Calculo'!AM13>='Hoja De Calculo'!AL13,IF(AL$18=100,($AF$21*AL$18*$B$2)-SUM($I52:AK52),IF(AL$18>AK$19,((AL$18-AK$19+1)*$B$2*$AF$21),IF(AL$18>=AK$19,$AF$21*$B$2))),0) -> FALSE | AM52: =IF('Hoja De Calculo'!AN13>='Hoja De Calculo'!AM13,IF(AM$18=100,($AF$21*AM$18*$B$2)-SUM($I52:AL52),IF(AM$18>AL$19,((AM$18-AL$19+1)*$B$2*$AF$21),IF(AM$18>=AL$19,$AF$21*$B$2))),0) -> FALSE | AN52: =IF('Hoja De Calculo'!AO13>='Hoja De Calculo'!AN13,IF(AN$18=100,($AF$21*AN$18*$B$2)-SUM($I52:AM52),IF(AN$18>AM$19,((AN$18-AM$19+1)*$B$2*$AF$21),IF(AN$18>=AM$19,$AF$21*$B$2))),0) -> FALSE | ... CW52: =IF('Hoja De Calculo'!CX13>='Hoja De Calculo'!CW13,IF(CW$18=100,($AF$21*CW$18*$B$2)-SUM($I52:CV52),IF(CW$18>CV$19,((CW$18-CV$19+1)*$B$2*$AF$21),IF(CW$18>=CV$19,$AF$21*$B$2))),0) -> FALSE
A53: RP 32 | AG53: =(AG$21*$B$2*(AG$19+(IF(AG$19=100,0,1)))) -> 0 | AH53: =IF('Hoja De Calculo'!AI13>='Hoja De Calculo'!AH13,IF(AH$18=100,($AG$21*AH$18*$B$2)-SUM($I53:AG53),IF(AH$18>AG$19,((AH$18-AG$19+1)*$B$2*$AG$21),IF(AH$18>=AG$19,$AG$21*$B$2))),0) -> FALSE | AI53: =IF('Hoja De Calculo'!AJ13>='Hoja De Calculo'!AI13,IF(AI$18=100,($AG$21*AI$18*$B$2)-SUM($I53:AH53),IF(AI$18>AH$19,((AI$18-AH$19+1)*$B$2*$AG$21),IF(AI$18>=AH$19,$AG$21*$B$2))),0) -> FALSE | AJ53: =IF('Hoja De Calculo'!AK13>='Hoja De Calculo'!AJ13,IF(AJ$18=100,($AG$21*AJ$18*$B$2)-SUM($I53:AI53),IF(AJ$18>AI$19,((AJ$18-AI$19+1)*$B$2*$AG$21),IF(AJ$18>=AI$19,$AG$21*$B$2))),0) -> FALSE | AK53: =IF('Hoja De Calculo'!AL13>='Hoja De Calculo'!AK13,IF(AK$18=100,($AG$21*AK$18*$B$2)-SUM($I53:AJ53),IF(AK$18>AJ$19,((AK$18-AJ$19+1)*$B$2*$AG$21),IF(AK$18>=AJ$19,$AG$21*$B$2))),0) -> FALSE | AL53: =IF('Hoja De Calculo'!AM13>='Hoja De Calculo'!AL13,IF(AL$18=100,($AG$21*AL$18*$B$2)-SUM($I53:AK53),IF(AL$18>AK$19,((AL$18-AK$19+1)*$B$2*$AG$21),IF(AL$18>=AK$19,$AG$21*$B$2))),0) -> FALSE | AM53: =IF('Hoja De Calculo'!AN13>='Hoja De Calculo'!AM13,IF(AM$18=100,($AG$21*AM$18*$B$2)-SUM($I53:AL53),IF(AM$18>AL$19,((AM$18-AL$19+1)*$B$2*$AG$21),IF(AM$18>=AL$19,$AG$21*$B$2))),0) -> FALSE | AN53: =IF('Hoja De Calculo'!AO13>='Hoja De Calculo'!AN13,IF(AN$18=100,($AG$21*AN$18*$B$2)-SUM($I53:AM53),IF(AN$18>AM$19,((AN$18-AM$19+1)*$B$2*$AG$21),IF(AN$18>=AM$19,$AG$21*$B$2))),0) -> FALSE | AO53: =IF('Hoja De Calculo'!AP13>='Hoja De Calculo'!AO13,IF(AO$18=100,($AG$21*AO$18*$B$2)-SUM($I53:AN53),IF(AO$18>AN$19,((AO$18-AN$19+1)*$B$2*$AG$21),IF(AO$18>=AN$19,$AG$21*$B$2))),0) -> FALSE | ... CW53: =IF('Hoja De Calculo'!CX13>='Hoja De Calculo'!CW13,IF(CW$18=100,($AG$21*CW$18*$B$2)-SUM($I53:CV53),IF(CW$18>CV$19,((CW$18-CV$19+1)*$B$2*$AG$21),IF(CW$18>=CV$19,$AG$21*$B$2))),0) -> FALSE
A54: RP 33 | AH54: =(AH$21*$B$2*(AH$19+(IF(AH$19=100,0,1)))) -> 0 | AI54: =IF('Hoja De Calculo'!AJ13>='Hoja De Calculo'!AI13,IF(AI$18=100,($AH$21*AI$18*$B$2)-SUM($I54:AH54),IF(AI$18>AH$19,((AI$18-AH$19+1)*$B$2*$AH$21),IF(AI$18>=AH$19,$AH$21*$B$2))),0) -> FALSE | AJ54: =IF('Hoja De Calculo'!AK13>='Hoja De Calculo'!AJ13,IF(AJ$18=100,($AH$21*AJ$18*$B$2)-SUM($I54:AI54),IF(AJ$18>AI$19,((AJ$18-AI$19+1)*$B$2*$AH$21),IF(AJ$18>=AI$19,$AH$21*$B$2))),0) -> FALSE | AK54: =IF('Hoja De Calculo'!AL13>='Hoja De Calculo'!AK13,IF(AK$18=100,($AH$21*AK$18*$B$2)-SUM($I54:AJ54),IF(AK$18>AJ$19,((AK$18-AJ$19+1)*$B$2*$AH$21),IF(AK$18>=AJ$19,$AH$21*$B$2))),0) -> FALSE | AL54: =IF('Hoja De Calculo'!AM13>='Hoja De Calculo'!AL13,IF(AL$18=100,($AH$21*AL$18*$B$2)-SUM($I54:AK54),IF(AL$18>AK$19,((AL$18-AK$19+1)*$B$2*$AH$21),IF(AL$18>=AK$19,$AH$21*$B$2))),0) -> FALSE | AM54: =IF('Hoja De Calculo'!AN13>='Hoja De Calculo'!AM13,IF(AM$18=100,($AH$21*AM$18*$B$2)-SUM($I54:AL54),IF(AM$18>AL$19,((AM$18-AL$19+1)*$B$2*$AH$21),IF(AM$18>=AL$19,$AH$21*$B$2))),0) -> FALSE | AN54: =IF('Hoja De Calculo'!AO13>='Hoja De Calculo'!AN13,IF(AN$18=100,($AH$21*AN$18*$B$2)-SUM($I54:AM54),IF(AN$18>AM$19,((AN$18-AM$19+1)*$B$2*$AH$21),IF(AN$18>=AM$19,$AH$21*$B$2))),0) -> FALSE | AO54: =IF('Hoja De Calculo'!AP13>='Hoja De Calculo'!AO13,IF(AO$18=100,($AH$21*AO$18*$B$2)-SUM($I54:AN54),IF(AO$18>AN$19,((AO$18-AN$19+1)*$B$2*$AH$21),IF(AO$18>=AN$19,$AH$21*$B$2))),0) -> FALSE | AP54: =IF('Hoja De Calculo'!AQ13>='Hoja De Calculo'!AP13,IF(AP$18=100,($AH$21*AP$18*$B$2)-SUM($I54:AO54),IF(AP$18>AO$19,((AP$18-AO$19+1)*$B$2*$AH$21),IF(AP$18>=AO$19,$AH$21*$B$2))),0) -> FALSE | ... CW54: =IF('Hoja De Calculo'!CX13>='Hoja De Calculo'!CW13,IF(CW$18=100,($AH$21*CW$18*$B$2)-SUM($I54:CV54),IF(CW$18>CV$19,((CW$18-CV$19+1)*$B$2*$AH$21),IF(CW$18>=CV$19,$AH$21*$B$2))),0) -> FALSE
A55: RP 34 | AI55: =(AI$21*$B$2*(AI$19+(IF(AI$19=100,0,1)))) -> 0 | AJ55: =IF('Hoja De Calculo'!AK13>='Hoja De Calculo'!AJ13,IF(AJ$18=100,($AI$21*AJ$18*$B$2)-SUM($I55:AI55),IF(AJ$18>AI$19,((AJ$18-AI$19+1)*$B$2*$AI$21),IF(AJ$18>=AI$19,$AI$21*$B$2))),0) -> FALSE | AK55: =IF('Hoja De Calculo'!AL13>='Hoja De Calculo'!AK13,IF(AK$18=100,($AI$21*AK$18*$B$2)-SUM($I55:AJ55),IF(AK$18>AJ$19,((AK$18-AJ$19+1)*$B$2*$AI$21),IF(AK$18>=AJ$19,$AI$21*$B$2))),0) -> FALSE | AL55: =IF('Hoja De Calculo'!AM13>='Hoja De Calculo'!AL13,IF(AL$18=100,($AI$21*AL$18*$B$2)-SUM($I55:AK55),IF(AL$18>AK$19,((AL$18-AK$19+1)*$B$2*$AI$21),IF(AL$18>=AK$19,$AI$21*$B$2))),0) -> FALSE | AM55: =IF('Hoja De Calculo'!AN13>='Hoja De Calculo'!AM13,IF(AM$18=100,($AI$21*AM$18*$B$2)-SUM($I55:AL55),IF(AM$18>AL$19,((AM$18-AL$19+1)*$B$2*$AI$21),IF(AM$18>=AL$19,$AI$21*$B$2))),0) -> FALSE | AN55: =IF('Hoja De Calculo'!AO13>='Hoja De Calculo'!AN13,IF(AN$18=100,($AI$21*AN$18*$B$2)-SUM($I55:AM55),IF(AN$18>AM$19,((AN$18-AM$19+1)*$B$2*$AI$21),IF(AN$18>=AM$19,$AI$21*$B$2))),0) -> FALSE | AO55: =IF('Hoja De Calculo'!AP13>='Hoja De Calculo'!AO13,IF(AO$18=100,($AI$21*AO$18*$B$2)-SUM($I55:AN55),IF(AO$18>AN$19,((AO$18-AN$19+1)*$B$2*$AI$21),IF(AO$18>=AN$19,$AI$21*$B$2))),0) -> FALSE | AP55: =IF('Hoja De Calculo'!AQ13>='Hoja De Calculo'!AP13,IF(AP$18=100,($AI$21*AP$18*$B$2)-SUM($I55:AO55),IF(AP$18>AO$19,((AP$18-AO$19+1)*$B$2*$AI$21),IF(AP$18>=AO$19,$AI$21*$B$2))),0) -> FALSE | AQ55: =IF('Hoja De Calculo'!AR13>='Hoja De Calculo'!AQ13,IF(AQ$18=100,($AI$21*AQ$18*$B$2)-SUM($I55:AP55),IF(AQ$18>AP$19,((AQ$18-AP$19+1)*$B$2*$AI$21),IF(AQ$18>=AP$19,$AI$21*$B$2))),0) -> FALSE | ... CW55: =IF('Hoja De Calculo'!CX13>='Hoja De Calculo'!CW13,IF(CW$18=100,($AI$21*CW$18*$B$2)-SUM($I55:CV55),IF(CW$18>CV$19,((CW$18-CV$19+1)*$B$2*$AI$21),IF(CW$18>=CV$19,$AI$21*$B$2))),0) -> FALSE
A56: RP 35 | AJ56: =(AJ$21*$B$2*(AJ$19+(IF(AJ$19=100,0,1)))) -> 0 | AK56: =IF('Hoja De Calculo'!AL13>='Hoja De Calculo'!AK13,IF(AK$18=100,($AJ$21*AK$18*$B$2)-SUM($I56:AJ56),IF(AK$18>AJ$19,((AK$18-AJ$19+1)*$B$2*$AJ$21),IF(AK$18>=AJ$19,$AJ$21*$B$2))),0) -> FALSE | AL56: =IF('Hoja De Calculo'!AM13>='Hoja De Calculo'!AL13,IF(AL$18=100,($AJ$21*AL$18*$B$2)-SUM($I56:AK56),IF(AL$18>AK$19,((AL$18-AK$19+1)*$B$2*$AJ$21),IF(AL$18>=AK$19,$AJ$21*$B$2))),0) -> FALSE | AM56: =IF('Hoja De Calculo'!AN13>='Hoja De Calculo'!AM13,IF(AM$18=100,($AJ$21*AM$18*$B$2)-SUM($I56:AL56),IF(AM$18>AL$19,((AM$18-AL$19+1)*$B$2*$AJ$21),IF(AM$18>=AL$19,$AJ$21*$B$2))),0) -> FALSE | AN56: =IF('Hoja De Calculo'!AO13>='Hoja De Calculo'!AN13,IF(AN$18=100,($AJ$21*AN$18*$B$2)-SUM($I56:AM56),IF(AN$18>AM$19,((AN$18-AM$19+1)*$B$2*$AJ$21),IF(AN$18>=AM$19,$AJ$21*$B$2))),0) -> FALSE | AO56: =IF('Hoja De Calculo'!AP13>='Hoja De Calculo'!AO13,IF(AO$18=100,($AJ$21*AO$18*$B$2)-SUM($I56:AN56),IF(AO$18>AN$19,((AO$18-AN$19+1)*$B$2*$AJ$21),IF(AO$18>=AN$19,$AJ$21*$B$2))),0) -> FALSE | AP56: =IF('Hoja De Calculo'!AQ13>='Hoja De Calculo'!AP13,IF(AP$18=100,($AJ$21*AP$18*$B$2)-SUM($I56:AO56),IF(AP$18>AO$19,((AP$18-AO$19+1)*$B$2*$AJ$21),IF(AP$18>=AO$19,$AJ$21*$B$2))),0) -> FALSE | AQ56: =IF('Hoja De Calculo'!AR13>='Hoja De Calculo'!AQ13,IF(AQ$18=100,($AJ$21*AQ$18*$B$2)-SUM($I56:AP56),IF(AQ$18>AP$19,((AQ$18-AP$19+1)*$B$2*$AJ$21),IF(AQ$18>=AP$19,$AJ$21*$B$2))),0) -> FALSE | AR56: =IF('Hoja De Calculo'!AS13>='Hoja De Calculo'!AR13,IF(AR$18=100,($AJ$21*AR$18*$B$2)-SUM($I56:AQ56),IF(AR$18>AQ$19,((AR$18-AQ$19+1)*$B$2*$AJ$21),IF(AR$18>=AQ$19,$AJ$21*$B$2))),0) -> FALSE | ... CW56: =IF('Hoja De Calculo'!CX13>='Hoja De Calculo'!CW13,IF(CW$18=100,($AJ$21*CW$18*$B$2)-SUM($I56:CV56),IF(CW$18>CV$19,((CW$18-CV$19+1)*$B$2*$AJ$21),IF(CW$18>=CV$19,$AJ$21*$B$2))),0) -> FALSE
A57: RP 36 | AK57: =(AK$21*$B$2*(AK$19+(IF(AK$19=100,0,1)))) -> 0 | AL57: =IF('Hoja De Calculo'!AM13>='Hoja De Calculo'!AL13,IF(AL$18=100,($AK$21*AL$18*$B$2)-SUM($I57:AK57),IF(AL$18>AK$19,((AL$18-AK$19+1)*$B$2*$AK$21),IF(AL$18>=AK$19,$AK$21*$B$2))),0) -> FALSE | AM57: =IF('Hoja De Calculo'!AN13>='Hoja De Calculo'!AM13,IF(AM$18=100,($AK$21*AM$18*$B$2)-SUM($I57:AL57),IF(AM$18>AL$19,((AM$18-AL$19+1)*$B$2*$AK$21),IF(AM$18>=AL$19,$AK$21*$B$2))),0) -> FALSE | AN57: =IF('Hoja De Calculo'!AO13>='Hoja De Calculo'!AN13,IF(AN$18=100,($AK$21*AN$18*$B$2)-SUM($I57:AM57),IF(AN$18>AM$19,((AN$18-AM$19+1)*$B$2*$AK$21),IF(AN$18>=AM$19,$AK$21*$B$2))),0) -> FALSE | AO57: =IF('Hoja De Calculo'!AP13>='Hoja De Calculo'!AO13,IF(AO$18=100,($AK$21*AO$18*$B$2)-SUM($I57:AN57),IF(AO$18>AN$19,((AO$18-AN$19+1)*$B$2*$AK$21),IF(AO$18>=AN$19,$AK$21*$B$2))),0) -> FALSE | AP57: =IF('Hoja De Calculo'!AQ13>='Hoja De Calculo'!AP13,IF(AP$18=100,($AK$21*AP$18*$B$2)-SUM($I57:AO57),IF(AP$18>AO$19,((AP$18-AO$19+1)*$B$2*$AK$21),IF(AP$18>=AO$19,$AK$21*$B$2))),0) -> FALSE | AQ57: =IF('Hoja De Calculo'!AR13>='Hoja De Calculo'!AQ13,IF(AQ$18=100,($AK$21*AQ$18*$B$2)-SUM($I57:AP57),IF(AQ$18>AP$19,((AQ$18-AP$19+1)*$B$2*$AK$21),IF(AQ$18>=AP$19,$AK$21*$B$2))),0) -> FALSE | AR57: =IF('Hoja De Calculo'!AS13>='Hoja De Calculo'!AR13,IF(AR$18=100,($AK$21*AR$18*$B$2)-SUM($I57:AQ57),IF(AR$18>AQ$19,((AR$18-AQ$19+1)*$B$2*$AK$21),IF(AR$18>=AQ$19,$AK$21*$B$2))),0) -> FALSE | AS57: =IF('Hoja De Calculo'!AT13>='Hoja De Calculo'!AS13,IF(AS$18=100,($AK$21*AS$18*$B$2)-SUM($I57:AR57),IF(AS$18>AR$19,((AS$18-AR$19+1)*$B$2*$AK$21),IF(AS$18>=AR$19,$AK$21*$B$2))),0) -> FALSE | ... CW57: =IF('Hoja De Calculo'!CX13>='Hoja De Calculo'!CW13,IF(CW$18=100,($AK$21*CW$18*$B$2)-SUM($I57:CV57),IF(CW$18>CV$19,((CW$18-CV$19+1)*$B$2*$AK$21),IF(CW$18>=CV$19,$AK$21*$B$2))),0) -> FALSE
A58: RP 37 | AL58: =(AL$21*$B$2*(AL$19+(IF(AL$19=100,0,1)))) -> 0 | AM58: =IF('Hoja De Calculo'!AN13>='Hoja De Calculo'!AM13,IF(AM$18=100,($AL$21*AM$18*$B$2)-SUM($I58:AL58),IF(AM$18>AL$19,((AM$18-AL$19+1)*$B$2*$AL$21),IF(AM$18>=AL$19,$AL$21*$B$2))),0) -> FALSE | AN58: =IF('Hoja De Calculo'!AO13>='Hoja De Calculo'!AN13,IF(AN$18=100,($AL$21*AN$18*$B$2)-SUM($I58:AM58),IF(AN$18>AM$19,((AN$18-AM$19+1)*$B$2*$AL$21),IF(AN$18>=AM$19,$AL$21*$B$2))),0) -> FALSE | AO58: =IF('Hoja De Calculo'!AP13>='Hoja De Calculo'!AO13,IF(AO$18=100,($AL$21*AO$18*$B$2)-SUM($I58:AN58),IF(AO$18>AN$19,((AO$18-AN$19+1)*$B$2*$AL$21),IF(AO$18>=AN$19,$AL$21*$B$2))),0) -> FALSE | AP58: =IF('Hoja De Calculo'!AQ13>='Hoja De Calculo'!AP13,IF(AP$18=100,($AL$21*AP$18*$B$2)-SUM($I58:AO58),IF(AP$18>AO$19,((AP$18-AO$19+1)*$B$2*$AL$21),IF(AP$18>=AO$19,$AL$21*$B$2))),0) -> FALSE | AQ58: =IF('Hoja De Calculo'!AR13>='Hoja De Calculo'!AQ13,IF(AQ$18=100,($AL$21*AQ$18*$B$2)-SUM($I58:AP58),IF(AQ$18>AP$19,((AQ$18-AP$19+1)*$B$2*$AL$21),IF(AQ$18>=AP$19,$AL$21*$B$2))),0) -> FALSE | AR58: =IF('Hoja De Calculo'!AS13>='Hoja De Calculo'!AR13,IF(AR$18=100,($AL$21*AR$18*$B$2)-SUM($I58:AQ58),IF(AR$18>AQ$19,((AR$18-AQ$19+1)*$B$2*$AL$21),IF(AR$18>=AQ$19,$AL$21*$B$2))),0) -> FALSE | AS58: =IF('Hoja De Calculo'!AT13>='Hoja De Calculo'!AS13,IF(AS$18=100,($AL$21*AS$18*$B$2)-SUM($I58:AR58),IF(AS$18>AR$19,((AS$18-AR$19+1)*$B$2*$AL$21),IF(AS$18>=AR$19,$AL$21*$B$2))),0) -> FALSE | AT58: =IF('Hoja De Calculo'!AU13>='Hoja De Calculo'!AT13,IF(AT$18=100,($AL$21*AT$18*$B$2)-SUM($I58:AS58),IF(AT$18>AS$19,((AT$18-AS$19+1)*$B$2*$AL$21),IF(AT$18>=AS$19,$AL$21*$B$2))),0) -> FALSE | ... CW58: =IF('Hoja De Calculo'!CX13>='Hoja De Calculo'!CW13,IF(CW$18=100,($AL$21*CW$18*$B$2)-SUM($I58:CV58),IF(CW$18>CV$19,((CW$18-CV$19+1)*$B$2*$AL$21),IF(CW$18>=CV$19,$AL$21*$B$2))),0) -> FALSE
A59: RP 38 | AM59: =(AM$21*$B$2*(AM$19+(IF(AM$19=100,0,1)))) -> 0 | AN59: =IF('Hoja De Calculo'!AO13>='Hoja De Calculo'!AN13,IF(AN$18=100,($AM$21*AN$18*$B$2)-SUM($I59:AM59),IF(AN$18>AM$19,((AN$18-AM$19+1)*$B$2*$AM$21),IF(AN$18>=AM$19,$AM$21*$B$2))),0) -> FALSE | AO59: =IF('Hoja De Calculo'!AP13>='Hoja De Calculo'!AO13,IF(AO$18=100,($AM$21*AO$18*$B$2)-SUM($I59:AN59),IF(AO$18>AN$19,((AO$18-AN$19+1)*$B$2*$AM$21),IF(AO$18>=AN$19,$AM$21*$B$2))),0) -> FALSE | AP59: =IF('Hoja De Calculo'!AQ13>='Hoja De Calculo'!AP13,IF(AP$18=100,($AM$21*AP$18*$B$2)-SUM($I59:AO59),IF(AP$18>AO$19,((AP$18-AO$19+1)*$B$2*$AM$21),IF(AP$18>=AO$19,$AM$21*$B$2))),0) -> FALSE | AQ59: =IF('Hoja De Calculo'!AR13>='Hoja De Calculo'!AQ13,IF(AQ$18=100,($AM$21*AQ$18*$B$2)-SUM($I59:AP59),IF(AQ$18>AP$19,((AQ$18-AP$19+1)*$B$2*$AM$21),IF(AQ$18>=AP$19,$AM$21*$B$2))),0) -> FALSE | AR59: =IF('Hoja De Calculo'!AS13>='Hoja De Calculo'!AR13,IF(AR$18=100,($AM$21*AR$18*$B$2)-SUM($I59:AQ59),IF(AR$18>AQ$19,((AR$18-AQ$19+1)*$B$2*$AM$21),IF(AR$18>=AQ$19,$AM$21*$B$2))),0) -> FALSE | AS59: =IF('Hoja De Calculo'!AT13>='Hoja De Calculo'!AS13,IF(AS$18=100,($AM$21*AS$18*$B$2)-SUM($I59:AR59),IF(AS$18>AR$19,((AS$18-AR$19+1)*$B$2*$AM$21),IF(AS$18>=AR$19,$AM$21*$B$2))),0) -> FALSE | AT59: =IF('Hoja De Calculo'!AU13>='Hoja De Calculo'!AT13,IF(AT$18=100,($AM$21*AT$18*$B$2)-SUM($I59:AS59),IF(AT$18>AS$19,((AT$18-AS$19+1)*$B$2*$AM$21),IF(AT$18>=AS$19,$AM$21*$B$2))),0) -> FALSE | AU59: =IF('Hoja De Calculo'!AV13>='Hoja De Calculo'!AU13,IF(AU$18=100,($AM$21*AU$18*$B$2)-SUM($I59:AT59),IF(AU$18>AT$19,((AU$18-AT$19+1)*$B$2*$AM$21),IF(AU$18>=AT$19,$AM$21*$B$2))),0) -> FALSE | ... CW59: =IF('Hoja De Calculo'!CX13>='Hoja De Calculo'!CW13,IF(CW$18=100,($AM$21*CW$18*$B$2)-SUM($I59:CV59),IF(CW$18>CV$19,((CW$18-CV$19+1)*$B$2*$AM$21),IF(CW$18>=CV$19,$AM$21*$B$2))),0) -> FALSE
A60: RP 39 | AN60: =(AN$21*$B$2*(AN$19+(IF(AN$19=100,0,1)))) -> 0 | AO60: =IF('Hoja De Calculo'!AP13>='Hoja De Calculo'!AO13,IF(AO$18=100,($AN$21*AO$18*$B$2)-SUM($I60:AN60),IF(AO$18>AN$19,((AO$18-AN$19+1)*$B$2*$AN$21),IF(AO$18>=AN$19,$AN$21*$B$2))),0) -> FALSE | AP60: =IF('Hoja De Calculo'!AQ13>='Hoja De Calculo'!AP13,IF(AP$18=100,($AN$21*AP$18*$B$2)-SUM($I60:AO60),IF(AP$18>AO$19,((AP$18-AO$19+1)*$B$2*$AN$21),IF(AP$18>=AO$19,$AN$21*$B$2))),0) -> FALSE | AQ60: =IF('Hoja De Calculo'!AR13>='Hoja De Calculo'!AQ13,IF(AQ$18=100,($AN$21*AQ$18*$B$2)-SUM($I60:AP60),IF(AQ$18>AP$19,((AQ$18-AP$19+1)*$B$2*$AN$21),IF(AQ$18>=AP$19,$AN$21*$B$2))),0) -> FALSE | AR60: =IF('Hoja De Calculo'!AS13>='Hoja De Calculo'!AR13,IF(AR$18=100,($AN$21*AR$18*$B$2)-SUM($I60:AQ60),IF(AR$18>AQ$19,((AR$18-AQ$19+1)*$B$2*$AN$21),IF(AR$18>=AQ$19,$AN$21*$B$2))),0) -> FALSE | AS60: =IF('Hoja De Calculo'!AT13>='Hoja De Calculo'!AS13,IF(AS$18=100,($AN$21*AS$18*$B$2)-SUM($I60:AR60),IF(AS$18>AR$19,((AS$18-AR$19+1)*$B$2*$AN$21),IF(AS$18>=AR$19,$AN$21*$B$2))),0) -> FALSE | AT60: =IF('Hoja De Calculo'!AU13>='Hoja De Calculo'!AT13,IF(AT$18=100,($AN$21*AT$18*$B$2)-SUM($I60:AS60),IF(AT$18>AS$19,((AT$18-AS$19+1)*$B$2*$AN$21),IF(AT$18>=AS$19,$AN$21*$B$2))),0) -> FALSE | AU60: =IF('Hoja De Calculo'!AV13>='Hoja De Calculo'!AU13,IF(AU$18=100,($AN$21*AU$18*$B$2)-SUM($I60:AT60),IF(AU$18>AT$19,((AU$18-AT$19+1)*$B$2*$AN$21),IF(AU$18>=AT$19,$AN$21*$B$2))),0) -> FALSE | AV60: =IF('Hoja De Calculo'!AW13>='Hoja De Calculo'!AV13,IF(AV$18=100,($AN$21*AV$18*$B$2)-SUM($I60:AU60),IF(AV$18>AU$19,((AV$18-AU$19+1)*$B$2*$AN$21),IF(AV$18>=AU$19,$AN$21*$B$2))),0) -> FALSE | ... CW60: =IF('Hoja De Calculo'!CX13>='Hoja De Calculo'!CW13,IF(CW$18=100,($AN$21*CW$18*$B$2)-SUM($I60:CV60),IF(CW$18>CV$19,((CW$18-CV$19+1)*$B$2*$AN$21),IF(CW$18>=CV$19,$AN$21*$B$2))),0) -> FALSE
A61: RP 40 | AO61: =(AO$21*$B$2*(AO$19+(IF(AO$19=100,0,1)))) -> 0 | AP61: =IF('Hoja De Calculo'!AQ13>='Hoja De Calculo'!AP13,IF(AP$18=100,($AO$21*AP$18*$B$2)-SUM($I61:AO61),IF(AP$18>AO$19,((AP$18-AO$19+1)*$B$2*$AO$21),IF(AP$18>=AO$19,$AO$21*$B$2))),0) -> FALSE | AQ61: =IF('Hoja De Calculo'!AR13>='Hoja De Calculo'!AQ13,IF(AQ$18=100,($AO$21*AQ$18*$B$2)-SUM($I61:AP61),IF(AQ$18>AP$19,((AQ$18-AP$19+1)*$B$2*$AO$21),IF(AQ$18>=AP$19,$AO$21*$B$2))),0) -> FALSE | AR61: =IF('Hoja De Calculo'!AS13>='Hoja De Calculo'!AR13,IF(AR$18=100,($AO$21*AR$18*$B$2)-SUM($I61:AQ61),IF(AR$18>AQ$19,((AR$18-AQ$19+1)*$B$2*$AO$21),IF(AR$18>=AQ$19,$AO$21*$B$2))),0) -> FALSE | AS61: =IF('Hoja De Calculo'!AT13>='Hoja De Calculo'!AS13,IF(AS$18=100,($AO$21*AS$18*$B$2)-SUM($I61:AR61),IF(AS$18>AR$19,((AS$18-AR$19+1)*$B$2*$AO$21),IF(AS$18>=AR$19,$AO$21*$B$2))),0) -> FALSE | AT61: =IF('Hoja De Calculo'!AU13>='Hoja De Calculo'!AT13,IF(AT$18=100,($AO$21*AT$18*$B$2)-SUM($I61:AS61),IF(AT$18>AS$19,((AT$18-AS$19+1)*$B$2*$AO$21),IF(AT$18>=AS$19,$AO$21*$B$2))),0) -> FALSE | AU61: =IF('Hoja De Calculo'!AV13>='Hoja De Calculo'!AU13,IF(AU$18=100,($AO$21*AU$18*$B$2)-SUM($I61:AT61),IF(AU$18>AT$19,((AU$18-AT$19+1)*$B$2*$AO$21),IF(AU$18>=AT$19,$AO$21*$B$2))),0) -> FALSE | AV61: =IF('Hoja De Calculo'!AW13>='Hoja De Calculo'!AV13,IF(AV$18=100,($AO$21*AV$18*$B$2)-SUM($I61:AU61),IF(AV$18>AU$19,((AV$18-AU$19+1)*$B$2*$AO$21),IF(AV$18>=AU$19,$AO$21*$B$2))),0) -> FALSE | AW61: =IF('Hoja De Calculo'!AX13>='Hoja De Calculo'!AW13,IF(AW$18=100,($AO$21*AW$18*$B$2)-SUM($I61:AV61),IF(AW$18>AV$19,((AW$18-AV$19+1)*$B$2*$AO$21),IF(AW$18>=AV$19,$AO$21*$B$2))),0) -> FALSE | ... CW61: =IF('Hoja De Calculo'!CX13>='Hoja De Calculo'!CW13,IF(CW$18=100,($AO$21*CW$18*$B$2)-SUM($I61:CV61),IF(CW$18>CV$19,((CW$18-CV$19+1)*$B$2*$AO$21),IF(CW$18>=CV$19,$AO$21*$B$2))),0) -> FALSE
A62: RP 41 | AP62: =(AP$21*$B$2*(AP$19+(IF(AP$19=100,0,1)))) -> 0 | AQ62: =IF('Hoja De Calculo'!AR13>='Hoja De Calculo'!AQ13,IF(AQ$18=100,($AP$21*AQ$18*$B$2)-SUM($I62:AP62),IF(AQ$18>AP$19,((AQ$18-AP$19+1)*$B$2*$AP$21),IF(AQ$18>=AP$19,$AP$21*$B$2))),0) -> FALSE | AR62: =IF('Hoja De Calculo'!AS13>='Hoja De Calculo'!AR13,IF(AR$18=100,($AP$21*AR$18*$B$2)-SUM($I62:AQ62),IF(AR$18>AQ$19,((AR$18-AQ$19+1)*$B$2*$AP$21),IF(AR$18>=AQ$19,$AP$21*$B$2))),0) -> FALSE | AS62: =IF('Hoja De Calculo'!AT13>='Hoja De Calculo'!AS13,IF(AS$18=100,($AP$21*AS$18*$B$2)-SUM($I62:AR62),IF(AS$18>AR$19,((AS$18-AR$19+1)*$B$2*$AP$21),IF(AS$18>=AR$19,$AP$21*$B$2))),0) -> FALSE | AT62: =IF('Hoja De Calculo'!AU13>='Hoja De Calculo'!AT13,IF(AT$18=100,($AP$21*AT$18*$B$2)-SUM($I62:AS62),IF(AT$18>AS$19,((AT$18-AS$19+1)*$B$2*$AP$21),IF(AT$18>=AS$19,$AP$21*$B$2))),0) -> FALSE | AU62: =IF('Hoja De Calculo'!AV13>='Hoja De Calculo'!AU13,IF(AU$18=100,($AP$21*AU$18*$B$2)-SUM($I62:AT62),IF(AU$18>AT$19,((AU$18-AT$19+1)*$B$2*$AP$21),IF(AU$18>=AT$19,$AP$21*$B$2))),0) -> FALSE | AV62: =IF('Hoja De Calculo'!AW13>='Hoja De Calculo'!AV13,IF(AV$18=100,($AP$21*AV$18*$B$2)-SUM($I62:AU62),IF(AV$18>AU$19,((AV$18-AU$19+1)*$B$2*$AP$21),IF(AV$18>=AU$19,$AP$21*$B$2))),0) -> FALSE | AW62: =IF('Hoja De Calculo'!AX13>='Hoja De Calculo'!AW13,IF(AW$18=100,($AP$21*AW$18*$B$2)-SUM($I62:AV62),IF(AW$18>AV$19,((AW$18-AV$19+1)*$B$2*$AP$21),IF(AW$18>=AV$19,$AP$21*$B$2))),0) -> FALSE | AX62: =IF('Hoja De Calculo'!AY13>='Hoja De Calculo'!AX13,IF(AX$18=100,($AP$21*AX$18*$B$2)-SUM($I62:AW62),IF(AX$18>AW$19,((AX$18-AW$19+1)*$B$2*$AP$21),IF(AX$18>=AW$19,$AP$21*$B$2))),0) -> FALSE | ... CW62: =IF('Hoja De Calculo'!CX13>='Hoja De Calculo'!CW13,IF(CW$18=100,($AP$21*CW$18*$B$2)-SUM($I62:CV62),IF(CW$18>CV$19,((CW$18-CV$19+1)*$B$2*$AP$21),IF(CW$18>=CV$19,$AP$21*$B$2))),0) -> FALSE
A63: RP 42 | AQ63: =(AQ$21*$B$2*(AQ$19+(IF(AQ$19=100,0,1)))) -> 0 | AR63: =IF('Hoja De Calculo'!AS13>='Hoja De Calculo'!AR13,IF(AR$18=100,($AQ$21*AR$18*$B$2)-SUM($I63:AQ63),IF(AR$18>AQ$19,((AR$18-AQ$19+1)*$B$2*$AQ$21),IF(AR$18>=AQ$19,$AQ$21*$B$2))),0) -> FALSE | AS63: =IF('Hoja De Calculo'!AT13>='Hoja De Calculo'!AS13,IF(AS$18=100,($AQ$21*AS$18*$B$2)-SUM($I63:AR63),IF(AS$18>AR$19,((AS$18-AR$19+1)*$B$2*$AQ$21),IF(AS$18>=AR$19,$AQ$21*$B$2))),0) -> FALSE | AT63: =IF('Hoja De Calculo'!AU13>='Hoja De Calculo'!AT13,IF(AT$18=100,($AQ$21*AT$18*$B$2)-SUM($I63:AS63),IF(AT$18>AS$19,((AT$18-AS$19+1)*$B$2*$AQ$21),IF(AT$18>=AS$19,$AQ$21*$B$2))),0) -> FALSE | AU63: =IF('Hoja De Calculo'!AV13>='Hoja De Calculo'!AU13,IF(AU$18=100,($AQ$21*AU$18*$B$2)-SUM($I63:AT63),IF(AU$18>AT$19,((AU$18-AT$19+1)*$B$2*$AQ$21),IF(AU$18>=AT$19,$AQ$21*$B$2))),0) -> FALSE | AV63: =IF('Hoja De Calculo'!AW13>='Hoja De Calculo'!AV13,IF(AV$18=100,($AQ$21*AV$18*$B$2)-SUM($I63:AU63),IF(AV$18>AU$19,((AV$18-AU$19+1)*$B$2*$AQ$21),IF(AV$18>=AU$19,$AQ$21*$B$2))),0) -> FALSE | AW63: =IF('Hoja De Calculo'!AX13>='Hoja De Calculo'!AW13,IF(AW$18=100,($AQ$21*AW$18*$B$2)-SUM($I63:AV63),IF(AW$18>AV$19,((AW$18-AV$19+1)*$B$2*$AQ$21),IF(AW$18>=AV$19,$AQ$21*$B$2))),0) -> FALSE | AX63: =IF('Hoja De Calculo'!AY13>='Hoja De Calculo'!AX13,IF(AX$18=100,($AQ$21*AX$18*$B$2)-SUM($I63:AW63),IF(AX$18>AW$19,((AX$18-AW$19+1)*$B$2*$AQ$21),IF(AX$18>=AW$19,$AQ$21*$B$2))),0) -> FALSE | AY63: =IF('Hoja De Calculo'!AZ13>='Hoja De Calculo'!AY13,IF(AY$18=100,($AQ$21*AY$18*$B$2)-SUM($I63:AX63),IF(AY$18>AX$19,((AY$18-AX$19+1)*$B$2*$AQ$21),IF(AY$18>=AX$19,$AQ$21*$B$2))),0) -> FALSE | ... CW63: =IF('Hoja De Calculo'!CX13>='Hoja De Calculo'!CW13,IF(CW$18=100,($AQ$21*CW$18*$B$2)-SUM($I63:CV63),IF(CW$18>CV$19,((CW$18-CV$19+1)*$B$2*$AQ$21),IF(CW$18>=CV$19,$AQ$21*$B$2))),0) -> FALSE
A64: RP 43 | AR64: =(AR$21*$B$2*(AR$19+(IF(AR$19=100,0,1)))) -> 0 | AS64: =IF('Hoja De Calculo'!AT13>='Hoja De Calculo'!AS13,IF(AS$18=100,($AR$21*AS$18*$B$2)-SUM($I64:AR64),IF(AS$18>AR$19,((AS$18-AR$19+1)*$B$2*$AR$21),IF(AS$18>=AR$19,$AR$21*$B$2))),0) -> FALSE | AT64: =IF('Hoja De Calculo'!AU13>='Hoja De Calculo'!AT13,IF(AT$18=100,($AR$21*AT$18*$B$2)-SUM($I64:AS64),IF(AT$18>AS$19,((AT$18-AS$19+1)*$B$2*$AR$21),IF(AT$18>=AS$19,$AR$21*$B$2))),0) -> FALSE | AU64: =IF('Hoja De Calculo'!AV13>='Hoja De Calculo'!AU13,IF(AU$18=100,($AR$21*AU$18*$B$2)-SUM($I64:AT64),IF(AU$18>AT$19,((AU$18-AT$19+1)*$B$2*$AR$21),IF(AU$18>=AT$19,$AR$21*$B$2))),0) -> FALSE | AV64: =IF('Hoja De Calculo'!AW13>='Hoja De Calculo'!AV13,IF(AV$18=100,($AR$21*AV$18*$B$2)-SUM($I64:AU64),IF(AV$18>AU$19,((AV$18-AU$19+1)*$B$2*$AR$21),IF(AV$18>=AU$19,$AR$21*$B$2))),0) -> FALSE | AW64: =IF('Hoja De Calculo'!AX13>='Hoja De Calculo'!AW13,IF(AW$18=100,($AR$21*AW$18*$B$2)-SUM($I64:AV64),IF(AW$18>AV$19,((AW$18-AV$19+1)*$B$2*$AR$21),IF(AW$18>=AV$19,$AR$21*$B$2))),0) -> FALSE | AX64: =IF('Hoja De Calculo'!AY13>='Hoja De Calculo'!AX13,IF(AX$18=100,($AR$21*AX$18*$B$2)-SUM($I64:AW64),IF(AX$18>AW$19,((AX$18-AW$19+1)*$B$2*$AR$21),IF(AX$18>=AW$19,$AR$21*$B$2))),0) -> FALSE | AY64: =IF('Hoja De Calculo'!AZ13>='Hoja De Calculo'!AY13,IF(AY$18=100,($AR$21*AY$18*$B$2)-SUM($I64:AX64),IF(AY$18>AX$19,((AY$18-AX$19+1)*$B$2*$AR$21),IF(AY$18>=AX$19,$AR$21*$B$2))),0) -> FALSE | AZ64: =IF('Hoja De Calculo'!BA13>='Hoja De Calculo'!AZ13,IF(AZ$18=100,($AR$21*AZ$18*$B$2)-SUM($I64:AY64),IF(AZ$18>AY$19,((AZ$18-AY$19+1)*$B$2*$AR$21),IF(AZ$18>=AY$19,$AR$21*$B$2))),0) -> FALSE | ... CW64: =IF('Hoja De Calculo'!CX13>='Hoja De Calculo'!CW13,IF(CW$18=100,($AR$21*CW$18*$B$2)-SUM($I64:CV64),IF(CW$18>CV$19,((CW$18-CV$19+1)*$B$2*$AR$21),IF(CW$18>=CV$19,$AR$21*$B$2))),0) -> FALSE
A65: RP 44 | AS65: =(AS$21*$B$2*(AS$19+(IF(AS$19=100,0,1)))) -> 0 | AT65: =IF('Hoja De Calculo'!AU13>='Hoja De Calculo'!AT13,IF(AT$18=100,($AS$21*AT$18*$B$2)-SUM($I65:AS65),IF(AT$18>AS$19,((AT$18-AS$19+1)*$B$2*$AS$21),IF(AT$18>=AS$19,$AS$21*$B$2))),0) -> FALSE | AU65: =IF('Hoja De Calculo'!AV13>='Hoja De Calculo'!AU13,IF(AU$18=100,($AS$21*AU$18*$B$2)-SUM($I65:AT65),IF(AU$18>AT$19,((AU$18-AT$19+1)*$B$2*$AS$21),IF(AU$18>=AT$19,$AS$21*$B$2))),0) -> FALSE | AV65: =IF('Hoja De Calculo'!AW13>='Hoja De Calculo'!AV13,IF(AV$18=100,($AS$21*AV$18*$B$2)-SUM($I65:AU65),IF(AV$18>AU$19,((AV$18-AU$19+1)*$B$2*$AS$21),IF(AV$18>=AU$19,$AS$21*$B$2))),0) -> FALSE | AW65: =IF('Hoja De Calculo'!AX13>='Hoja De Calculo'!AW13,IF(AW$18=100,($AS$21*AW$18*$B$2)-SUM($I65:AV65),IF(AW$18>AV$19,((AW$18-AV$19+1)*$B$2*$AS$21),IF(AW$18>=AV$19,$AS$21*$B$2))),0) -> FALSE | AX65: =IF('Hoja De Calculo'!AY13>='Hoja De Calculo'!AX13,IF(AX$18=100,($AS$21*AX$18*$B$2)-SUM($I65:AW65),IF(AX$18>AW$19,((AX$18-AW$19+1)*$B$2*$AS$21),IF(AX$18>=AW$19,$AS$21*$B$2))),0) -> FALSE | AY65: =IF('Hoja De Calculo'!AZ13>='Hoja De Calculo'!AY13,IF(AY$18=100,($AS$21*AY$18*$B$2)-SUM($I65:AX65),IF(AY$18>AX$19,((AY$18-AX$19+1)*$B$2*$AS$21),IF(AY$18>=AX$19,$AS$21*$B$2))),0) -> FALSE | AZ65: =IF('Hoja De Calculo'!BA13>='Hoja De Calculo'!AZ13,IF(AZ$18=100,($AS$21*AZ$18*$B$2)-SUM($I65:AY65),IF(AZ$18>AY$19,((AZ$18-AY$19+1)*$B$2*$AS$21),IF(AZ$18>=AY$19,$AS$21*$B$2))),0) -> FALSE | BA65: =IF('Hoja De Calculo'!BB13>='Hoja De Calculo'!BA13,IF(BA$18=100,($AS$21*BA$18*$B$2)-SUM($I65:AZ65),IF(BA$18>AZ$19,((BA$18-AZ$19+1)*$B$2*$AS$21),IF(BA$18>=AZ$19,$AS$21*$B$2))),0) -> FALSE | ... CW65: =IF('Hoja De Calculo'!CX13>='Hoja De Calculo'!CW13,IF(CW$18=100,($AS$21*CW$18*$B$2)-SUM($I65:CV65),IF(CW$18>CV$19,((CW$18-CV$19+1)*$B$2*$AS$21),IF(CW$18>=CV$19,$AS$21*$B$2))),0) -> FALSE
A66: RP 45 | AT66: =(AT$21*$B$2*(AT$19+(IF(AT$19=100,0,1)))) -> 0 | AU66: =IF('Hoja De Calculo'!AV13>='Hoja De Calculo'!AU13,IF(AU$18=100,($AT$21*AU$18*$B$2)-SUM($I66:AT66),IF(AU$18>AT$19,((AU$18-AT$19+1)*$B$2*$AT$21),IF(AU$18>=AT$19,$AT$21*$B$2))),0) -> FALSE | AV66: =IF('Hoja De Calculo'!AW13>='Hoja De Calculo'!AV13,IF(AV$18=100,($AT$21*AV$18*$B$2)-SUM($I66:AU66),IF(AV$18>AU$19,((AV$18-AU$19+1)*$B$2*$AT$21),IF(AV$18>=AU$19,$AT$21*$B$2))),0) -> FALSE | AW66: =IF('Hoja De Calculo'!AX13>='Hoja De Calculo'!AW13,IF(AW$18=100,($AT$21*AW$18*$B$2)-SUM($I66:AV66),IF(AW$18>AV$19,((AW$18-AV$19+1)*$B$2*$AT$21),IF(AW$18>=AV$19,$AT$21*$B$2))),0) -> FALSE | AX66: =IF('Hoja De Calculo'!AY13>='Hoja De Calculo'!AX13,IF(AX$18=100,($AT$21*AX$18*$B$2)-SUM($I66:AW66),IF(AX$18>AW$19,((AX$18-AW$19+1)*$B$2*$AT$21),IF(AX$18>=AW$19,$AT$21*$B$2))),0) -> FALSE | AY66: =IF('Hoja De Calculo'!AZ13>='Hoja De Calculo'!AY13,IF(AY$18=100,($AT$21*AY$18*$B$2)-SUM($I66:AX66),IF(AY$18>AX$19,((AY$18-AX$19+1)*$B$2*$AT$21),IF(AY$18>=AX$19,$AT$21*$B$2))),0) -> FALSE | AZ66: =IF('Hoja De Calculo'!BA13>='Hoja De Calculo'!AZ13,IF(AZ$18=100,($AT$21*AZ$18*$B$2)-SUM($I66:AY66),IF(AZ$18>AY$19,((AZ$18-AY$19+1)*$B$2*$AT$21),IF(AZ$18>=AY$19,$AT$21*$B$2))),0) -> FALSE | BA66: =IF('Hoja De Calculo'!BB13>='Hoja De Calculo'!BA13,IF(BA$18=100,($AT$21*BA$18*$B$2)-SUM($I66:AZ66),IF(BA$18>AZ$19,((BA$18-AZ$19+1)*$B$2*$AT$21),IF(BA$18>=AZ$19,$AT$21*$B$2))),0) -> FALSE | BB66: =IF('Hoja De Calculo'!BC13>='Hoja De Calculo'!BB13,IF(BB$18=100,($AT$21*BB$18*$B$2)-SUM($I66:BA66),IF(BB$18>BA$19,((BB$18-BA$19+1)*$B$2*$AT$21),IF(BB$18>=BA$19,$AT$21*$B$2))),0) -> FALSE | ... CW66: =IF('Hoja De Calculo'!CX13>='Hoja De Calculo'!CW13,IF(CW$18=100,($AT$21*CW$18*$B$2)-SUM($I66:CV66),IF(CW$18>CV$19,((CW$18-CV$19+1)*$B$2*$AT$21),IF(CW$18>=CV$19,$AT$21*$B$2))),0) -> FALSE
A67: RP 46 | AU67: =(AU$21*$B$2*(AU$19+(IF(AU$19=100,0,1)))) -> 0 | AV67: =IF('Hoja De Calculo'!AW13>='Hoja De Calculo'!AV13,IF(AV$18=100,($AU$21*AV$18*$B$2)-SUM($I67:AU67),IF(AV$18>AU$19,((AV$18-AU$19+1)*$B$2*$AU$21),IF(AV$18>=AU$19,$AU$21*$B$2))),0) -> FALSE | AW67: =IF('Hoja De Calculo'!AX13>='Hoja De Calculo'!AW13,IF(AW$18=100,($AU$21*AW$18*$B$2)-SUM($I67:AV67),IF(AW$18>AV$19,((AW$18-AV$19+1)*$B$2*$AU$21),IF(AW$18>=AV$19,$AU$21*$B$2))),0) -> FALSE | AX67: =IF('Hoja De Calculo'!AY13>='Hoja De Calculo'!AX13,IF(AX$18=100,($AU$21*AX$18*$B$2)-SUM($I67:AW67),IF(AX$18>AW$19,((AX$18-AW$19+1)*$B$2*$AU$21),IF(AX$18>=AW$19,$AU$21*$B$2))),0) -> FALSE | AY67: =IF('Hoja De Calculo'!AZ13>='Hoja De Calculo'!AY13,IF(AY$18=100,($AU$21*AY$18*$B$2)-SUM($I67:AX67),IF(AY$18>AX$19,((AY$18-AX$19+1)*$B$2*$AU$21),IF(AY$18>=AX$19,$AU$21*$B$2))),0) -> FALSE | AZ67: =IF('Hoja De Calculo'!BA13>='Hoja De Calculo'!AZ13,IF(AZ$18=100,($AU$21*AZ$18*$B$2)-SUM($I67:AY67),IF(AZ$18>AY$19,((AZ$18-AY$19+1)*$B$2*$AU$21),IF(AZ$18>=AY$19,$AU$21*$B$2))),0) -> FALSE | BA67: =IF('Hoja De Calculo'!BB13>='Hoja De Calculo'!BA13,IF(BA$18=100,($AU$21*BA$18*$B$2)-SUM($I67:AZ67),IF(BA$18>AZ$19,((BA$18-AZ$19+1)*$B$2*$AU$21),IF(BA$18>=AZ$19,$AU$21*$B$2))),0) -> FALSE | BB67: =IF('Hoja De Calculo'!BC13>='Hoja De Calculo'!BB13,IF(BB$18=100,($AU$21*BB$18*$B$2)-SUM($I67:BA67),IF(BB$18>BA$19,((BB$18-BA$19+1)*$B$2*$AU$21),IF(BB$18>=BA$19,$AU$21*$B$2))),0) -> FALSE | BC67: =IF('Hoja De Calculo'!BD13>='Hoja De Calculo'!BC13,IF(BC$18=100,($AU$21*BC$18*$B$2)-SUM($I67:BB67),IF(BC$18>BB$19,((BC$18-BB$19+1)*$B$2*$AU$21),IF(BC$18>=BB$19,$AU$21*$B$2))),0) -> FALSE | ... CW67: =IF('Hoja De Calculo'!CX13>='Hoja De Calculo'!CW13,IF(CW$18=100,($AU$21*CW$18*$B$2)-SUM($I67:CV67),IF(CW$18>CV$19,((CW$18-CV$19+1)*$B$2*$AU$21),IF(CW$18>=CV$19,$AU$21*$B$2))),0) -> FALSE
A68: RP 47 | AV68: =(AV$21*$B$2*(AV$19+(IF(AV$19=100,0,1)))) -> 0 | AW68: =IF('Hoja De Calculo'!AX13>='Hoja De Calculo'!AW13,IF(AW$18=100,($AV$21*AW$18*$B$2)-SUM($I68:AV68),IF(AW$18>AV$19,((AW$18-AV$19+1)*$B$2*$AV$21),IF(AW$18>=AV$19,$AV$21*$B$2))),0) -> FALSE | AX68: =IF('Hoja De Calculo'!AY13>='Hoja De Calculo'!AX13,IF(AX$18=100,($AV$21*AX$18*$B$2)-SUM($I68:AW68),IF(AX$18>AW$19,((AX$18-AW$19+1)*$B$2*$AV$21),IF(AX$18>=AW$19,$AV$21*$B$2))),0) -> FALSE | AY68: =IF('Hoja De Calculo'!AZ13>='Hoja De Calculo'!AY13,IF(AY$18=100,($AV$21*AY$18*$B$2)-SUM($I68:AX68),IF(AY$18>AX$19,((AY$18-AX$19+1)*$B$2*$AV$21),IF(AY$18>=AX$19,$AV$21*$B$2))),0) -> FALSE | AZ68: =IF('Hoja De Calculo'!BA13>='Hoja De Calculo'!AZ13,IF(AZ$18=100,($AV$21*AZ$18*$B$2)-SUM($I68:AY68),IF(AZ$18>AY$19,((AZ$18-AY$19+1)*$B$2*$AV$21),IF(AZ$18>=AY$19,$AV$21*$B$2))),0) -> FALSE | BA68: =IF('Hoja De Calculo'!BB13>='Hoja De Calculo'!BA13,IF(BA$18=100,($AV$21*BA$18*$B$2)-SUM($I68:AZ68),IF(BA$18>AZ$19,((BA$18-AZ$19+1)*$B$2*$AV$21),IF(BA$18>=AZ$19,$AV$21*$B$2))),0) -> FALSE | BB68: =IF('Hoja De Calculo'!BC13>='Hoja De Calculo'!BB13,IF(BB$18=100,($AV$21*BB$18*$B$2)-SUM($I68:BA68),IF(BB$18>BA$19,((BB$18-BA$19+1)*$B$2*$AV$21),IF(BB$18>=BA$19,$AV$21*$B$2))),0) -> FALSE | BC68: =IF('Hoja De Calculo'!BD13>='Hoja De Calculo'!BC13,IF(BC$18=100,($AV$21*BC$18*$B$2)-SUM($I68:BB68),IF(BC$18>BB$19,((BC$18-BB$19+1)*$B$2*$AV$21),IF(BC$18>=BB$19,$AV$21*$B$2))),0) -> FALSE | BD68: =IF('Hoja De Calculo'!BE13>='Hoja De Calculo'!BD13,IF(BD$18=100,($AV$21*BD$18*$B$2)-SUM($I68:BC68),IF(BD$18>BC$19,((BD$18-BC$19+1)*$B$2*$AV$21),IF(BD$18>=BC$19,$AV$21*$B$2))),0) -> FALSE | ... CW68: =IF('Hoja De Calculo'!CX13>='Hoja De Calculo'!CW13,IF(CW$18=100,($AV$21*CW$18*$B$2)-SUM($I68:CV68),IF(CW$18>CV$19,((CW$18-CV$19+1)*$B$2*$AV$21),IF(CW$18>=CV$19,$AV$21*$B$2))),0) -> FALSE
A69: RP 48 | AW69: =(AW$21*$B$2*(AW$19+(IF(AW$19=100,0,1)))) -> 0 | AX69: =IF('Hoja De Calculo'!AY13>='Hoja De Calculo'!AX13,IF(AX$18=100,($AW$21*AX$18*$B$2)-SUM($I69:AW69),IF(AX$18>AW$19,((AX$18-AW$19+1)*$B$2*$AW$21),IF(AX$18>=AW$19,$AW$21*$B$2))),0) -> FALSE | AY69: =IF('Hoja De Calculo'!AZ13>='Hoja De Calculo'!AY13,IF(AY$18=100,($AW$21*AY$18*$B$2)-SUM($I69:AX69),IF(AY$18>AX$19,((AY$18-AX$19+1)*$B$2*$AW$21),IF(AY$18>=AX$19,$AW$21*$B$2))),0) -> FALSE | AZ69: =IF('Hoja De Calculo'!BA13>='Hoja De Calculo'!AZ13,IF(AZ$18=100,($AW$21*AZ$18*$B$2)-SUM($I69:AY69),IF(AZ$18>AY$19,((AZ$18-AY$19+1)*$B$2*$AW$21),IF(AZ$18>=AY$19,$AW$21*$B$2))),0) -> FALSE | BA69: =IF('Hoja De Calculo'!BB13>='Hoja De Calculo'!BA13,IF(BA$18=100,($AW$21*BA$18*$B$2)-SUM($I69:AZ69),IF(BA$18>AZ$19,((BA$18-AZ$19+1)*$B$2*$AW$21),IF(BA$18>=AZ$19,$AW$21*$B$2))),0) -> FALSE | BB69: =IF('Hoja De Calculo'!BC13>='Hoja De Calculo'!BB13,IF(BB$18=100,($AW$21*BB$18*$B$2)-SUM($I69:BA69),IF(BB$18>BA$19,((BB$18-BA$19+1)*$B$2*$AW$21),IF(BB$18>=BA$19,$AW$21*$B$2))),0) -> FALSE | BC69: =IF('Hoja De Calculo'!BD13>='Hoja De Calculo'!BC13,IF(BC$18=100,($AW$21*BC$18*$B$2)-SUM($I69:BB69),IF(BC$18>BB$19,((BC$18-BB$19+1)*$B$2*$AW$21),IF(BC$18>=BB$19,$AW$21*$B$2))),0) -> FALSE | BD69: =IF('Hoja De Calculo'!BE13>='Hoja De Calculo'!BD13,IF(BD$18=100,($AW$21*BD$18*$B$2)-SUM($I69:BC69),IF(BD$18>BC$19,((BD$18-BC$19+1)*$B$2*$AW$21),IF(BD$18>=BC$19,$AW$21*$B$2))),0) -> FALSE | BE69: =IF('Hoja De Calculo'!BF13>='Hoja De Calculo'!BE13,IF(BE$18=100,($AW$21*BE$18*$B$2)-SUM($I69:BD69),IF(BE$18>BD$19,((BE$18-BD$19+1)*$B$2*$AW$21),IF(BE$18>=BD$19,$AW$21*$B$2))),0) -> FALSE | ... CW69: =IF('Hoja De Calculo'!CX13>='Hoja De Calculo'!CW13,IF(CW$18=100,($AW$21*CW$18*$B$2)-SUM($I69:CV69),IF(CW$18>CV$19,((CW$18-CV$19+1)*$B$2*$AW$21),IF(CW$18>=CV$19,$AW$21*$B$2))),0) -> FALSE
A70: RP 49 | AX70: =(AX$21*$B$2*(AX$19+(IF(AX$19=100,0,1)))) -> 0 | AY70: =IF('Hoja De Calculo'!AZ13>='Hoja De Calculo'!AY13,IF(AY$18=100,($AX$21*AY$18*$B$2)-SUM($I70:AX70),IF(AY$18>AX$19,((AY$18-AX$19+1)*$B$2*$AX$21),IF(AY$18>=AX$19,$AX$21*$B$2))),0) -> FALSE | AZ70: =IF('Hoja De Calculo'!BA13>='Hoja De Calculo'!AZ13,IF(AZ$18=100,($AX$21*AZ$18*$B$2)-SUM($I70:AY70),IF(AZ$18>AY$19,((AZ$18-AY$19+1)*$B$2*$AX$21),IF(AZ$18>=AY$19,$AX$21*$B$2))),0) -> FALSE | BA70: =IF('Hoja De Calculo'!BB13>='Hoja De Calculo'!BA13,IF(BA$18=100,($AX$21*BA$18*$B$2)-SUM($I70:AZ70),IF(BA$18>AZ$19,((BA$18-AZ$19+1)*$B$2*$AX$21),IF(BA$18>=AZ$19,$AX$21*$B$2))),0) -> FALSE | BB70: =IF('Hoja De Calculo'!BC13>='Hoja De Calculo'!BB13,IF(BB$18=100,($AX$21*BB$18*$B$2)-SUM($I70:BA70),IF(BB$18>BA$19,((BB$18-BA$19+1)*$B$2*$AX$21),IF(BB$18>=BA$19,$AX$21*$B$2))),0) -> FALSE | BC70: =IF('Hoja De Calculo'!BD13>='Hoja De Calculo'!BC13,IF(BC$18=100,($AX$21*BC$18*$B$2)-SUM($I70:BB70),IF(BC$18>BB$19,((BC$18-BB$19+1)*$B$2*$AX$21),IF(BC$18>=BB$19,$AX$21*$B$2))),0) -> FALSE | BD70: =IF('Hoja De Calculo'!BE13>='Hoja De Calculo'!BD13,IF(BD$18=100,($AX$21*BD$18*$B$2)-SUM($I70:BC70),IF(BD$18>BC$19,((BD$18-BC$19+1)*$B$2*$AX$21),IF(BD$18>=BC$19,$AX$21*$B$2))),0) -> FALSE | BE70: =IF('Hoja De Calculo'!BF13>='Hoja De Calculo'!BE13,IF(BE$18=100,($AX$21*BE$18*$B$2)-SUM($I70:BD70),IF(BE$18>BD$19,((BE$18-BD$19+1)*$B$2*$AX$21),IF(BE$18>=BD$19,$AX$21*$B$2))),0) -> FALSE | BF70: =IF('Hoja De Calculo'!BG13>='Hoja De Calculo'!BF13,IF(BF$18=100,($AX$21*BF$18*$B$2)-SUM($I70:BE70),IF(BF$18>BE$19,((BF$18-BE$19+1)*$B$2*$AX$21),IF(BF$18>=BE$19,$AX$21*$B$2))),0) -> FALSE | ... CW70: =IF('Hoja De Calculo'!CX13>='Hoja De Calculo'!CW13,IF(CW$18=100,($AX$21*CW$18*$B$2)-SUM($I70:CV70),IF(CW$18>CV$19,((CW$18-CV$19+1)*$B$2*$AX$21),IF(CW$18>=CV$19,$AX$21*$B$2))),0) -> FALSE
A71: RP 50 | AY71: =(AY$21*$B$2*(AY$19+(IF(AY$19=100,0,1)))) -> 0 | AZ71: =IF('Hoja De Calculo'!BA13>='Hoja De Calculo'!AZ13,IF(AZ$18=100,($AY$21*AZ$18*$B$2)-SUM($I71:AY71),IF(AZ$18>AY$19,((AZ$18-AY$19+1)*$B$2*$AY$21),IF(AZ$18>=AY$19,$AY$21*$B$2))),0) -> FALSE | BA71: =IF('Hoja De Calculo'!BB13>='Hoja De Calculo'!BA13,IF(BA$18=100,($AY$21*BA$18*$B$2)-SUM($I71:AZ71),IF(BA$18>AZ$19,((BA$18-AZ$19+1)*$B$2*$AY$21),IF(BA$18>=AZ$19,$AY$21*$B$2))),0) -> FALSE | BB71: =IF('Hoja De Calculo'!BC13>='Hoja De Calculo'!BB13,IF(BB$18=100,($AY$21*BB$18*$B$2)-SUM($I71:BA71),IF(BB$18>BA$19,((BB$18-BA$19+1)*$B$2*$AY$21),IF(BB$18>=BA$19,$AY$21*$B$2))),0) -> FALSE | BC71: =IF('Hoja De Calculo'!BD13>='Hoja De Calculo'!BC13,IF(BC$18=100,($AY$21*BC$18*$B$2)-SUM($I71:BB71),IF(BC$18>BB$19,((BC$18-BB$19+1)*$B$2*$AY$21),IF(BC$18>=BB$19,$AY$21*$B$2))),0) -> FALSE | BD71: =IF('Hoja De Calculo'!BE13>='Hoja De Calculo'!BD13,IF(BD$18=100,($AY$21*BD$18*$B$2)-SUM($I71:BC71),IF(BD$18>BC$19,((BD$18-BC$19+1)*$B$2*$AY$21),IF(BD$18>=BC$19,$AY$21*$B$2))),0) -> FALSE | BE71: =IF('Hoja De Calculo'!BF13>='Hoja De Calculo'!BE13,IF(BE$18=100,($AY$21*BE$18*$B$2)-SUM($I71:BD71),IF(BE$18>BD$19,((BE$18-BD$19+1)*$B$2*$AY$21),IF(BE$18>=BD$19,$AY$21*$B$2))),0) -> FALSE | BF71: =IF('Hoja De Calculo'!BG13>='Hoja De Calculo'!BF13,IF(BF$18=100,($AY$21*BF$18*$B$2)-SUM($I71:BE71),IF(BF$18>BE$19,((BF$18-BE$19+1)*$B$2*$AY$21),IF(BF$18>=BE$19,$AY$21*$B$2))),0) -> FALSE | BG71: =IF('Hoja De Calculo'!BH13>='Hoja De Calculo'!BG13,IF(BG$18=100,($AY$21*BG$18*$B$2)-SUM($I71:BF71),IF(BG$18>BF$19,((BG$18-BF$19+1)*$B$2*$AY$21),IF(BG$18>=BF$19,$AY$21*$B$2))),0) -> FALSE | ... CW71: =IF('Hoja De Calculo'!CX13>='Hoja De Calculo'!CW13,IF(CW$18=100,($AY$21*CW$18*$B$2)-SUM($I71:CV71),IF(CW$18>CV$19,((CW$18-CV$19+1)*$B$2*$AY$21),IF(CW$18>=CV$19,$AY$21*$B$2))),0) -> FALSE
A72: RP 51 | AZ72: =(AZ$21*$B$2*(AZ$19+(IF(AZ$19=100,0,1)))) -> 0 | BA72: =IF('Hoja De Calculo'!BB13>='Hoja De Calculo'!BA13,IF(BA$18=100,($AZ$21*BA$18*$B$2)-SUM($I72:AZ72),IF(BA$18>AZ$19,((BA$18-AZ$19+1)*$B$2*$AZ$21),IF(BA$18>=AZ$19,$AZ$21*$B$2))),0) -> FALSE | BB72: =IF('Hoja De Calculo'!BC13>='Hoja De Calculo'!BB13,IF(BB$18=100,($AZ$21*BB$18*$B$2)-SUM($I72:BA72),IF(BB$18>BA$19,((BB$18-BA$19+1)*$B$2*$AZ$21),IF(BB$18>=BA$19,$AZ$21*$B$2))),0) -> FALSE | BC72: =IF('Hoja De Calculo'!BD13>='Hoja De Calculo'!BC13,IF(BC$18=100,($AZ$21*BC$18*$B$2)-SUM($I72:BB72),IF(BC$18>BB$19,((BC$18-BB$19+1)*$B$2*$AZ$21),IF(BC$18>=BB$19,$AZ$21*$B$2))),0) -> FALSE | BD72: =IF('Hoja De Calculo'!BE13>='Hoja De Calculo'!BD13,IF(BD$18=100,($AZ$21*BD$18*$B$2)-SUM($I72:BC72),IF(BD$18>BC$19,((BD$18-BC$19+1)*$B$2*$AZ$21),IF(BD$18>=BC$19,$AZ$21*$B$2))),0) -> FALSE | BE72: =IF('Hoja De Calculo'!BF13>='Hoja De Calculo'!BE13,IF(BE$18=100,($AZ$21*BE$18*$B$2)-SUM($I72:BD72),IF(BE$18>BD$19,((BE$18-BD$19+1)*$B$2*$AZ$21),IF(BE$18>=BD$19,$AZ$21*$B$2))),0) -> FALSE | BF72: =IF('Hoja De Calculo'!BG13>='Hoja De Calculo'!BF13,IF(BF$18=100,($AZ$21*BF$18*$B$2)-SUM($I72:BE72),IF(BF$18>BE$19,((BF$18-BE$19+1)*$B$2*$AZ$21),IF(BF$18>=BE$19,$AZ$21*$B$2))),0) -> FALSE | BG72: =IF('Hoja De Calculo'!BH13>='Hoja De Calculo'!BG13,IF(BG$18=100,($AZ$21*BG$18*$B$2)-SUM($I72:BF72),IF(BG$18>BF$19,((BG$18-BF$19+1)*$B$2*$AZ$21),IF(BG$18>=BF$19,$AZ$21*$B$2))),0) -> FALSE | BH72: =IF('Hoja De Calculo'!BI13>='Hoja De Calculo'!BH13,IF(BH$18=100,($AZ$21*BH$18*$B$2)-SUM($I72:BG72),IF(BH$18>BG$19,((BH$18-BG$19+1)*$B$2*$AZ$21),IF(BH$18>=BG$19,$AZ$21*$B$2))),0) -> FALSE | ... CW72: =IF('Hoja De Calculo'!CX13>='Hoja De Calculo'!CW13,IF(CW$18=100,($AZ$21*CW$18*$B$2)-SUM($I72:CV72),IF(CW$18>CV$19,((CW$18-CV$19+1)*$B$2*$AZ$21),IF(CW$18>=CV$19,$AZ$21*$B$2))),0) -> FALSE
A73: RP 52 | BA73: =(BA$21*$B$2*(BA$19+(IF(BA$19=100,0,1)))) -> 0 | BB73: =IF('Hoja De Calculo'!BC13>='Hoja De Calculo'!BB13,IF(BB$18=100,($BA$21*BB$18*$B$2)-SUM($I73:BA73),IF(BB$18>BA$19,((BB$18-BA$19+1)*$B$2*$BA$21),IF(BB$18>=BA$19,$BA$21*$B$2))),0) -> FALSE | BC73: =IF('Hoja De Calculo'!BD13>='Hoja De Calculo'!BC13,IF(BC$18=100,($BA$21*BC$18*$B$2)-SUM($I73:BB73),IF(BC$18>BB$19,((BC$18-BB$19+1)*$B$2*$BA$21),IF(BC$18>=BB$19,$BA$21*$B$2))),0) -> FALSE | BD73: =IF('Hoja De Calculo'!BE13>='Hoja De Calculo'!BD13,IF(BD$18=100,($BA$21*BD$18*$B$2)-SUM($I73:BC73),IF(BD$18>BC$19,((BD$18-BC$19+1)*$B$2*$BA$21),IF(BD$18>=BC$19,$BA$21*$B$2))),0) -> FALSE | BE73: =IF('Hoja De Calculo'!BF13>='Hoja De Calculo'!BE13,IF(BE$18=100,($BA$21*BE$18*$B$2)-SUM($I73:BD73),IF(BE$18>BD$19,((BE$18-BD$19+1)*$B$2*$BA$21),IF(BE$18>=BD$19,$BA$21*$B$2))),0) -> FALSE | BF73: =IF('Hoja De Calculo'!BG13>='Hoja De Calculo'!BF13,IF(BF$18=100,($BA$21*BF$18*$B$2)-SUM($I73:BE73),IF(BF$18>BE$19,((BF$18-BE$19+1)*$B$2*$BA$21),IF(BF$18>=BE$19,$BA$21*$B$2))),0) -> FALSE | BG73: =IF('Hoja De Calculo'!BH13>='Hoja De Calculo'!BG13,IF(BG$18=100,($BA$21*BG$18*$B$2)-SUM($I73:BF73),IF(BG$18>BF$19,((BG$18-BF$19+1)*$B$2*$BA$21),IF(BG$18>=BF$19,$BA$21*$B$2))),0) -> FALSE | BH73: =IF('Hoja De Calculo'!BI13>='Hoja De Calculo'!BH13,IF(BH$18=100,($BA$21*BH$18*$B$2)-SUM($I73:BG73),IF(BH$18>BG$19,((BH$18-BG$19+1)*$B$2*$BA$21),IF(BH$18>=BG$19,$BA$21*$B$2))),0) -> FALSE | BI73: =IF('Hoja De Calculo'!BJ13>='Hoja De Calculo'!BI13,IF(BI$18=100,($BA$21*BI$18*$B$2)-SUM($I73:BH73),IF(BI$18>BH$19,((BI$18-BH$19+1)*$B$2*$BA$21),IF(BI$18>=BH$19,$BA$21*$B$2))),0) -> FALSE | ... CW73: =IF('Hoja De Calculo'!CX13>='Hoja De Calculo'!CW13,IF(CW$18=100,($BA$21*CW$18*$B$2)-SUM($I73:CV73),IF(CW$18>CV$19,((CW$18-CV$19+1)*$B$2*$BA$21),IF(CW$18>=CV$19,$BA$21*$B$2))),0) -> FALSE
A74: RP 53 | BB74: =(BB$21*$B$2*(BB$19+(IF(BB$19=100,0,1)))) -> 0 | BC74: =IF('Hoja De Calculo'!BD13>='Hoja De Calculo'!BC13,IF(BC$18=100,($BB$21*BC$18*$B$2)-SUM($I74:BB74),IF(BC$18>BB$19,((BC$18-BB$19+1)*$B$2*$BB$21),IF(BC$18>=BB$19,$BB$21*$B$2))),0) -> FALSE | BD74: =IF('Hoja De Calculo'!BE13>='Hoja De Calculo'!BD13,IF(BD$18=100,($BB$21*BD$18*$B$2)-SUM($I74:BC74),IF(BD$18>BC$19,((BD$18-BC$19+1)*$B$2*$BB$21),IF(BD$18>=BC$19,$BB$21*$B$2))),0) -> FALSE | BE74: =IF('Hoja De Calculo'!BF13>='Hoja De Calculo'!BE13,IF(BE$18=100,($BB$21*BE$18*$B$2)-SUM($I74:BD74),IF(BE$18>BD$19,((BE$18-BD$19+1)*$B$2*$BB$21),IF(BE$18>=BD$19,$BB$21*$B$2))),0) -> FALSE | BF74: =IF('Hoja De Calculo'!BG13>='Hoja De Calculo'!BF13,IF(BF$18=100,($BB$21*BF$18*$B$2)-SUM($I74:BE74),IF(BF$18>BE$19,((BF$18-BE$19+1)*$B$2*$BB$21),IF(BF$18>=BE$19,$BB$21*$B$2))),0) -> FALSE | BG74: =IF('Hoja De Calculo'!BH13>='Hoja De Calculo'!BG13,IF(BG$18=100,($BB$21*BG$18*$B$2)-SUM($I74:BF74),IF(BG$18>BF$19,((BG$18-BF$19+1)*$B$2*$BB$21),IF(BG$18>=BF$19,$BB$21*$B$2))),0) -> FALSE | BH74: =IF('Hoja De Calculo'!BI13>='Hoja De Calculo'!BH13,IF(BH$18=100,($BB$21*BH$18*$B$2)-SUM($I74:BG74),IF(BH$18>BG$19,((BH$18-BG$19+1)*$B$2*$BB$21),IF(BH$18>=BG$19,$BB$21*$B$2))),0) -> FALSE | BI74: =IF('Hoja De Calculo'!BJ13>='Hoja De Calculo'!BI13,IF(BI$18=100,($BB$21*BI$18*$B$2)-SUM($I74:BH74),IF(BI$18>BH$19,((BI$18-BH$19+1)*$B$2*$BB$21),IF(BI$18>=BH$19,$BB$21*$B$2))),0) -> FALSE | BJ74: =IF('Hoja De Calculo'!BK13>='Hoja De Calculo'!BJ13,IF(BJ$18=100,($BB$21*BJ$18*$B$2)-SUM($I74:BI74),IF(BJ$18>BI$19,((BJ$18-BI$19+1)*$B$2*$BB$21),IF(BJ$18>=BI$19,$BB$21*$B$2))),0) -> FALSE | ... CW74: =IF('Hoja De Calculo'!CX13>='Hoja De Calculo'!CW13,IF(CW$18=100,($BB$21*CW$18*$B$2)-SUM($I74:CV74),IF(CW$18>CV$19,((CW$18-CV$19+1)*$B$2*$BB$21),IF(CW$18>=CV$19,$BB$21*$B$2))),0) -> FALSE
A75: RP 54 | BC75: =(BC$21*$B$2*(BC$19+(IF(BC$19=100,0,1)))) -> 0 | BD75: =IF('Hoja De Calculo'!BE13>='Hoja De Calculo'!BD13,IF(BD$18=100,($BC$21*BD$18*$B$2)-SUM($I75:BC75),IF(BD$18>BC$19,((BD$18-BC$19+1)*$B$2*$BC$21),IF(BD$18>=BC$19,$BC$21*$B$2))),0) -> FALSE | BE75: =IF('Hoja De Calculo'!BF13>='Hoja De Calculo'!BE13,IF(BE$18=100,($BC$21*BE$18*$B$2)-SUM($I75:BD75),IF(BE$18>BD$19,((BE$18-BD$19+1)*$B$2*$BC$21),IF(BE$18>=BD$19,$BC$21*$B$2))),0) -> FALSE | BF75: =IF('Hoja De Calculo'!BG13>='Hoja De Calculo'!BF13,IF(BF$18=100,($BC$21*BF$18*$B$2)-SUM($I75:BE75),IF(BF$18>BE$19,((BF$18-BE$19+1)*$B$2*$BC$21),IF(BF$18>=BE$19,$BC$21*$B$2))),0) -> FALSE | BG75: =IF('Hoja De Calculo'!BH13>='Hoja De Calculo'!BG13,IF(BG$18=100,($BC$21*BG$18*$B$2)-SUM($I75:BF75),IF(BG$18>BF$19,((BG$18-BF$19+1)*$B$2*$BC$21),IF(BG$18>=BF$19,$BC$21*$B$2))),0) -> FALSE | BH75: =IF('Hoja De Calculo'!BI13>='Hoja De Calculo'!BH13,IF(BH$18=100,($BC$21*BH$18*$B$2)-SUM($I75:BG75),IF(BH$18>BG$19,((BH$18-BG$19+1)*$B$2*$BC$21),IF(BH$18>=BG$19,$BC$21*$B$2))),0) -> FALSE | BI75: =IF('Hoja De Calculo'!BJ13>='Hoja De Calculo'!BI13,IF(BI$18=100,($BC$21*BI$18*$B$2)-SUM($I75:BH75),IF(BI$18>BH$19,((BI$18-BH$19+1)*$B$2*$BC$21),IF(BI$18>=BH$19,$BC$21*$B$2))),0) -> FALSE | BJ75: =IF('Hoja De Calculo'!BK13>='Hoja De Calculo'!BJ13,IF(BJ$18=100,($BC$21*BJ$18*$B$2)-SUM($I75:BI75),IF(BJ$18>BI$19,((BJ$18-BI$19+1)*$B$2*$BC$21),IF(BJ$18>=BI$19,$BC$21*$B$2))),0) -> FALSE | BK75: =IF('Hoja De Calculo'!BL13>='Hoja De Calculo'!BK13,IF(BK$18=100,($BC$21*BK$18*$B$2)-SUM($I75:BJ75),IF(BK$18>BJ$19,((BK$18-BJ$19+1)*$B$2*$BC$21),IF(BK$18>=BJ$19,$BC$21*$B$2))),0) -> FALSE | ... CW75: =IF('Hoja De Calculo'!CX13>='Hoja De Calculo'!CW13,IF(CW$18=100,($BC$21*CW$18*$B$2)-SUM($I75:CV75),IF(CW$18>CV$19,((CW$18-CV$19+1)*$B$2*$BC$21),IF(CW$18>=CV$19,$BC$21*$B$2))),0) -> FALSE
A76: RP 55 | BD76: =(BD$21*$B$2*(BD$19+(IF(BD$19=100,0,1)))) -> 0 | BE76: =IF('Hoja De Calculo'!BF13>='Hoja De Calculo'!BE13,IF(BE$18=100,($BD$21*BE$18*$B$2)-SUM($I76:BD76),IF(BE$18>BD$19,((BE$18-BD$19+1)*$B$2*$BD$21),IF(BE$18>=BD$19,$BD$21*$B$2))),0) -> FALSE | BF76: =IF('Hoja De Calculo'!BG13>='Hoja De Calculo'!BF13,IF(BF$18=100,($BD$21*BF$18*$B$2)-SUM($I76:BE76),IF(BF$18>BE$19,((BF$18-BE$19+1)*$B$2*$BD$21),IF(BF$18>=BE$19,$BD$21*$B$2))),0) -> FALSE | BG76: =IF('Hoja De Calculo'!BH13>='Hoja De Calculo'!BG13,IF(BG$18=100,($BD$21*BG$18*$B$2)-SUM($I76:BF76),IF(BG$18>BF$19,((BG$18-BF$19+1)*$B$2*$BD$21),IF(BG$18>=BF$19,$BD$21*$B$2))),0) -> FALSE | BH76: =IF('Hoja De Calculo'!BI13>='Hoja De Calculo'!BH13,IF(BH$18=100,($BD$21*BH$18*$B$2)-SUM($I76:BG76),IF(BH$18>BG$19,((BH$18-BG$19+1)*$B$2*$BD$21),IF(BH$18>=BG$19,$BD$21*$B$2))),0) -> FALSE | BI76: =IF('Hoja De Calculo'!BJ13>='Hoja De Calculo'!BI13,IF(BI$18=100,($BD$21*BI$18*$B$2)-SUM($I76:BH76),IF(BI$18>BH$19,((BI$18-BH$19+1)*$B$2*$BD$21),IF(BI$18>=BH$19,$BD$21*$B$2))),0) -> FALSE | BJ76: =IF('Hoja De Calculo'!BK13>='Hoja De Calculo'!BJ13,IF(BJ$18=100,($BD$21*BJ$18*$B$2)-SUM($I76:BI76),IF(BJ$18>BI$19,((BJ$18-BI$19+1)*$B$2*$BD$21),IF(BJ$18>=BI$19,$BD$21*$B$2))),0) -> FALSE | BK76: =IF('Hoja De Calculo'!BL13>='Hoja De Calculo'!BK13,IF(BK$18=100,($BD$21*BK$18*$B$2)-SUM($I76:BJ76),IF(BK$18>BJ$19,((BK$18-BJ$19+1)*$B$2*$BD$21),IF(BK$18>=BJ$19,$BD$21*$B$2))),0) -> FALSE | BL76: =IF('Hoja De Calculo'!BM13>='Hoja De Calculo'!BL13,IF(BL$18=100,($BD$21*BL$18*$B$2)-SUM($I76:BK76),IF(BL$18>BK$19,((BL$18-BK$19+1)*$B$2*$BD$21),IF(BL$18>=BK$19,$BD$21*$B$2))),0) -> FALSE | ... CV76: =IF('Hoja De Calculo'!CW13>='Hoja De Calculo'!CV13,IF(CV$18=100,($BD$21*CV$18*$B$2)-SUM($I76:CU76),IF(CV$18>CU$19,((CV$18-CU$19+1)*$B$2*$BD$21),IF(CV$18>=CU$19,$BD$21*$B$2))),0) -> FALSE | CW76: =IF('Hoja De Calculo'!CX$13>='Hoja De Calculo'!CW$13,IF(CW$18=100,($BD$21*CW$18*$B$2)-SUM($I76:CV76),IF(CW$18>CV$19,((CW$18-CV$19+1)*$B$2*$BD$21),IF(CW$18>=CV$19,$BD$21*$B$2))),0) -> FALSE
A77: RP 56 | BE77: =(BE$21*$B$2*(BE$19+(IF(BE$19=100,0,1)))) -> 0 | BF77: =IF('Hoja De Calculo'!BG$13>='Hoja De Calculo'!BF$13,IF(BF$18=100,($BE$21*BF$18*$B$2)-SUM($I77:BE77),IF(BF$18>BE$19,((BF$18-BE$19+1)*$B$2*$BE$21),IF(BF$18>=BE$19,$BE$21*$B$2))),0) -> FALSE | BG77: =IF('Hoja De Calculo'!BH$13>='Hoja De Calculo'!BG$13,IF(BG$18=100,($BE$21*BG$18*$B$2)-SUM($I77:BF77),IF(BG$18>BF$19,((BG$18-BF$19+1)*$B$2*$BE$21),IF(BG$18>=BF$19,$BE$21*$B$2))),0) -> FALSE | BH77: =IF('Hoja De Calculo'!BI$13>='Hoja De Calculo'!BH$13,IF(BH$18=100,($BE$21*BH$18*$B$2)-SUM($I77:BG77),IF(BH$18>BG$19,((BH$18-BG$19+1)*$B$2*$BE$21),IF(BH$18>=BG$19,$BE$21*$B$2))),0) -> FALSE | BI77: =IF('Hoja De Calculo'!BJ$13>='Hoja De Calculo'!BI$13,IF(BI$18=100,($BE$21*BI$18*$B$2)-SUM($I77:BH77),IF(BI$18>BH$19,((BI$18-BH$19+1)*$B$2*$BE$21),IF(BI$18>=BH$19,$BE$21*$B$2))),0) -> FALSE | BJ77: =IF('Hoja De Calculo'!BK$13>='Hoja De Calculo'!BJ$13,IF(BJ$18=100,($BE$21*BJ$18*$B$2)-SUM($I77:BI77),IF(BJ$18>BI$19,((BJ$18-BI$19+1)*$B$2*$BE$21),IF(BJ$18>=BI$19,$BE$21*$B$2))),0) -> FALSE | BK77: =IF('Hoja De Calculo'!BL$13>='Hoja De Calculo'!BK$13,IF(BK$18=100,($BE$21*BK$18*$B$2)-SUM($I77:BJ77),IF(BK$18>BJ$19,((BK$18-BJ$19+1)*$B$2*$BE$21),IF(BK$18>=BJ$19,$BE$21*$B$2))),0) -> FALSE | BL77: =IF('Hoja De Calculo'!BM$13>='Hoja De Calculo'!BL$13,IF(BL$18=100,($BE$21*BL$18*$B$2)-SUM($I77:BK77),IF(BL$18>BK$19,((BL$18-BK$19+1)*$B$2*$BE$21),IF(BL$18>=BK$19,$BE$21*$B$2))),0) -> FALSE | BM77: =IF('Hoja De Calculo'!BN$13>='Hoja De Calculo'!BM$13,IF(BM$18=100,($BE$21*BM$18*$B$2)-SUM($I77:BL77),IF(BM$18>BL$19,((BM$18-BL$19+1)*$B$2*$BE$21),IF(BM$18>=BL$19,$BE$21*$B$2))),0) -> FALSE | ... CW77: =IF('Hoja De Calculo'!CX$13>='Hoja De Calculo'!CW$13,IF(CW$18=100,($BE$21*CW$18*$B$2)-SUM($I77:CV77),IF(CW$18>CV$19,((CW$18-CV$19+1)*$B$2*$BE$21),IF(CW$18>=CV$19,$BE$21*$B$2))),0) -> FALSE
A78: RP 57 | BF78: =(BF$21*$B$2*(BF$19+(IF(BF$19=100,0,1)))) -> 0 | BG78: =IF('Hoja De Calculo'!BH$13>='Hoja De Calculo'!BG$13,IF(BG$18=100,($BF$21*BG$18*$B$2)-SUM($I78:BF78),IF(BG$18>BF$19,((BG$18-BF$19+1)*$B$2*$BF$21),IF(BG$18>=BF$19,$BF$21*$B$2))),0) -> FALSE | BH78: =IF('Hoja De Calculo'!BI$13>='Hoja De Calculo'!BH$13,IF(BH$18=100,($BF$21*BH$18*$B$2)-SUM($I78:BG78),IF(BH$18>BG$19,((BH$18-BG$19+1)*$B$2*$BF$21),IF(BH$18>=BG$19,$BF$21*$B$2))),0) -> FALSE | BI78: =IF('Hoja De Calculo'!BJ$13>='Hoja De Calculo'!BI$13,IF(BI$18=100,($BF$21*BI$18*$B$2)-SUM($I78:BH78),IF(BI$18>BH$19,((BI$18-BH$19+1)*$B$2*$BF$21),IF(BI$18>=BH$19,$BF$21*$B$2))),0) -> FALSE | BJ78: =IF('Hoja De Calculo'!BK$13>='Hoja De Calculo'!BJ$13,IF(BJ$18=100,($BF$21*BJ$18*$B$2)-SUM($I78:BI78),IF(BJ$18>BI$19,((BJ$18-BI$19+1)*$B$2*$BF$21),IF(BJ$18>=BI$19,$BF$21*$B$2))),0) -> FALSE | BK78: =IF('Hoja De Calculo'!BL$13>='Hoja De Calculo'!BK$13,IF(BK$18=100,($BF$21*BK$18*$B$2)-SUM($I78:BJ78),IF(BK$18>BJ$19,((BK$18-BJ$19+1)*$B$2*$BF$21),IF(BK$18>=BJ$19,$BF$21*$B$2))),0) -> FALSE | BL78: =IF('Hoja De Calculo'!BM$13>='Hoja De Calculo'!BL$13,IF(BL$18=100,($BF$21*BL$18*$B$2)-SUM($I78:BK78),IF(BL$18>BK$19,((BL$18-BK$19+1)*$B$2*$BF$21),IF(BL$18>=BK$19,$BF$21*$B$2))),0) -> FALSE | BM78: =IF('Hoja De Calculo'!BN$13>='Hoja De Calculo'!BM$13,IF(BM$18=100,($BF$21*BM$18*$B$2)-SUM($I78:BL78),IF(BM$18>BL$19,((BM$18-BL$19+1)*$B$2*$BF$21),IF(BM$18>=BL$19,$BF$21*$B$2))),0) -> FALSE | BN78: =IF('Hoja De Calculo'!BO$13>='Hoja De Calculo'!BN$13,IF(BN$18=100,($BF$21*BN$18*$B$2)-SUM($I78:BM78),IF(BN$18>BM$19,((BN$18-BM$19+1)*$B$2*$BF$21),IF(BN$18>=BM$19,$BF$21*$B$2))),0) -> FALSE | ... CW78: =IF('Hoja De Calculo'!CX$13>='Hoja De Calculo'!CW$13,IF(CW$18=100,($BF$21*CW$18*$B$2)-SUM($I78:CV78),IF(CW$18>CV$19,((CW$18-CV$19+1)*$B$2*$BF$21),IF(CW$18>=CV$19,$BF$21*$B$2))),0) -> FALSE
A79: RP 58 | BG79: =(BG$21*$B$2*(BG$19+(IF(BG$19=100,0,1)))) -> 0 | BH79: =IF('Hoja De Calculo'!BI$13>='Hoja De Calculo'!BH$13,IF(BH$18=100,($BG$21*BH$18*$B$2)-SUM($I79:BG79),IF(BH$18>BG$19,((BH$18-BG$19+1)*$B$2*$BG$21),IF(BH$18>=BG$19,$BG$21*$B$2))),0) -> FALSE | BI79: =IF('Hoja De Calculo'!BJ$13>='Hoja De Calculo'!BI$13,IF(BI$18=100,($BG$21*BI$18*$B$2)-SUM($I79:BH79),IF(BI$18>BH$19,((BI$18-BH$19+1)*$B$2*$BG$21),IF(BI$18>=BH$19,$BG$21*$B$2))),0) -> FALSE | BJ79: =IF('Hoja De Calculo'!BK$13>='Hoja De Calculo'!BJ$13,IF(BJ$18=100,($BG$21*BJ$18*$B$2)-SUM($I79:BI79),IF(BJ$18>BI$19,((BJ$18-BI$19+1)*$B$2*$BG$21),IF(BJ$18>=BI$19,$BG$21*$B$2))),0) -> FALSE | BK79: =IF('Hoja De Calculo'!BL$13>='Hoja De Calculo'!BK$13,IF(BK$18=100,($BG$21*BK$18*$B$2)-SUM($I79:BJ79),IF(BK$18>BJ$19,((BK$18-BJ$19+1)*$B$2*$BG$21),IF(BK$18>=BJ$19,$BG$21*$B$2))),0) -> FALSE | BL79: =IF('Hoja De Calculo'!BM$13>='Hoja De Calculo'!BL$13,IF(BL$18=100,($BG$21*BL$18*$B$2)-SUM($I79:BK79),IF(BL$18>BK$19,((BL$18-BK$19+1)*$B$2*$BG$21),IF(BL$18>=BK$19,$BG$21*$B$2))),0) -> FALSE | BM79: =IF('Hoja De Calculo'!BN$13>='Hoja De Calculo'!BM$13,IF(BM$18=100,($BG$21*BM$18*$B$2)-SUM($I79:BL79),IF(BM$18>BL$19,((BM$18-BL$19+1)*$B$2*$BG$21),IF(BM$18>=BL$19,$BG$21*$B$2))),0) -> FALSE | BN79: =IF('Hoja De Calculo'!BO$13>='Hoja De Calculo'!BN$13,IF(BN$18=100,($BG$21*BN$18*$B$2)-SUM($I79:BM79),IF(BN$18>BM$19,((BN$18-BM$19+1)*$B$2*$BG$21),IF(BN$18>=BM$19,$BG$21*$B$2))),0) -> FALSE | BO79: =IF('Hoja De Calculo'!BP$13>='Hoja De Calculo'!BO$13,IF(BO$18=100,($BG$21*BO$18*$B$2)-SUM($I79:BN79),IF(BO$18>BN$19,((BO$18-BN$19+1)*$B$2*$BG$21),IF(BO$18>=BN$19,$BG$21*$B$2))),0) -> FALSE | ... CW79: =IF('Hoja De Calculo'!CX$13>='Hoja De Calculo'!CW$13,IF(CW$18=100,($BG$21*CW$18*$B$2)-SUM($I79:CV79),IF(CW$18>CV$19,((CW$18-CV$19+1)*$B$2*$BG$21),IF(CW$18>=CV$19,$BG$21*$B$2))),0) -> FALSE
A80: RP 59 | BH80: =(BH$21*$B$2*(BH$19+(IF(BH$19=100,0,1)))) -> 0 | BI80: =IF('Hoja De Calculo'!BJ$13>='Hoja De Calculo'!BI$13,IF(BI$18=100,($BH$21*BI$18*$B$2)-SUM($I80:BH80),IF(BI$18>BH$19,((BI$18-BH$19+1)*$B$2*$BH$21),IF(BI$18>=BH$19,$BH$21*$B$2))),0) -> FALSE | BJ80: =IF('Hoja De Calculo'!BK$13>='Hoja De Calculo'!BJ$13,IF(BJ$18=100,($BH$21*BJ$18*$B$2)-SUM($I80:BI80),IF(BJ$18>BI$19,((BJ$18-BI$19+1)*$B$2*$BH$21),IF(BJ$18>=BI$19,$BH$21*$B$2))),0) -> FALSE | BK80: =IF('Hoja De Calculo'!BL$13>='Hoja De Calculo'!BK$13,IF(BK$18=100,($BH$21*BK$18*$B$2)-SUM($I80:BJ80),IF(BK$18>BJ$19,((BK$18-BJ$19+1)*$B$2*$BH$21),IF(BK$18>=BJ$19,$BH$21*$B$2))),0) -> FALSE | BL80: =IF('Hoja De Calculo'!BM$13>='Hoja De Calculo'!BL$13,IF(BL$18=100,($BH$21*BL$18*$B$2)-SUM($I80:BK80),IF(BL$18>BK$19,((BL$18-BK$19+1)*$B$2*$BH$21),IF(BL$18>=BK$19,$BH$21*$B$2))),0) -> FALSE | BM80: =IF('Hoja De Calculo'!BN$13>='Hoja De Calculo'!BM$13,IF(BM$18=100,($BH$21*BM$18*$B$2)-SUM($I80:BL80),IF(BM$18>BL$19,((BM$18-BL$19+1)*$B$2*$BH$21),IF(BM$18>=BL$19,$BH$21*$B$2))),0) -> FALSE | BN80: =IF('Hoja De Calculo'!BO$13>='Hoja De Calculo'!BN$13,IF(BN$18=100,($BH$21*BN$18*$B$2)-SUM($I80:BM80),IF(BN$18>BM$19,((BN$18-BM$19+1)*$B$2*$BH$21),IF(BN$18>=BM$19,$BH$21*$B$2))),0) -> FALSE | BO80: =IF('Hoja De Calculo'!BP$13>='Hoja De Calculo'!BO$13,IF(BO$18=100,($BH$21*BO$18*$B$2)-SUM($I80:BN80),IF(BO$18>BN$19,((BO$18-BN$19+1)*$B$2*$BH$21),IF(BO$18>=BN$19,$BH$21*$B$2))),0) -> FALSE | BP80: =IF('Hoja De Calculo'!BQ$13>='Hoja De Calculo'!BP$13,IF(BP$18=100,($BH$21*BP$18*$B$2)-SUM($I80:BO80),IF(BP$18>BO$19,((BP$18-BO$19+1)*$B$2*$BH$21),IF(BP$18>=BO$19,$BH$21*$B$2))),0) -> FALSE | ... CW80: =IF('Hoja De Calculo'!CX$13>='Hoja De Calculo'!CW$13,IF(CW$18=100,($BH$21*CW$18*$B$2)-SUM($I80:CV80),IF(CW$18>CV$19,((CW$18-CV$19+1)*$B$2*$BH$21),IF(CW$18>=CV$19,$BH$21*$B$2))),0) -> FALSE
A81: RP 60 | BI81: =(BI$21*$B$2*(BI$19+(IF(BI$19=100,0,1)))) -> 0 | BJ81: =IF('Hoja De Calculo'!BK$13>='Hoja De Calculo'!BJ$13,IF(BJ$18=100,($BI$21*BJ$18*$B$2)-SUM($I81:BI81),IF(BJ$18>BI$19,((BJ$18-BI$19+1)*$B$2*$BI$21),IF(BJ$18>=BI$19,$BI$21*$B$2))),0) -> FALSE | BK81: =IF('Hoja De Calculo'!BL$13>='Hoja De Calculo'!BK$13,IF(BK$18=100,($BI$21*BK$18*$B$2)-SUM($I81:BJ81),IF(BK$18>BJ$19,((BK$18-BJ$19+1)*$B$2*$BI$21),IF(BK$18>=BJ$19,$BI$21*$B$2))),0) -> FALSE | BL81: =IF('Hoja De Calculo'!BM$13>='Hoja De Calculo'!BL$13,IF(BL$18=100,($BI$21*BL$18*$B$2)-SUM($I81:BK81),IF(BL$18>BK$19,((BL$18-BK$19+1)*$B$2*$BI$21),IF(BL$18>=BK$19,$BI$21*$B$2))),0) -> FALSE | BM81: =IF('Hoja De Calculo'!BN$13>='Hoja De Calculo'!BM$13,IF(BM$18=100,($BI$21*BM$18*$B$2)-SUM($I81:BL81),IF(BM$18>BL$19,((BM$18-BL$19+1)*$B$2*$BI$21),IF(BM$18>=BL$19,$BI$21*$B$2))),0) -> FALSE | BN81: =IF('Hoja De Calculo'!BO$13>='Hoja De Calculo'!BN$13,IF(BN$18=100,($BI$21*BN$18*$B$2)-SUM($I81:BM81),IF(BN$18>BM$19,((BN$18-BM$19+1)*$B$2*$BI$21),IF(BN$18>=BM$19,$BI$21*$B$2))),0) -> FALSE | BO81: =IF('Hoja De Calculo'!BP$13>='Hoja De Calculo'!BO$13,IF(BO$18=100,($BI$21*BO$18*$B$2)-SUM($I81:BN81),IF(BO$18>BN$19,((BO$18-BN$19+1)*$B$2*$BI$21),IF(BO$18>=BN$19,$BI$21*$B$2))),0) -> FALSE | BP81: =IF('Hoja De Calculo'!BQ$13>='Hoja De Calculo'!BP$13,IF(BP$18=100,($BI$21*BP$18*$B$2)-SUM($I81:BO81),IF(BP$18>BO$19,((BP$18-BO$19+1)*$B$2*$BI$21),IF(BP$18>=BO$19,$BI$21*$B$2))),0) -> FALSE | BQ81: =IF('Hoja De Calculo'!BR$13>='Hoja De Calculo'!BQ$13,IF(BQ$18=100,($BI$21*BQ$18*$B$2)-SUM($I81:BP81),IF(BQ$18>BP$19,((BQ$18-BP$19+1)*$B$2*$BI$21),IF(BQ$18>=BP$19,$BI$21*$B$2))),0) -> FALSE | ... CW81: =IF('Hoja De Calculo'!CX$13>='Hoja De Calculo'!CW$13,IF(CW$18=100,($BI$21*CW$18*$B$2)-SUM($I81:CV81),IF(CW$18>CV$19,((CW$18-CV$19+1)*$B$2*$BI$21),IF(CW$18>=CV$19,$BI$21*$B$2))),0) -> FALSE
A82: RP 61 | BJ82: =(BJ$21*$B$2*(BJ$19+(IF(BJ$19=100,0,1)))) -> 0 | BK82: =IF('Hoja De Calculo'!BL$13>='Hoja De Calculo'!BK$13,IF(BK$18=100,($BJ$21*BK$18*$B$2)-SUM($I82:BJ82),IF(BK$18>BJ$19,((BK$18-BJ$19+1)*$B$2*$BJ$21),IF(BK$18>=BJ$19,$BJ$21*$B$2))),0) -> FALSE | BL82: =IF('Hoja De Calculo'!BM$13>='Hoja De Calculo'!BL$13,IF(BL$18=100,($BJ$21*BL$18*$B$2)-SUM($I82:BK82),IF(BL$18>BK$19,((BL$18-BK$19+1)*$B$2*$BJ$21),IF(BL$18>=BK$19,$BJ$21*$B$2))),0) -> FALSE | BM82: =IF('Hoja De Calculo'!BN$13>='Hoja De Calculo'!BM$13,IF(BM$18=100,($BJ$21*BM$18*$B$2)-SUM($I82:BL82),IF(BM$18>BL$19,((BM$18-BL$19+1)*$B$2*$BJ$21),IF(BM$18>=BL$19,$BJ$21*$B$2))),0) -> FALSE | BN82: =IF('Hoja De Calculo'!BO$13>='Hoja De Calculo'!BN$13,IF(BN$18=100,($BJ$21*BN$18*$B$2)-SUM($I82:BM82),IF(BN$18>BM$19,((BN$18-BM$19+1)*$B$2*$BJ$21),IF(BN$18>=BM$19,$BJ$21*$B$2))),0) -> FALSE | BO82: =IF('Hoja De Calculo'!BP$13>='Hoja De Calculo'!BO$13,IF(BO$18=100,($BJ$21*BO$18*$B$2)-SUM($I82:BN82),IF(BO$18>BN$19,((BO$18-BN$19+1)*$B$2*$BJ$21),IF(BO$18>=BN$19,$BJ$21*$B$2))),0) -> FALSE | BP82: =IF('Hoja De Calculo'!BQ$13>='Hoja De Calculo'!BP$13,IF(BP$18=100,($BJ$21*BP$18*$B$2)-SUM($I82:BO82),IF(BP$18>BO$19,((BP$18-BO$19+1)*$B$2*$BJ$21),IF(BP$18>=BO$19,$BJ$21*$B$2))),0) -> FALSE | BQ82: =IF('Hoja De Calculo'!BR$13>='Hoja De Calculo'!BQ$13,IF(BQ$18=100,($BJ$21*BQ$18*$B$2)-SUM($I82:BP82),IF(BQ$18>BP$19,((BQ$18-BP$19+1)*$B$2*$BJ$21),IF(BQ$18>=BP$19,$BJ$21*$B$2))),0) -> FALSE | BR82: =IF('Hoja De Calculo'!BS$13>='Hoja De Calculo'!BR$13,IF(BR$18=100,($BJ$21*BR$18*$B$2)-SUM($I82:BQ82),IF(BR$18>BQ$19,((BR$18-BQ$19+1)*$B$2*$BJ$21),IF(BR$18>=BQ$19,$BJ$21*$B$2))),0) -> FALSE | ... CW82: =IF('Hoja De Calculo'!CX$13>='Hoja De Calculo'!CW$13,IF(CW$18=100,($BJ$21*CW$18*$B$2)-SUM($I82:CV82),IF(CW$18>CV$19,((CW$18-CV$19+1)*$B$2*$BJ$21),IF(CW$18>=CV$19,$BJ$21*$B$2))),0) -> FALSE
A83: RP 62 | BK83: =(BK$21*$B$2*(BK$19+(IF(BK$19=100,0,1)))) -> 0 | BL83: =IF('Hoja De Calculo'!BM$13>='Hoja De Calculo'!BL$13,IF(BL$18=100,($BK$21*BL$18*$B$2)-SUM($I83:BK83),IF(BL$18>BK$19,((BL$18-BK$19+1)*$B$2*$BK$21),IF(BL$18>=BK$19,$BK$21*$B$2))),0) -> FALSE | BM83: =IF('Hoja De Calculo'!BN$13>='Hoja De Calculo'!BM$13,IF(BM$18=100,($BK$21*BM$18*$B$2)-SUM($I83:BL83),IF(BM$18>BL$19,((BM$18-BL$19+1)*$B$2*$BK$21),IF(BM$18>=BL$19,$BK$21*$B$2))),0) -> FALSE | BN83: =IF('Hoja De Calculo'!BO$13>='Hoja De Calculo'!BN$13,IF(BN$18=100,($BK$21*BN$18*$B$2)-SUM($I83:BM83),IF(BN$18>BM$19,((BN$18-BM$19+1)*$B$2*$BK$21),IF(BN$18>=BM$19,$BK$21*$B$2))),0) -> FALSE | BO83: =IF('Hoja De Calculo'!BP$13>='Hoja De Calculo'!BO$13,IF(BO$18=100,($BK$21*BO$18*$B$2)-SUM($I83:BN83),IF(BO$18>BN$19,((BO$18-BN$19+1)*$B$2*$BK$21),IF(BO$18>=BN$19,$BK$21*$B$2))),0) -> FALSE | BP83: =IF('Hoja De Calculo'!BQ$13>='Hoja De Calculo'!BP$13,IF(BP$18=100,($BK$21*BP$18*$B$2)-SUM($I83:BO83),IF(BP$18>BO$19,((BP$18-BO$19+1)*$B$2*$BK$21),IF(BP$18>=BO$19,$BK$21*$B$2))),0) -> FALSE | BQ83: =IF('Hoja De Calculo'!BR$13>='Hoja De Calculo'!BQ$13,IF(BQ$18=100,($BK$21*BQ$18*$B$2)-SUM($I83:BP83),IF(BQ$18>BP$19,((BQ$18-BP$19+1)*$B$2*$BK$21),IF(BQ$18>=BP$19,$BK$21*$B$2))),0) -> FALSE | BR83: =IF('Hoja De Calculo'!BS$13>='Hoja De Calculo'!BR$13,IF(BR$18=100,($BK$21*BR$18*$B$2)-SUM($I83:BQ83),IF(BR$18>BQ$19,((BR$18-BQ$19+1)*$B$2*$BK$21),IF(BR$18>=BQ$19,$BK$21*$B$2))),0) -> FALSE | BS83: =IF('Hoja De Calculo'!BT$13>='Hoja De Calculo'!BS$13,IF(BS$18=100,($BK$21*BS$18*$B$2)-SUM($I83:BR83),IF(BS$18>BR$19,((BS$18-BR$19+1)*$B$2*$BK$21),IF(BS$18>=BR$19,$BK$21*$B$2))),0) -> FALSE | ... CW83: =IF('Hoja De Calculo'!CX$13>='Hoja De Calculo'!CW$13,IF(CW$18=100,($BK$21*CW$18*$B$2)-SUM($I83:CV83),IF(CW$18>CV$19,((CW$18-CV$19+1)*$B$2*$BK$21),IF(CW$18>=CV$19,$BK$21*$B$2))),0) -> FALSE
A84: RP 63 | BL84: =(BL$21*$B$2*(BL$19+(IF(BL$19=100,0,1)))) -> 0 | BM84: =IF('Hoja De Calculo'!BN$13>='Hoja De Calculo'!BM$13,IF(BM$18=100,($BL$21*BM$18*$B$2)-SUM($I84:BL84),IF(BM$18>BL$19,((BM$18-BL$19+1)*$B$2*$BL$21),IF(BM$18>=BL$19,$BL$21*$B$2))),0) -> FALSE | BN84: =IF('Hoja De Calculo'!BO$13>='Hoja De Calculo'!BN$13,IF(BN$18=100,($BL$21*BN$18*$B$2)-SUM($I84:BM84),IF(BN$18>BM$19,((BN$18-BM$19+1)*$B$2*$BL$21),IF(BN$18>=BM$19,$BL$21*$B$2))),0) -> FALSE | BO84: =IF('Hoja De Calculo'!BP$13>='Hoja De Calculo'!BO$13,IF(BO$18=100,($BL$21*BO$18*$B$2)-SUM($I84:BN84),IF(BO$18>BN$19,((BO$18-BN$19+1)*$B$2*$BL$21),IF(BO$18>=BN$19,$BL$21*$B$2))),0) -> FALSE | BP84: =IF('Hoja De Calculo'!BQ$13>='Hoja De Calculo'!BP$13,IF(BP$18=100,($BL$21*BP$18*$B$2)-SUM($I84:BO84),IF(BP$18>BO$19,((BP$18-BO$19+1)*$B$2*$BL$21),IF(BP$18>=BO$19,$BL$21*$B$2))),0) -> FALSE | BQ84: =IF('Hoja De Calculo'!BR$13>='Hoja De Calculo'!BQ$13,IF(BQ$18=100,($BL$21*BQ$18*$B$2)-SUM($I84:BP84),IF(BQ$18>BP$19,((BQ$18-BP$19+1)*$B$2*$BL$21),IF(BQ$18>=BP$19,$BL$21*$B$2))),0) -> FALSE | BR84: =IF('Hoja De Calculo'!BS$13>='Hoja De Calculo'!BR$13,IF(BR$18=100,($BL$21*BR$18*$B$2)-SUM($I84:BQ84),IF(BR$18>BQ$19,((BR$18-BQ$19+1)*$B$2*$BL$21),IF(BR$18>=BQ$19,$BL$21*$B$2))),0) -> FALSE | BS84: =IF('Hoja De Calculo'!BT$13>='Hoja De Calculo'!BS$13,IF(BS$18=100,($BL$21*BS$18*$B$2)-SUM($I84:BR84),IF(BS$18>BR$19,((BS$18-BR$19+1)*$B$2*$BL$21),IF(BS$18>=BR$19,$BL$21*$B$2))),0) -> FALSE | BT84: =IF('Hoja De Calculo'!BU$13>='Hoja De Calculo'!BT$13,IF(BT$18=100,($BL$21*BT$18*$B$2)-SUM($I84:BS84),IF(BT$18>BS$19,((BT$18-BS$19+1)*$B$2*$BL$21),IF(BT$18>=BS$19,$BL$21*$B$2))),0) -> FALSE | ... CW84: =IF('Hoja De Calculo'!CX$13>='Hoja De Calculo'!CW$13,IF(CW$18=100,($BL$21*CW$18*$B$2)-SUM($I84:CV84),IF(CW$18>CV$19,((CW$18-CV$19+1)*$B$2*$BL$21),IF(CW$18>=CV$19,$BL$21*$B$2))),0) -> FALSE
A85: RP 64 | BM85: =(BM$21*$B$2*(BM$19+(IF(BM$19=100,0,1)))) -> 0 | BN85: =IF('Hoja De Calculo'!BO$13>='Hoja De Calculo'!BN$13,IF(BN$18=100,($BM$21*BN$18*$B$2)-SUM($I85:BM85),IF(BN$18>BM$19,((BN$18-BM$19+1)*$B$2*$BM$21),IF(BN$18>=BM$19,$BM$21*$B$2))),0) -> FALSE | BO85: =IF('Hoja De Calculo'!BP$13>='Hoja De Calculo'!BO$13,IF(BO$18=100,($BM$21*BO$18*$B$2)-SUM($I85:BN85),IF(BO$18>BN$19,((BO$18-BN$19+1)*$B$2*$BM$21),IF(BO$18>=BN$19,$BM$21*$B$2))),0) -> FALSE | BP85: =IF('Hoja De Calculo'!BQ$13>='Hoja De Calculo'!BP$13,IF(BP$18=100,($BM$21*BP$18*$B$2)-SUM($I85:BO85),IF(BP$18>BO$19,((BP$18-BO$19+1)*$B$2*$BM$21),IF(BP$18>=BO$19,$BM$21*$B$2))),0) -> FALSE | BQ85: =IF('Hoja De Calculo'!BR$13>='Hoja De Calculo'!BQ$13,IF(BQ$18=100,($BM$21*BQ$18*$B$2)-SUM($I85:BP85),IF(BQ$18>BP$19,((BQ$18-BP$19+1)*$B$2*$BM$21),IF(BQ$18>=BP$19,$BM$21*$B$2))),0) -> FALSE | BR85: =IF('Hoja De Calculo'!BS$13>='Hoja De Calculo'!BR$13,IF(BR$18=100,($BM$21*BR$18*$B$2)-SUM($I85:BQ85),IF(BR$18>BQ$19,((BR$18-BQ$19+1)*$B$2*$BM$21),IF(BR$18>=BQ$19,$BM$21*$B$2))),0) -> FALSE | BS85: =IF('Hoja De Calculo'!BT$13>='Hoja De Calculo'!BS$13,IF(BS$18=100,($BM$21*BS$18*$B$2)-SUM($I85:BR85),IF(BS$18>BR$19,((BS$18-BR$19+1)*$B$2*$BM$21),IF(BS$18>=BR$19,$BM$21*$B$2))),0) -> FALSE | BT85: =IF('Hoja De Calculo'!BU$13>='Hoja De Calculo'!BT$13,IF(BT$18=100,($BM$21*BT$18*$B$2)-SUM($I85:BS85),IF(BT$18>BS$19,((BT$18-BS$19+1)*$B$2*$BM$21),IF(BT$18>=BS$19,$BM$21*$B$2))),0) -> FALSE | BU85: =IF('Hoja De Calculo'!BV$13>='Hoja De Calculo'!BU$13,IF(BU$18=100,($BM$21*BU$18*$B$2)-SUM($I85:BT85),IF(BU$18>BT$19,((BU$18-BT$19+1)*$B$2*$BM$21),IF(BU$18>=BT$19,$BM$21*$B$2))),0) -> FALSE | ... CW85: =IF('Hoja De Calculo'!CX$13>='Hoja De Calculo'!CW$13,IF(CW$18=100,($BM$21*CW$18*$B$2)-SUM($I85:CV85),IF(CW$18>CV$19,((CW$18-CV$19+1)*$B$2*$BM$21),IF(CW$18>=CV$19,$BM$21*$B$2))),0) -> FALSE
A86: RP 65 | BN86: =(BN$21*$B$2*(BN$19+(IF(BN$19=100,0,1)))) -> 0 | BO86: =IF('Hoja De Calculo'!BP$13>='Hoja De Calculo'!BO$13,IF(BO$18=100,($BN$21*BO$18*$B$2)-SUM($I86:BN86),IF(BO$18>BN$19,((BO$18-BN$19+1)*$B$2*$BN$21),IF(BO$18>=BN$19,$BN$21*$B$2))),0) -> FALSE | BP86: =IF('Hoja De Calculo'!BQ$13>='Hoja De Calculo'!BP$13,IF(BP$18=100,($BN$21*BP$18*$B$2)-SUM($I86:BO86),IF(BP$18>BO$19,((BP$18-BO$19+1)*$B$2*$BN$21),IF(BP$18>=BO$19,$BN$21*$B$2))),0) -> FALSE | BQ86: =IF('Hoja De Calculo'!BR$13>='Hoja De Calculo'!BQ$13,IF(BQ$18=100,($BN$21*BQ$18*$B$2)-SUM($I86:BP86),IF(BQ$18>BP$19,((BQ$18-BP$19+1)*$B$2*$BN$21),IF(BQ$18>=BP$19,$BN$21*$B$2))),0) -> FALSE | BR86: =IF('Hoja De Calculo'!BS$13>='Hoja De Calculo'!BR$13,IF(BR$18=100,($BN$21*BR$18*$B$2)-SUM($I86:BQ86),IF(BR$18>BQ$19,((BR$18-BQ$19+1)*$B$2*$BN$21),IF(BR$18>=BQ$19,$BN$21*$B$2))),0) -> FALSE | BS86: =IF('Hoja De Calculo'!BT$13>='Hoja De Calculo'!BS$13,IF(BS$18=100,($BN$21*BS$18*$B$2)-SUM($I86:BR86),IF(BS$18>BR$19,((BS$18-BR$19+1)*$B$2*$BN$21),IF(BS$18>=BR$19,$BN$21*$B$2))),0) -> FALSE | BT86: =IF('Hoja De Calculo'!BU$13>='Hoja De Calculo'!BT$13,IF(BT$18=100,($BN$21*BT$18*$B$2)-SUM($I86:BS86),IF(BT$18>BS$19,((BT$18-BS$19+1)*$B$2*$BN$21),IF(BT$18>=BS$19,$BN$21*$B$2))),0) -> FALSE | BU86: =IF('Hoja De Calculo'!BV$13>='Hoja De Calculo'!BU$13,IF(BU$18=100,($BN$21*BU$18*$B$2)-SUM($I86:BT86),IF(BU$18>BT$19,((BU$18-BT$19+1)*$B$2*$BN$21),IF(BU$18>=BT$19,$BN$21*$B$2))),0) -> FALSE | BV86: =IF('Hoja De Calculo'!BW$13>='Hoja De Calculo'!BV$13,IF(BV$18=100,($BN$21*BV$18*$B$2)-SUM($I86:BU86),IF(BV$18>BU$19,((BV$18-BU$19+1)*$B$2*$BN$21),IF(BV$18>=BU$19,$BN$21*$B$2))),0) -> FALSE | ... CW86: =IF('Hoja De Calculo'!CX$13>='Hoja De Calculo'!CW$13,IF(CW$18=100,($BN$21*CW$18*$B$2)-SUM($I86:CV86),IF(CW$18>CV$19,((CW$18-CV$19+1)*$B$2*$BN$21),IF(CW$18>=CV$19,$BN$21*$B$2))),0) -> FALSE
A87: RP 66 | BO87: =(BO$21*$B$2*(BO$19+(IF(BO$19=100,0,1)))) -> 0 | BP87: =IF('Hoja De Calculo'!BQ$13>='Hoja De Calculo'!BP$13,IF(BP$18=100,($BO$21*BP$18*$B$2)-SUM($I87:BO87),IF(BP$18>BO$19,((BP$18-BO$19+1)*$B$2*$BO$21),IF(BP$18>=BO$19,$BO$21*$B$2))),0) -> FALSE | BQ87: =IF('Hoja De Calculo'!BR$13>='Hoja De Calculo'!BQ$13,IF(BQ$18=100,($BO$21*BQ$18*$B$2)-SUM($I87:BP87),IF(BQ$18>BP$19,((BQ$18-BP$19+1)*$B$2*$BO$21),IF(BQ$18>=BP$19,$BO$21*$B$2))),0) -> FALSE | BR87: =IF('Hoja De Calculo'!BS$13>='Hoja De Calculo'!BR$13,IF(BR$18=100,($BO$21*BR$18*$B$2)-SUM($I87:BQ87),IF(BR$18>BQ$19,((BR$18-BQ$19+1)*$B$2*$BO$21),IF(BR$18>=BQ$19,$BO$21*$B$2))),0) -> FALSE | BS87: =IF('Hoja De Calculo'!BT$13>='Hoja De Calculo'!BS$13,IF(BS$18=100,($BO$21*BS$18*$B$2)-SUM($I87:BR87),IF(BS$18>BR$19,((BS$18-BR$19+1)*$B$2*$BO$21),IF(BS$18>=BR$19,$BO$21*$B$2))),0) -> FALSE | BT87: =IF('Hoja De Calculo'!BU$13>='Hoja De Calculo'!BT$13,IF(BT$18=100,($BO$21*BT$18*$B$2)-SUM($I87:BS87),IF(BT$18>BS$19,((BT$18-BS$19+1)*$B$2*$BO$21),IF(BT$18>=BS$19,$BO$21*$B$2))),0) -> FALSE | BU87: =IF('Hoja De Calculo'!BV$13>='Hoja De Calculo'!BU$13,IF(BU$18=100,($BO$21*BU$18*$B$2)-SUM($I87:BT87),IF(BU$18>BT$19,((BU$18-BT$19+1)*$B$2*$BO$21),IF(BU$18>=BT$19,$BO$21*$B$2))),0) -> FALSE | BV87: =IF('Hoja De Calculo'!BW$13>='Hoja De Calculo'!BV$13,IF(BV$18=100,($BO$21*BV$18*$B$2)-SUM($I87:BU87),IF(BV$18>BU$19,((BV$18-BU$19+1)*$B$2*$BO$21),IF(BV$18>=BU$19,$BO$21*$B$2))),0) -> FALSE | BW87: =IF('Hoja De Calculo'!BX$13>='Hoja De Calculo'!BW$13,IF(BW$18=100,($BO$21*BW$18*$B$2)-SUM($I87:BV87),IF(BW$18>BV$19,((BW$18-BV$19+1)*$B$2*$BO$21),IF(BW$18>=BV$19,$BO$21*$B$2))),0) -> FALSE | ... CW87: =IF('Hoja De Calculo'!CX$13>='Hoja De Calculo'!CW$13,IF(CW$18=100,($BO$21*CW$18*$B$2)-SUM($I87:CV87),IF(CW$18>CV$19,((CW$18-CV$19+1)*$B$2*$BO$21),IF(CW$18>=CV$19,$BO$21*$B$2))),0) -> FALSE
A88: RP 67 | BP88: =(BP$21*$B$2*(BP$19+(IF(BP$19=100,0,1)))) -> 0 | BQ88: =IF('Hoja De Calculo'!BR$13>='Hoja De Calculo'!BQ$13,IF(BQ$18=100,($BP$21*BQ$18*$B$2)-SUM($I88:BP88),IF(BQ$18>BP$19,((BQ$18-BP$19+1)*$B$2*$BP$21),IF(BQ$18>=BP$19,$BP$21*$B$2))),0) -> FALSE | BR88: =IF('Hoja De Calculo'!BS$13>='Hoja De Calculo'!BR$13,IF(BR$18=100,($BP$21*BR$18*$B$2)-SUM($I88:BQ88),IF(BR$18>BQ$19,((BR$18-BQ$19+1)*$B$2*$BP$21),IF(BR$18>=BQ$19,$BP$21*$B$2))),0) -> FALSE | BS88: =IF('Hoja De Calculo'!BT$13>='Hoja De Calculo'!BS$13,IF(BS$18=100,($BP$21*BS$18*$B$2)-SUM($I88:BR88),IF(BS$18>BR$19,((BS$18-BR$19+1)*$B$2*$BP$21),IF(BS$18>=BR$19,$BP$21*$B$2))),0) -> FALSE | BT88: =IF('Hoja De Calculo'!BU$13>='Hoja De Calculo'!BT$13,IF(BT$18=100,($BP$21*BT$18*$B$2)-SUM($I88:BS88),IF(BT$18>BS$19,((BT$18-BS$19+1)*$B$2*$BP$21),IF(BT$18>=BS$19,$BP$21*$B$2))),0) -> FALSE | BU88: =IF('Hoja De Calculo'!BV$13>='Hoja De Calculo'!BU$13,IF(BU$18=100,($BP$21*BU$18*$B$2)-SUM($I88:BT88),IF(BU$18>BT$19,((BU$18-BT$19+1)*$B$2*$BP$21),IF(BU$18>=BT$19,$BP$21*$B$2))),0) -> FALSE | BV88: =IF('Hoja De Calculo'!BW$13>='Hoja De Calculo'!BV$13,IF(BV$18=100,($BP$21*BV$18*$B$2)-SUM($I88:BU88),IF(BV$18>BU$19,((BV$18-BU$19+1)*$B$2*$BP$21),IF(BV$18>=BU$19,$BP$21*$B$2))),0) -> FALSE | BW88: =IF('Hoja De Calculo'!BX$13>='Hoja De Calculo'!BW$13,IF(BW$18=100,($BP$21*BW$18*$B$2)-SUM($I88:BV88),IF(BW$18>BV$19,((BW$18-BV$19+1)*$B$2*$BP$21),IF(BW$18>=BV$19,$BP$21*$B$2))),0) -> FALSE | BX88: =IF('Hoja De Calculo'!BY$13>='Hoja De Calculo'!BX$13,IF(BX$18=100,($BP$21*BX$18*$B$2)-SUM($I88:BW88),IF(BX$18>BW$19,((BX$18-BW$19+1)*$B$2*$BP$21),IF(BX$18>=BW$19,$BP$21*$B$2))),0) -> FALSE | ... CW88: =IF('Hoja De Calculo'!CX$13>='Hoja De Calculo'!CW$13,IF(CW$18=100,($BP$21*CW$18*$B$2)-SUM($I88:CV88),IF(CW$18>CV$19,((CW$18-CV$19+1)*$B$2*$BP$21),IF(CW$18>=CV$19,$BP$21*$B$2))),0) -> FALSE
A89: RP 68 | BQ89: =(BQ$21*$B$2*(BQ$19+(IF(BQ$19=100,0,1)))) -> 0 | BR89: =IF('Hoja De Calculo'!BS$13>='Hoja De Calculo'!BR$13,IF(BR$18=100,($BQ$21*BR$18*$B$2)-SUM($I89:BQ89),IF(BR$18>BQ$19,((BR$18-BQ$19+1)*$B$2*$BQ$21),IF(BR$18>=BQ$19,$BQ$21*$B$2))),0) -> FALSE | BS89: =IF('Hoja De Calculo'!BT$13>='Hoja De Calculo'!BS$13,IF(BS$18=100,($BQ$21*BS$18*$B$2)-SUM($I89:BR89),IF(BS$18>BR$19,((BS$18-BR$19+1)*$B$2*$BQ$21),IF(BS$18>=BR$19,$BQ$21*$B$2))),0) -> FALSE | BT89: =IF('Hoja De Calculo'!BU$13>='Hoja De Calculo'!BT$13,IF(BT$18=100,($BQ$21*BT$18*$B$2)-SUM($I89:BS89),IF(BT$18>BS$19,((BT$18-BS$19+1)*$B$2*$BQ$21),IF(BT$18>=BS$19,$BQ$21*$B$2))),0) -> FALSE | BU89: =IF('Hoja De Calculo'!BV$13>='Hoja De Calculo'!BU$13,IF(BU$18=100,($BQ$21*BU$18*$B$2)-SUM($I89:BT89),IF(BU$18>BT$19,((BU$18-BT$19+1)*$B$2*$BQ$21),IF(BU$18>=BT$19,$BQ$21*$B$2))),0) -> FALSE | BV89: =IF('Hoja De Calculo'!BW$13>='Hoja De Calculo'!BV$13,IF(BV$18=100,($BQ$21*BV$18*$B$2)-SUM($I89:BU89),IF(BV$18>BU$19,((BV$18-BU$19+1)*$B$2*$BQ$21),IF(BV$18>=BU$19,$BQ$21*$B$2))),0) -> FALSE | BW89: =IF('Hoja De Calculo'!BX$13>='Hoja De Calculo'!BW$13,IF(BW$18=100,($BQ$21*BW$18*$B$2)-SUM($I89:BV89),IF(BW$18>BV$19,((BW$18-BV$19+1)*$B$2*$BQ$21),IF(BW$18>=BV$19,$BQ$21*$B$2))),0) -> FALSE | BX89: =IF('Hoja De Calculo'!BY$13>='Hoja De Calculo'!BX$13,IF(BX$18=100,($BQ$21*BX$18*$B$2)-SUM($I89:BW89),IF(BX$18>BW$19,((BX$18-BW$19+1)*$B$2*$BQ$21),IF(BX$18>=BW$19,$BQ$21*$B$2))),0) -> FALSE | BY89: =IF('Hoja De Calculo'!BZ$13>='Hoja De Calculo'!BY$13,IF(BY$18=100,($BQ$21*BY$18*$B$2)-SUM($I89:BX89),IF(BY$18>BX$19,((BY$18-BX$19+1)*$B$2*$BQ$21),IF(BY$18>=BX$19,$BQ$21*$B$2))),0) -> FALSE | ... CW89: =IF('Hoja De Calculo'!CX$13>='Hoja De Calculo'!CW$13,IF(CW$18=100,($BQ$21*CW$18*$B$2)-SUM($I89:CV89),IF(CW$18>CV$19,((CW$18-CV$19+1)*$B$2*$BQ$21),IF(CW$18>=CV$19,$BQ$21*$B$2))),0) -> FALSE
A90: RP 69 | BR90: =(BR$21*$B$2*(BR$19+(IF(BR$19=100,0,1)))) -> 0 | BS90: =IF('Hoja De Calculo'!BT$13>='Hoja De Calculo'!BS$13,IF(BS$18=100,($BR$21*BS$18*$B$2)-SUM($I90:BR90),IF(BS$18>BR$19,((BS$18-BR$19+1)*$B$2*$BR$21),IF(BS$18>=BR$19,$BR$21*$B$2))),0) -> FALSE | BT90: =IF('Hoja De Calculo'!BU$13>='Hoja De Calculo'!BT$13,IF(BT$18=100,($BR$21*BT$18*$B$2)-SUM($I90:BS90),IF(BT$18>BS$19,((BT$18-BS$19+1)*$B$2*$BR$21),IF(BT$18>=BS$19,$BR$21*$B$2))),0) -> FALSE | BU90: =IF('Hoja De Calculo'!BV$13>='Hoja De Calculo'!BU$13,IF(BU$18=100,($BR$21*BU$18*$B$2)-SUM($I90:BT90),IF(BU$18>BT$19,((BU$18-BT$19+1)*$B$2*$BR$21),IF(BU$18>=BT$19,$BR$21*$B$2))),0) -> FALSE | BV90: =IF('Hoja De Calculo'!BW$13>='Hoja De Calculo'!BV$13,IF(BV$18=100,($BR$21*BV$18*$B$2)-SUM($I90:BU90),IF(BV$18>BU$19,((BV$18-BU$19+1)*$B$2*$BR$21),IF(BV$18>=BU$19,$BR$21*$B$2))),0) -> FALSE | BW90: =IF('Hoja De Calculo'!BX$13>='Hoja De Calculo'!BW$13,IF(BW$18=100,($BR$21*BW$18*$B$2)-SUM($I90:BV90),IF(BW$18>BV$19,((BW$18-BV$19+1)*$B$2*$BR$21),IF(BW$18>=BV$19,$BR$21*$B$2))),0) -> FALSE | BX90: =IF('Hoja De Calculo'!BY$13>='Hoja De Calculo'!BX$13,IF(BX$18=100,($BR$21*BX$18*$B$2)-SUM($I90:BW90),IF(BX$18>BW$19,((BX$18-BW$19+1)*$B$2*$BR$21),IF(BX$18>=BW$19,$BR$21*$B$2))),0) -> FALSE | BY90: =IF('Hoja De Calculo'!BZ$13>='Hoja De Calculo'!BY$13,IF(BY$18=100,($BR$21*BY$18*$B$2)-SUM($I90:BX90),IF(BY$18>BX$19,((BY$18-BX$19+1)*$B$2*$BR$21),IF(BY$18>=BX$19,$BR$21*$B$2))),0) -> FALSE | BZ90: =IF('Hoja De Calculo'!CA$13>='Hoja De Calculo'!BZ$13,IF(BZ$18=100,($BR$21*BZ$18*$B$2)-SUM($I90:BY90),IF(BZ$18>BY$19,((BZ$18-BY$19+1)*$B$2*$BR$21),IF(BZ$18>=BY$19,$BR$21*$B$2))),0) -> FALSE | ... CW90: =IF('Hoja De Calculo'!CX$13>='Hoja De Calculo'!CW$13,IF(CW$18=100,($BR$21*CW$18*$B$2)-SUM($I90:CV90),IF(CW$18>CV$19,((CW$18-CV$19+1)*$B$2*$BR$21),IF(CW$18>=CV$19,$BR$21*$B$2))),0) -> FALSE
A91: RP 70 | BS91: =(BS$21*$B$2*(BS$19+(IF(BS$19=100,0,1)))) -> 0 | BT91: =IF('Hoja De Calculo'!BU$13>='Hoja De Calculo'!BT$13,IF(BT$18=100,($BS$21*BT$18*$B$2)-SUM($I91:BS91),IF(BT$18>BS$19,((BT$18-BS$19+1)*$B$2*$BS$21),IF(BT$18>=BS$19,$BS$21*$B$2))),0) -> FALSE | BU91: =IF('Hoja De Calculo'!BV$13>='Hoja De Calculo'!BU$13,IF(BU$18=100,($BS$21*BU$18*$B$2)-SUM($I91:BT91),IF(BU$18>BT$19,((BU$18-BT$19+1)*$B$2*$BS$21),IF(BU$18>=BT$19,$BS$21*$B$2))),0) -> FALSE | BV91: =IF('Hoja De Calculo'!BW$13>='Hoja De Calculo'!BV$13,IF(BV$18=100,($BS$21*BV$18*$B$2)-SUM($I91:BU91),IF(BV$18>BU$19,((BV$18-BU$19+1)*$B$2*$BS$21),IF(BV$18>=BU$19,$BS$21*$B$2))),0) -> FALSE | BW91: =IF('Hoja De Calculo'!BX$13>='Hoja De Calculo'!BW$13,IF(BW$18=100,($BS$21*BW$18*$B$2)-SUM($I91:BV91),IF(BW$18>BV$19,((BW$18-BV$19+1)*$B$2*$BS$21),IF(BW$18>=BV$19,$BS$21*$B$2))),0) -> FALSE | BX91: =IF('Hoja De Calculo'!BY$13>='Hoja De Calculo'!BX$13,IF(BX$18=100,($BS$21*BX$18*$B$2)-SUM($I91:BW91),IF(BX$18>BW$19,((BX$18-BW$19+1)*$B$2*$BS$21),IF(BX$18>=BW$19,$BS$21*$B$2))),0) -> FALSE | BY91: =IF('Hoja De Calculo'!BZ$13>='Hoja De Calculo'!BY$13,IF(BY$18=100,($BS$21*BY$18*$B$2)-SUM($I91:BX91),IF(BY$18>BX$19,((BY$18-BX$19+1)*$B$2*$BS$21),IF(BY$18>=BX$19,$BS$21*$B$2))),0) -> FALSE | BZ91: =IF('Hoja De Calculo'!CA$13>='Hoja De Calculo'!BZ$13,IF(BZ$18=100,($BS$21*BZ$18*$B$2)-SUM($I91:BY91),IF(BZ$18>BY$19,((BZ$18-BY$19+1)*$B$2*$BS$21),IF(BZ$18>=BY$19,$BS$21*$B$2))),0) -> FALSE | CA91: =IF('Hoja De Calculo'!CB$13>='Hoja De Calculo'!CA$13,IF(CA$18=100,($BS$21*CA$18*$B$2)-SUM($I91:BZ91),IF(CA$18>BZ$19,((CA$18-BZ$19+1)*$B$2*$BS$21),IF(CA$18>=BZ$19,$BS$21*$B$2))),0) -> FALSE | ... CW91: =IF('Hoja De Calculo'!CX$13>='Hoja De Calculo'!CW$13,IF(CW$18=100,($BS$21*CW$18*$B$2)-SUM($I91:CV91),IF(CW$18>CV$19,((CW$18-CV$19+1)*$B$2*$BS$21),IF(CW$18>=CV$19,$BS$21*$B$2))),0) -> FALSE
A92: RP 71 | BT92: =(BT$21*$B$2*(BT$19+(IF(BT$19=100,0,1)))) -> 0 | BU92: =IF('Hoja De Calculo'!BV$13>='Hoja De Calculo'!BU$13,IF(BU$18=100,($BT$21*BU$18*$B$2)-SUM($I92:BT92),IF(BU$18>BT$19,((BU$18-BT$19+1)*$B$2*$BT$21),IF(BU$18>=BT$19,$BT$21*$B$2))),0) -> FALSE | BV92: =IF('Hoja De Calculo'!BW$13>='Hoja De Calculo'!BV$13,IF(BV$18=100,($BT$21*BV$18*$B$2)-SUM($I92:BU92),IF(BV$18>BU$19,((BV$18-BU$19+1)*$B$2*$BT$21),IF(BV$18>=BU$19,$BT$21*$B$2))),0) -> FALSE | BW92: =IF('Hoja De Calculo'!BX$13>='Hoja De Calculo'!BW$13,IF(BW$18=100,($BT$21*BW$18*$B$2)-SUM($I92:BV92),IF(BW$18>BV$19,((BW$18-BV$19+1)*$B$2*$BT$21),IF(BW$18>=BV$19,$BT$21*$B$2))),0) -> FALSE | BX92: =IF('Hoja De Calculo'!BY$13>='Hoja De Calculo'!BX$13,IF(BX$18=100,($BT$21*BX$18*$B$2)-SUM($I92:BW92),IF(BX$18>BW$19,((BX$18-BW$19+1)*$B$2*$BT$21),IF(BX$18>=BW$19,$BT$21*$B$2))),0) -> FALSE | BY92: =IF('Hoja De Calculo'!BZ$13>='Hoja De Calculo'!BY$13,IF(BY$18=100,($BT$21*BY$18*$B$2)-SUM($I92:BX92),IF(BY$18>BX$19,((BY$18-BX$19+1)*$B$2*$BT$21),IF(BY$18>=BX$19,$BT$21*$B$2))),0) -> FALSE | BZ92: =IF('Hoja De Calculo'!CA$13>='Hoja De Calculo'!BZ$13,IF(BZ$18=100,($BT$21*BZ$18*$B$2)-SUM($I92:BY92),IF(BZ$18>BY$19,((BZ$18-BY$19+1)*$B$2*$BT$21),IF(BZ$18>=BY$19,$BT$21*$B$2))),0) -> FALSE | CA92: =IF('Hoja De Calculo'!CB$13>='Hoja De Calculo'!CA$13,IF(CA$18=100,($BT$21*CA$18*$B$2)-SUM($I92:BZ92),IF(CA$18>BZ$19,((CA$18-BZ$19+1)*$B$2*$BT$21),IF(CA$18>=BZ$19,$BT$21*$B$2))),0) -> FALSE | CB92: =IF('Hoja De Calculo'!CC$13>='Hoja De Calculo'!CB$13,IF(CB$18=100,($BT$21*CB$18*$B$2)-SUM($I92:CA92),IF(CB$18>CA$19,((CB$18-CA$19+1)*$B$2*$BT$21),IF(CB$18>=CA$19,$BT$21*$B$2))),0) -> FALSE | ... CW92: =IF('Hoja De Calculo'!CX$13>='Hoja De Calculo'!CW$13,IF(CW$18=100,($BT$21*CW$18*$B$2)-SUM($I92:CV92),IF(CW$18>CV$19,((CW$18-CV$19+1)*$B$2*$BT$21),IF(CW$18>=CV$19,$BT$21*$B$2))),0) -> FALSE
A93: RP 72 | BU93: =(BU$21*$B$2*(BU$19+(IF(BU$19=100,0,1)))) -> 0 | BV93: =IF('Hoja De Calculo'!BW$13>='Hoja De Calculo'!BV$13,IF(BV$18=100,($BU$21*BV$18*$B$2)-SUM($I93:BU93),IF(BV$18>BU$19,((BV$18-BU$19+1)*$B$2*$BU$21),IF(BV$18>=BU$19,$BU$21*$B$2))),0) -> FALSE | BW93: =IF('Hoja De Calculo'!BX$13>='Hoja De Calculo'!BW$13,IF(BW$18=100,($BU$21*BW$18*$B$2)-SUM($I93:BV93),IF(BW$18>BV$19,((BW$18-BV$19+1)*$B$2*$BU$21),IF(BW$18>=BV$19,$BU$21*$B$2))),0) -> FALSE | BX93: =IF('Hoja De Calculo'!BY$13>='Hoja De Calculo'!BX$13,IF(BX$18=100,($BU$21*BX$18*$B$2)-SUM($I93:BW93),IF(BX$18>BW$19,((BX$18-BW$19+1)*$B$2*$BU$21),IF(BX$18>=BW$19,$BU$21*$B$2))),0) -> FALSE | BY93: =IF('Hoja De Calculo'!BZ$13>='Hoja De Calculo'!BY$13,IF(BY$18=100,($BU$21*BY$18*$B$2)-SUM($I93:BX93),IF(BY$18>BX$19,((BY$18-BX$19+1)*$B$2*$BU$21),IF(BY$18>=BX$19,$BU$21*$B$2))),0) -> FALSE | BZ93: =IF('Hoja De Calculo'!CA$13>='Hoja De Calculo'!BZ$13,IF(BZ$18=100,($BU$21*BZ$18*$B$2)-SUM($I93:BY93),IF(BZ$18>BY$19,((BZ$18-BY$19+1)*$B$2*$BU$21),IF(BZ$18>=BY$19,$BU$21*$B$2))),0) -> FALSE | CA93: =IF('Hoja De Calculo'!CB$13>='Hoja De Calculo'!CA$13,IF(CA$18=100,($BU$21*CA$18*$B$2)-SUM($I93:BZ93),IF(CA$18>BZ$19,((CA$18-BZ$19+1)*$B$2*$BU$21),IF(CA$18>=BZ$19,$BU$21*$B$2))),0) -> FALSE | CB93: =IF('Hoja De Calculo'!CC$13>='Hoja De Calculo'!CB$13,IF(CB$18=100,($BU$21*CB$18*$B$2)-SUM($I93:CA93),IF(CB$18>CA$19,((CB$18-CA$19+1)*$B$2*$BU$21),IF(CB$18>=CA$19,$BU$21*$B$2))),0) -> FALSE | CC93: =IF('Hoja De Calculo'!CD$13>='Hoja De Calculo'!CC$13,IF(CC$18=100,($BU$21*CC$18*$B$2)-SUM($I93:CB93),IF(CC$18>CB$19,((CC$18-CB$19+1)*$B$2*$BU$21),IF(CC$18>=CB$19,$BU$21*$B$2))),0) -> FALSE | ... CW93: =IF('Hoja De Calculo'!CX$13>='Hoja De Calculo'!CW$13,IF(CW$18=100,($BU$21*CW$18*$B$2)-SUM($I93:CV93),IF(CW$18>CV$19,((CW$18-CV$19+1)*$B$2*$BU$21),IF(CW$18>=CV$19,$BU$21*$B$2))),0) -> FALSE
A94: RP 73 | BV94: =(BV$21*$B$2*(BV$19+(IF(BV$19=100,0,1)))) -> 0 | BW94: =IF('Hoja De Calculo'!BX$13>='Hoja De Calculo'!BW$13,IF(BW$18=100,($BV$21*BW$18*$B$2)-SUM($I94:BV94),IF(BW$18>BV$19,((BW$18-BV$19+1)*$B$2*$BV$21),IF(BW$18>=BV$19,$BV$21*$B$2))),0) -> FALSE | BX94: =IF('Hoja De Calculo'!BY$13>='Hoja De Calculo'!BX$13,IF(BX$18=100,($BV$21*BX$18*$B$2)-SUM($I94:BW94),IF(BX$18>BW$19,((BX$18-BW$19+1)*$B$2*$BV$21),IF(BX$18>=BW$19,$BV$21*$B$2))),0) -> FALSE | BY94: =IF('Hoja De Calculo'!BZ$13>='Hoja De Calculo'!BY$13,IF(BY$18=100,($BV$21*BY$18*$B$2)-SUM($I94:BX94),IF(BY$18>BX$19,((BY$18-BX$19+1)*$B$2*$BV$21),IF(BY$18>=BX$19,$BV$21*$B$2))),0) -> FALSE | BZ94: =IF('Hoja De Calculo'!CA$13>='Hoja De Calculo'!BZ$13,IF(BZ$18=100,($BV$21*BZ$18*$B$2)-SUM($I94:BY94),IF(BZ$18>BY$19,((BZ$18-BY$19+1)*$B$2*$BV$21),IF(BZ$18>=BY$19,$BV$21*$B$2))),0) -> FALSE | CA94: =IF('Hoja De Calculo'!CB$13>='Hoja De Calculo'!CA$13,IF(CA$18=100,($BV$21*CA$18*$B$2)-SUM($I94:BZ94),IF(CA$18>BZ$19,((CA$18-BZ$19+1)*$B$2*$BV$21),IF(CA$18>=BZ$19,$BV$21*$B$2))),0) -> FALSE | CB94: =IF('Hoja De Calculo'!CC$13>='Hoja De Calculo'!CB$13,IF(CB$18=100,($BV$21*CB$18*$B$2)-SUM($I94:CA94),IF(CB$18>CA$19,((CB$18-CA$19+1)*$B$2*$BV$21),IF(CB$18>=CA$19,$BV$21*$B$2))),0) -> FALSE | CC94: =IF('Hoja De Calculo'!CD$13>='Hoja De Calculo'!CC$13,IF(CC$18=100,($BV$21*CC$18*$B$2)-SUM($I94:CB94),IF(CC$18>CB$19,((CC$18-CB$19+1)*$B$2*$BV$21),IF(CC$18>=CB$19,$BV$21*$B$2))),0) -> FALSE | CD94: =IF('Hoja De Calculo'!CE$13>='Hoja De Calculo'!CD$13,IF(CD$18=100,($BV$21*CD$18*$B$2)-SUM($I94:CC94),IF(CD$18>CC$19,((CD$18-CC$19+1)*$B$2*$BV$21),IF(CD$18>=CC$19,$BV$21*$B$2))),0) -> FALSE | ... CW94: =IF('Hoja De Calculo'!CX$13>='Hoja De Calculo'!CW$13,IF(CW$18=100,($BV$21*CW$18*$B$2)-SUM($I94:CV94),IF(CW$18>CV$19,((CW$18-CV$19+1)*$B$2*$BV$21),IF(CW$18>=CV$19,$BV$21*$B$2))),0) -> FALSE
A95: RP 74 | BW95: =(BW$21*$B$2*(BW$19+(IF(BW$19=100,0,1)))) -> 0 | BX95: =IF('Hoja De Calculo'!BY$13>='Hoja De Calculo'!BX$13,IF(BX$18=100,($BW$21*BX$18*$B$2)-SUM($I95:BW95),IF(BX$18>BW$19,((BX$18-BW$19+1)*$B$2*$BW$21),IF(BX$18>=BW$19,$BW$21*$B$2))),0) -> FALSE | BY95: =IF('Hoja De Calculo'!BZ$13>='Hoja De Calculo'!BY$13,IF(BY$18=100,($BW$21*BY$18*$B$2)-SUM($I95:BX95),IF(BY$18>BX$19,((BY$18-BX$19+1)*$B$2*$BW$21),IF(BY$18>=BX$19,$BW$21*$B$2))),0) -> FALSE | BZ95: =IF('Hoja De Calculo'!CA$13>='Hoja De Calculo'!BZ$13,IF(BZ$18=100,($BW$21*BZ$18*$B$2)-SUM($I95:BY95),IF(BZ$18>BY$19,((BZ$18-BY$19+1)*$B$2*$BW$21),IF(BZ$18>=BY$19,$BW$21*$B$2))),0) -> FALSE | CA95: =IF('Hoja De Calculo'!CB$13>='Hoja De Calculo'!CA$13,IF(CA$18=100,($BW$21*CA$18*$B$2)-SUM($I95:BZ95),IF(CA$18>BZ$19,((CA$18-BZ$19+1)*$B$2*$BW$21),IF(CA$18>=BZ$19,$BW$21*$B$2))),0) -> FALSE | CB95: =IF('Hoja De Calculo'!CC$13>='Hoja De Calculo'!CB$13,IF(CB$18=100,($BW$21*CB$18*$B$2)-SUM($I95:CA95),IF(CB$18>CA$19,((CB$18-CA$19+1)*$B$2*$BW$21),IF(CB$18>=CA$19,$BW$21*$B$2))),0) -> FALSE | CC95: =IF('Hoja De Calculo'!CD$13>='Hoja De Calculo'!CC$13,IF(CC$18=100,($BW$21*CC$18*$B$2)-SUM($I95:CB95),IF(CC$18>CB$19,((CC$18-CB$19+1)*$B$2*$BW$21),IF(CC$18>=CB$19,$BW$21*$B$2))),0) -> FALSE | CD95: =IF('Hoja De Calculo'!CE$13>='Hoja De Calculo'!CD$13,IF(CD$18=100,($BW$21*CD$18*$B$2)-SUM($I95:CC95),IF(CD$18>CC$19,((CD$18-CC$19+1)*$B$2*$BW$21),IF(CD$18>=CC$19,$BW$21*$B$2))),0) -> FALSE | CE95: =IF('Hoja De Calculo'!CF$13>='Hoja De Calculo'!CE$13,IF(CE$18=100,($BW$21*CE$18*$B$2)-SUM($I95:CD95),IF(CE$18>CD$19,((CE$18-CD$19+1)*$B$2*$BW$21),IF(CE$18>=CD$19,$BW$21*$B$2))),0) -> FALSE | ... CW95: =IF('Hoja De Calculo'!CX$13>='Hoja De Calculo'!CW$13,IF(CW$18=100,($BW$21*CW$18*$B$2)-SUM($I95:CV95),IF(CW$18>CV$19,((CW$18-CV$19+1)*$B$2*$BW$21),IF(CW$18>=CV$19,$BW$21*$B$2))),0) -> FALSE
A96: RP 75 | BX96: =(BX$21*$B$2*(BX$19+(IF(BX$19=100,0,1)))) -> 0 | BY96: =IF('Hoja De Calculo'!BZ$13>='Hoja De Calculo'!BY$13,IF(BY$18=100,($BX$21*BY$18*$B$2)-SUM($I96:BX96),IF(BY$18>BX$19,((BY$18-BX$19+1)*$B$2*$BX$21),IF(BY$18>=BX$19,$BX$21*$B$2))),0) -> FALSE | BZ96: =IF('Hoja De Calculo'!CA$13>='Hoja De Calculo'!BZ$13,IF(BZ$18=100,($BX$21*BZ$18*$B$2)-SUM($I96:BY96),IF(BZ$18>BY$19,((BZ$18-BY$19+1)*$B$2*$BX$21),IF(BZ$18>=BY$19,$BX$21*$B$2))),0) -> FALSE | CA96: =IF('Hoja De Calculo'!CB$13>='Hoja De Calculo'!CA$13,IF(CA$18=100,($BX$21*CA$18*$B$2)-SUM($I96:BZ96),IF(CA$18>BZ$19,((CA$18-BZ$19+1)*$B$2*$BX$21),IF(CA$18>=BZ$19,$BX$21*$B$2))),0) -> FALSE | CB96: =IF('Hoja De Calculo'!CC$13>='Hoja De Calculo'!CB$13,IF(CB$18=100,($BX$21*CB$18*$B$2)-SUM($I96:CA96),IF(CB$18>CA$19,((CB$18-CA$19+1)*$B$2*$BX$21),IF(CB$18>=CA$19,$BX$21*$B$2))),0) -> FALSE | CC96: =IF('Hoja De Calculo'!CD$13>='Hoja De Calculo'!CC$13,IF(CC$18=100,($BX$21*CC$18*$B$2)-SUM($I96:CB96),IF(CC$18>CB$19,((CC$18-CB$19+1)*$B$2*$BX$21),IF(CC$18>=CB$19,$BX$21*$B$2))),0) -> FALSE | CD96: =IF('Hoja De Calculo'!CE$13>='Hoja De Calculo'!CD$13,IF(CD$18=100,($BX$21*CD$18*$B$2)-SUM($I96:CC96),IF(CD$18>CC$19,((CD$18-CC$19+1)*$B$2*$BX$21),IF(CD$18>=CC$19,$BX$21*$B$2))),0) -> FALSE | CE96: =IF('Hoja De Calculo'!CF$13>='Hoja De Calculo'!CE$13,IF(CE$18=100,($BX$21*CE$18*$B$2)-SUM($I96:CD96),IF(CE$18>CD$19,((CE$18-CD$19+1)*$B$2*$BX$21),IF(CE$18>=CD$19,$BX$21*$B$2))),0) -> FALSE | CF96: =IF('Hoja De Calculo'!CG$13>='Hoja De Calculo'!CF$13,IF(CF$18=100,($BX$21*CF$18*$B$2)-SUM($I96:CE96),IF(CF$18>CE$19,((CF$18-CE$19+1)*$B$2*$BX$21),IF(CF$18>=CE$19,$BX$21*$B$2))),0) -> FALSE | ... CW96: =IF('Hoja De Calculo'!CX$13>='Hoja De Calculo'!CW$13,IF(CW$18=100,($BX$21*CW$18*$B$2)-SUM($I96:CV96),IF(CW$18>CV$19,((CW$18-CV$19+1)*$B$2*$BX$21),IF(CW$18>=CV$19,$BX$21*$B$2))),0) -> FALSE
A97: RP 76 | BY97: =(BY$21*$B$2*(BY$19+(IF(BY$19=100,0,1)))) -> 0 | BZ97: =IF('Hoja De Calculo'!CA$13>='Hoja De Calculo'!BZ$13,IF(BZ$18=100,($BY$21*BZ$18*$B$2)-SUM($I97:BY97),IF(BZ$18>BY$19,((BZ$18-BY$19+1)*$B$2*$BY$21),IF(BZ$18>=BY$19,$BY$21*$B$2))),0) -> FALSE | CA97: =IF('Hoja De Calculo'!CB$13>='Hoja De Calculo'!CA$13,IF(CA$18=100,($BY$21*CA$18*$B$2)-SUM($I97:BZ97),IF(CA$18>BZ$19,((CA$18-BZ$19+1)*$B$2*$BY$21),IF(CA$18>=BZ$19,$BY$21*$B$2))),0) -> FALSE | CB97: =IF('Hoja De Calculo'!CC$13>='Hoja De Calculo'!CB$13,IF(CB$18=100,($BY$21*CB$18*$B$2)-SUM($I97:CA97),IF(CB$18>CA$19,((CB$18-CA$19+1)*$B$2*$BY$21),IF(CB$18>=CA$19,$BY$21*$B$2))),0) -> FALSE | CC97: =IF('Hoja De Calculo'!CD$13>='Hoja De Calculo'!CC$13,IF(CC$18=100,($BY$21*CC$18*$B$2)-SUM($I97:CB97),IF(CC$18>CB$19,((CC$18-CB$19+1)*$B$2*$BY$21),IF(CC$18>=CB$19,$BY$21*$B$2))),0) -> FALSE | CD97: =IF('Hoja De Calculo'!CE$13>='Hoja De Calculo'!CD$13,IF(CD$18=100,($BY$21*CD$18*$B$2)-SUM($I97:CC97),IF(CD$18>CC$19,((CD$18-CC$19+1)*$B$2*$BY$21),IF(CD$18>=CC$19,$BY$21*$B$2))),0) -> FALSE | CE97: =IF('Hoja De Calculo'!CF$13>='Hoja De Calculo'!CE$13,IF(CE$18=100,($BY$21*CE$18*$B$2)-SUM($I97:CD97),IF(CE$18>CD$19,((CE$18-CD$19+1)*$B$2*$BY$21),IF(CE$18>=CD$19,$BY$21*$B$2))),0) -> FALSE | CF97: =IF('Hoja De Calculo'!CG$13>='Hoja De Calculo'!CF$13,IF(CF$18=100,($BY$21*CF$18*$B$2)-SUM($I97:CE97),IF(CF$18>CE$19,((CF$18-CE$19+1)*$B$2*$BY$21),IF(CF$18>=CE$19,$BY$21*$B$2))),0) -> FALSE | CG97: =IF('Hoja De Calculo'!CH$13>='Hoja De Calculo'!CG$13,IF(CG$18=100,($BY$21*CG$18*$B$2)-SUM($I97:CF97),IF(CG$18>CF$19,((CG$18-CF$19+1)*$B$2*$BY$21),IF(CG$18>=CF$19,$BY$21*$B$2))),0) -> FALSE | ... CW97: =IF('Hoja De Calculo'!CX$13>='Hoja De Calculo'!CW$13,IF(CW$18=100,($BY$21*CW$18*$B$2)-SUM($I97:CV97),IF(CW$18>CV$19,((CW$18-CV$19+1)*$B$2*$BY$21),IF(CW$18>=CV$19,$BY$21*$B$2))),0) -> FALSE
A98: RP 77 | BZ98: =(BZ$21*$B$2*(BZ$19+(IF(BZ$19=100,0,1)))) -> 0 | CA98: =IF('Hoja De Calculo'!CB$13>='Hoja De Calculo'!CA$13,IF(CA$18=100,($BZ$21*CA$18*$B$2)-SUM($I98:BZ98),IF(CA$18>BZ$19,((CA$18-BZ$19+1)*$B$2*$BZ$21),IF(CA$18>=BZ$19,$BZ$21*$B$2))),0) -> FALSE | CB98: =IF('Hoja De Calculo'!CC$13>='Hoja De Calculo'!CB$13,IF(CB$18=100,($BZ$21*CB$18*$B$2)-SUM($I98:CA98),IF(CB$18>CA$19,((CB$18-CA$19+1)*$B$2*$BZ$21),IF(CB$18>=CA$19,$BZ$21*$B$2))),0) -> FALSE | CC98: =IF('Hoja De Calculo'!CD$13>='Hoja De Calculo'!CC$13,IF(CC$18=100,($BZ$21*CC$18*$B$2)-SUM($I98:CB98),IF(CC$18>CB$19,((CC$18-CB$19+1)*$B$2*$BZ$21),IF(CC$18>=CB$19,$BZ$21*$B$2))),0) -> FALSE | CD98: =IF('Hoja De Calculo'!CE$13>='Hoja De Calculo'!CD$13,IF(CD$18=100,($BZ$21*CD$18*$B$2)-SUM($I98:CC98),IF(CD$18>CC$19,((CD$18-CC$19+1)*$B$2*$BZ$21),IF(CD$18>=CC$19,$BZ$21*$B$2))),0) -> FALSE | CE98: =IF('Hoja De Calculo'!CF$13>='Hoja De Calculo'!CE$13,IF(CE$18=100,($BZ$21*CE$18*$B$2)-SUM($I98:CD98),IF(CE$18>CD$19,((CE$18-CD$19+1)*$B$2*$BZ$21),IF(CE$18>=CD$19,$BZ$21*$B$2))),0) -> FALSE | CF98: =IF('Hoja De Calculo'!CG$13>='Hoja De Calculo'!CF$13,IF(CF$18=100,($BZ$21*CF$18*$B$2)-SUM($I98:CE98),IF(CF$18>CE$19,((CF$18-CE$19+1)*$B$2*$BZ$21),IF(CF$18>=CE$19,$BZ$21*$B$2))),0) -> FALSE | CG98: =IF('Hoja De Calculo'!CH$13>='Hoja De Calculo'!CG$13,IF(CG$18=100,($BZ$21*CG$18*$B$2)-SUM($I98:CF98),IF(CG$18>CF$19,((CG$18-CF$19+1)*$B$2*$BZ$21),IF(CG$18>=CF$19,$BZ$21*$B$2))),0) -> FALSE | CH98: =IF('Hoja De Calculo'!CI$13>='Hoja De Calculo'!CH$13,IF(CH$18=100,($BZ$21*CH$18*$B$2)-SUM($I98:CG98),IF(CH$18>CG$19,((CH$18-CG$19+1)*$B$2*$BZ$21),IF(CH$18>=CG$19,$BZ$21*$B$2))),0) -> FALSE | ... CW98: =IF('Hoja De Calculo'!CX$13>='Hoja De Calculo'!CW$13,IF(CW$18=100,($BZ$21*CW$18*$B$2)-SUM($I98:CV98),IF(CW$18>CV$19,((CW$18-CV$19+1)*$B$2*$BZ$21),IF(CW$18>=CV$19,$BZ$21*$B$2))),0) -> FALSE
A99: RP 78 | CA99: =(CA$21*$B$2*(CA$19+(IF(CA$19=100,0,1)))) -> 0 | CB99: =IF('Hoja De Calculo'!CC$13>='Hoja De Calculo'!CB$13,IF(CB$18=100,($CA$21*CB$18*$B$2)-SUM($I99:CA99),IF(CB$18>CA$19,((CB$18-CA$19+1)*$B$2*$CA$21),IF(CB$18>=CA$19,$CA$21*$B$2))),0) -> FALSE | CC99: =IF('Hoja De Calculo'!CD$13>='Hoja De Calculo'!CC$13,IF(CC$18=100,($CA$21*CC$18*$B$2)-SUM($I99:CB99),IF(CC$18>CB$19,((CC$18-CB$19+1)*$B$2*$CA$21),IF(CC$18>=CB$19,$CA$21*$B$2))),0) -> FALSE | CD99: =IF('Hoja De Calculo'!CE$13>='Hoja De Calculo'!CD$13,IF(CD$18=100,($CA$21*CD$18*$B$2)-SUM($I99:CC99),IF(CD$18>CC$19,((CD$18-CC$19+1)*$B$2*$CA$21),IF(CD$18>=CC$19,$CA$21*$B$2))),0) -> FALSE | CE99: =IF('Hoja De Calculo'!CF$13>='Hoja De Calculo'!CE$13,IF(CE$18=100,($CA$21*CE$18*$B$2)-SUM($I99:CD99),IF(CE$18>CD$19,((CE$18-CD$19+1)*$B$2*$CA$21),IF(CE$18>=CD$19,$CA$21*$B$2))),0) -> FALSE | CF99: =IF('Hoja De Calculo'!CG$13>='Hoja De Calculo'!CF$13,IF(CF$18=100,($CA$21*CF$18*$B$2)-SUM($I99:CE99),IF(CF$18>CE$19,((CF$18-CE$19+1)*$B$2*$CA$21),IF(CF$18>=CE$19,$CA$21*$B$2))),0) -> FALSE | CG99: =IF('Hoja De Calculo'!CH$13>='Hoja De Calculo'!CG$13,IF(CG$18=100,($CA$21*CG$18*$B$2)-SUM($I99:CF99),IF(CG$18>CF$19,((CG$18-CF$19+1)*$B$2*$CA$21),IF(CG$18>=CF$19,$CA$21*$B$2))),0) -> FALSE | CH99: =IF('Hoja De Calculo'!CI$13>='Hoja De Calculo'!CH$13,IF(CH$18=100,($CA$21*CH$18*$B$2)-SUM($I99:CG99),IF(CH$18>CG$19,((CH$18-CG$19+1)*$B$2*$CA$21),IF(CH$18>=CG$19,$CA$21*$B$2))),0) -> FALSE | CI99: =IF('Hoja De Calculo'!CJ$13>='Hoja De Calculo'!CI$13,IF(CI$18=100,($CA$21*CI$18*$B$2)-SUM($I99:CH99),IF(CI$18>CH$19,((CI$18-CH$19+1)*$B$2*$CA$21),IF(CI$18>=CH$19,$CA$21*$B$2))),0) -> FALSE | ... CW99: =IF('Hoja De Calculo'!CX$13>='Hoja De Calculo'!CW$13,IF(CW$18=100,($CA$21*CW$18*$B$2)-SUM($I99:CV99),IF(CW$18>CV$19,((CW$18-CV$19+1)*$B$2*$CA$21),IF(CW$18>=CV$19,$CA$21*$B$2))),0) -> FALSE
A100: RP 79 | CB100: =(CB$21*$B$2*(CB$19+(IF(CB$19=100,0,1)))) -> 0 | CC100: =IF('Hoja De Calculo'!CD$13>='Hoja De Calculo'!CC$13,IF(CC$18=100,($CB$21*CC$18*$B$2)-SUM($I100:CB100),IF(CC$18>CB$19,((CC$18-CB$19+1)*$B$2*$CB$21),IF(CC$18>=CB$19,$CB$21*$B$2))),0) -> FALSE | CD100: =IF('Hoja De Calculo'!CE$13>='Hoja De Calculo'!CD$13,IF(CD$18=100,($CB$21*CD$18*$B$2)-SUM($I100:CC100),IF(CD$18>CC$19,((CD$18-CC$19+1)*$B$2*$CB$21),IF(CD$18>=CC$19,$CB$21*$B$2))),0) -> FALSE | CE100: =IF('Hoja De Calculo'!CF$13>='Hoja De Calculo'!CE$13,IF(CE$18=100,($CB$21*CE$18*$B$2)-SUM($I100:CD100),IF(CE$18>CD$19,((CE$18-CD$19+1)*$B$2*$CB$21),IF(CE$18>=CD$19,$CB$21*$B$2))),0) -> FALSE | CF100: =IF('Hoja De Calculo'!CG$13>='Hoja De Calculo'!CF$13,IF(CF$18=100,($CB$21*CF$18*$B$2)-SUM($I100:CE100),IF(CF$18>CE$19,((CF$18-CE$19+1)*$B$2*$CB$21),IF(CF$18>=CE$19,$CB$21*$B$2))),0) -> FALSE | CG100: =IF('Hoja De Calculo'!CH$13>='Hoja De Calculo'!CG$13,IF(CG$18=100,($CB$21*CG$18*$B$2)-SUM($I100:CF100),IF(CG$18>CF$19,((CG$18-CF$19+1)*$B$2*$CB$21),IF(CG$18>=CF$19,$CB$21*$B$2))),0) -> FALSE | CH100: =IF('Hoja De Calculo'!CI$13>='Hoja De Calculo'!CH$13,IF(CH$18=100,($CB$21*CH$18*$B$2)-SUM($I100:CG100),IF(CH$18>CG$19,((CH$18-CG$19+1)*$B$2*$CB$21),IF(CH$18>=CG$19,$CB$21*$B$2))),0) -> FALSE | CI100: =IF('Hoja De Calculo'!CJ$13>='Hoja De Calculo'!CI$13,IF(CI$18=100,($CB$21*CI$18*$B$2)-SUM($I100:CH100),IF(CI$18>CH$19,((CI$18-CH$19+1)*$B$2*$CB$21),IF(CI$18>=CH$19,$CB$21*$B$2))),0) -> FALSE | CJ100: =IF('Hoja De Calculo'!CK$13>='Hoja De Calculo'!CJ$13,IF(CJ$18=100,($CB$21*CJ$18*$B$2)-SUM($I100:CI100),IF(CJ$18>CI$19,((CJ$18-CI$19+1)*$B$2*$CB$21),IF(CJ$18>=CI$19,$CB$21*$B$2))),0) -> FALSE | ... CW100: =IF('Hoja De Calculo'!CX$13>='Hoja De Calculo'!CW$13,IF(CW$18=100,($CB$21*CW$18*$B$2)-SUM($I100:CV100),IF(CW$18>CV$19,((CW$18-CV$19+1)*$B$2*$CB$21),IF(CW$18>=CV$19,$CB$21*$B$2))),0) -> FALSE
A101: RP 80 | CC101: =(CC$21*$B$2*(CC$19+(IF(CC$19=100,0,1)))) -> 0 | CD101: =IF('Hoja De Calculo'!CE$13>='Hoja De Calculo'!CD$13,IF(CD$18=100,($CC$21*CD$18*$B$2)-SUM($I101:CC101),IF(CD$18>CC$19,((CD$18-CC$19+1)*$B$2*$CC$21),IF(CD$18>=CC$19,$CC$21*$B$2))),0) -> FALSE | CE101: =IF('Hoja De Calculo'!CF$13>='Hoja De Calculo'!CE$13,IF(CE$18=100,($CC$21*CE$18*$B$2)-SUM($I101:CD101),IF(CE$18>CD$19,((CE$18-CD$19+1)*$B$2*$CC$21),IF(CE$18>=CD$19,$CC$21*$B$2))),0) -> FALSE | CF101: =IF('Hoja De Calculo'!CG$13>='Hoja De Calculo'!CF$13,IF(CF$18=100,($CC$21*CF$18*$B$2)-SUM($I101:CE101),IF(CF$18>CE$19,((CF$18-CE$19+1)*$B$2*$CC$21),IF(CF$18>=CE$19,$CC$21*$B$2))),0) -> FALSE | CG101: =IF('Hoja De Calculo'!CH$13>='Hoja De Calculo'!CG$13,IF(CG$18=100,($CC$21*CG$18*$B$2)-SUM($I101:CF101),IF(CG$18>CF$19,((CG$18-CF$19+1)*$B$2*$CC$21),IF(CG$18>=CF$19,$CC$21*$B$2))),0) -> FALSE | CH101: =IF('Hoja De Calculo'!CI$13>='Hoja De Calculo'!CH$13,IF(CH$18=100,($CC$21*CH$18*$B$2)-SUM($I101:CG101),IF(CH$18>CG$19,((CH$18-CG$19+1)*$B$2*$CC$21),IF(CH$18>=CG$19,$CC$21*$B$2))),0) -> FALSE | CI101: =IF('Hoja De Calculo'!CJ$13>='Hoja De Calculo'!CI$13,IF(CI$18=100,($CC$21*CI$18*$B$2)-SUM($I101:CH101),IF(CI$18>CH$19,((CI$18-CH$19+1)*$B$2*$CC$21),IF(CI$18>=CH$19,$CC$21*$B$2))),0) -> FALSE | CJ101: =IF('Hoja De Calculo'!CK$13>='Hoja De Calculo'!CJ$13,IF(CJ$18=100,($CC$21*CJ$18*$B$2)-SUM($I101:CI101),IF(CJ$18>CI$19,((CJ$18-CI$19+1)*$B$2*$CC$21),IF(CJ$18>=CI$19,$CC$21*$B$2))),0) -> FALSE | CK101: =IF('Hoja De Calculo'!CL$13>='Hoja De Calculo'!CK$13,IF(CK$18=100,($CC$21*CK$18*$B$2)-SUM($I101:CJ101),IF(CK$18>CJ$19,((CK$18-CJ$19+1)*$B$2*$CC$21),IF(CK$18>=CJ$19,$CC$21*$B$2))),0) -> FALSE | ... CW101: =IF('Hoja De Calculo'!CX$13>='Hoja De Calculo'!CW$13,IF(CW$18=100,($CC$21*CW$18*$B$2)-SUM($I101:CV101),IF(CW$18>CV$19,((CW$18-CV$19+1)*$B$2*$CC$21),IF(CW$18>=CV$19,$CC$21*$B$2))),0) -> FALSE
A102: RP 81 | CD102: =(CD$21*$B$2*(CD$19+(IF(CD$19=100,0,1)))) -> 0 | CE102: =IF('Hoja De Calculo'!CF$13>='Hoja De Calculo'!CE$13,IF(CE$18=100,($CD$21*CE$18*$B$2)-SUM($I102:CD102),IF(CE$18>CD$19,((CE$18-CD$19+1)*$B$2*$CD$21),IF(CE$18>=CD$19,$CD$21*$B$2))),0) -> FALSE | CF102: =IF('Hoja De Calculo'!CG$13>='Hoja De Calculo'!CF$13,IF(CF$18=100,($CD$21*CF$18*$B$2)-SUM($I102:CE102),IF(CF$18>CE$19,((CF$18-CE$19+1)*$B$2*$CD$21),IF(CF$18>=CE$19,$CD$21*$B$2))),0) -> FALSE | CG102: =IF('Hoja De Calculo'!CH$13>='Hoja De Calculo'!CG$13,IF(CG$18=100,($CD$21*CG$18*$B$2)-SUM($I102:CF102),IF(CG$18>CF$19,((CG$18-CF$19+1)*$B$2*$CD$21),IF(CG$18>=CF$19,$CD$21*$B$2))),0) -> FALSE | CH102: =IF('Hoja De Calculo'!CI$13>='Hoja De Calculo'!CH$13,IF(CH$18=100,($CD$21*CH$18*$B$2)-SUM($I102:CG102),IF(CH$18>CG$19,((CH$18-CG$19+1)*$B$2*$CD$21),IF(CH$18>=CG$19,$CD$21*$B$2))),0) -> FALSE | CI102: =IF('Hoja De Calculo'!CJ$13>='Hoja De Calculo'!CI$13,IF(CI$18=100,($CD$21*CI$18*$B$2)-SUM($I102:CH102),IF(CI$18>CH$19,((CI$18-CH$19+1)*$B$2*$CD$21),IF(CI$18>=CH$19,$CD$21*$B$2))),0) -> FALSE | CJ102: =IF('Hoja De Calculo'!CK$13>='Hoja De Calculo'!CJ$13,IF(CJ$18=100,($CD$21*CJ$18*$B$2)-SUM($I102:CI102),IF(CJ$18>CI$19,((CJ$18-CI$19+1)*$B$2*$CD$21),IF(CJ$18>=CI$19,$CD$21*$B$2))),0) -> FALSE | CK102: =IF('Hoja De Calculo'!CL$13>='Hoja De Calculo'!CK$13,IF(CK$18=100,($CD$21*CK$18*$B$2)-SUM($I102:CJ102),IF(CK$18>CJ$19,((CK$18-CJ$19+1)*$B$2*$CD$21),IF(CK$18>=CJ$19,$CD$21*$B$2))),0) -> FALSE | CL102: =IF('Hoja De Calculo'!CM$13>='Hoja De Calculo'!CL$13,IF(CL$18=100,($CD$21*CL$18*$B$2)-SUM($I102:CK102),IF(CL$18>CK$19,((CL$18-CK$19+1)*$B$2*$CD$21),IF(CL$18>=CK$19,$CD$21*$B$2))),0) -> FALSE | ... CW102: =IF('Hoja De Calculo'!CX$13>='Hoja De Calculo'!CW$13,IF(CW$18=100,($CD$21*CW$18*$B$2)-SUM($I102:CV102),IF(CW$18>CV$19,((CW$18-CV$19+1)*$B$2*$CD$21),IF(CW$18>=CV$19,$CD$21*$B$2))),0) -> FALSE
A103: RP 82 | CE103: =(CE$21*$B$2*(CE$19+(IF(CE$19=100,0,1)))) -> 0 | CF103: =IF('Hoja De Calculo'!CG$13>='Hoja De Calculo'!CF$13,IF(CF$18=100,($CE$21*CF$18*$B$2)-SUM($I103:CE103),IF(CF$18>CE$19,((CF$18-CE$19+1)*$B$2*$CE$21),IF(CF$18>=CE$19,$CE$21*$B$2))),0) -> FALSE | CG103: =IF('Hoja De Calculo'!CH$13>='Hoja De Calculo'!CG$13,IF(CG$18=100,($CE$21*CG$18*$B$2)-SUM($I103:CF103),IF(CG$18>CF$19,((CG$18-CF$19+1)*$B$2*$CE$21),IF(CG$18>=CF$19,$CE$21*$B$2))),0) -> FALSE | CH103: =IF('Hoja De Calculo'!CI$13>='Hoja De Calculo'!CH$13,IF(CH$18=100,($CE$21*CH$18*$B$2)-SUM($I103:CG103),IF(CH$18>CG$19,((CH$18-CG$19+1)*$B$2*$CE$21),IF(CH$18>=CG$19,$CE$21*$B$2))),0) -> FALSE | CI103: =IF('Hoja De Calculo'!CJ$13>='Hoja De Calculo'!CI$13,IF(CI$18=100,($CE$21*CI$18*$B$2)-SUM($I103:CH103),IF(CI$18>CH$19,((CI$18-CH$19+1)*$B$2*$CE$21),IF(CI$18>=CH$19,$CE$21*$B$2))),0) -> FALSE | CJ103: =IF('Hoja De Calculo'!CK$13>='Hoja De Calculo'!CJ$13,IF(CJ$18=100,($CE$21*CJ$18*$B$2)-SUM($I103:CI103),IF(CJ$18>CI$19,((CJ$18-CI$19+1)*$B$2*$CE$21),IF(CJ$18>=CI$19,$CE$21*$B$2))),0) -> FALSE | CK103: =IF('Hoja De Calculo'!CL$13>='Hoja De Calculo'!CK$13,IF(CK$18=100,($CE$21*CK$18*$B$2)-SUM($I103:CJ103),IF(CK$18>CJ$19,((CK$18-CJ$19+1)*$B$2*$CE$21),IF(CK$18>=CJ$19,$CE$21*$B$2))),0) -> FALSE | CL103: =IF('Hoja De Calculo'!CM$13>='Hoja De Calculo'!CL$13,IF(CL$18=100,($CE$21*CL$18*$B$2)-SUM($I103:CK103),IF(CL$18>CK$19,((CL$18-CK$19+1)*$B$2*$CE$21),IF(CL$18>=CK$19,$CE$21*$B$2))),0) -> FALSE | CM103: =IF('Hoja De Calculo'!CN$13>='Hoja De Calculo'!CM$13,IF(CM$18=100,($CE$21*CM$18*$B$2)-SUM($I103:CL103),IF(CM$18>CL$19,((CM$18-CL$19+1)*$B$2*$CE$21),IF(CM$18>=CL$19,$CE$21*$B$2))),0) -> FALSE | ... CW103: =IF('Hoja De Calculo'!CX$13>='Hoja De Calculo'!CW$13,IF(CW$18=100,($CE$21*CW$18*$B$2)-SUM($I103:CV103),IF(CW$18>CV$19,((CW$18-CV$19+1)*$B$2*$CE$21),IF(CW$18>=CV$19,$CE$21*$B$2))),0) -> FALSE
A104: RP 83 | CF104: =(CF$21*$B$2*(CF$19+(IF(CF$19=100,0,1)))) -> 0 | CG104: =IF('Hoja De Calculo'!CH$13>='Hoja De Calculo'!CG$13,IF(CG$18=100,($CF$21*CG$18*$B$2)-SUM($I104:CF104),IF(CG$18>CF$19,((CG$18-CF$19+1)*$B$2*$CF$21),IF(CG$18>=CF$19,$CF$21*$B$2))),0) -> FALSE | CH104: =IF('Hoja De Calculo'!CI$13>='Hoja De Calculo'!CH$13,IF(CH$18=100,($CF$21*CH$18*$B$2)-SUM($I104:CG104),IF(CH$18>CG$19,((CH$18-CG$19+1)*$B$2*$CF$21),IF(CH$18>=CG$19,$CF$21*$B$2))),0) -> FALSE | CI104: =IF('Hoja De Calculo'!CJ$13>='Hoja De Calculo'!CI$13,IF(CI$18=100,($CF$21*CI$18*$B$2)-SUM($I104:CH104),IF(CI$18>CH$19,((CI$18-CH$19+1)*$B$2*$CF$21),IF(CI$18>=CH$19,$CF$21*$B$2))),0) -> FALSE | CJ104: =IF('Hoja De Calculo'!CK$13>='Hoja De Calculo'!CJ$13,IF(CJ$18=100,($CF$21*CJ$18*$B$2)-SUM($I104:CI104),IF(CJ$18>CI$19,((CJ$18-CI$19+1)*$B$2*$CF$21),IF(CJ$18>=CI$19,$CF$21*$B$2))),0) -> FALSE | CK104: =IF('Hoja De Calculo'!CL$13>='Hoja De Calculo'!CK$13,IF(CK$18=100,($CF$21*CK$18*$B$2)-SUM($I104:CJ104),IF(CK$18>CJ$19,((CK$18-CJ$19+1)*$B$2*$CF$21),IF(CK$18>=CJ$19,$CF$21*$B$2))),0) -> FALSE | CL104: =IF('Hoja De Calculo'!CM$13>='Hoja De Calculo'!CL$13,IF(CL$18=100,($CF$21*CL$18*$B$2)-SUM($I104:CK104),IF(CL$18>CK$19,((CL$18-CK$19+1)*$B$2*$CF$21),IF(CL$18>=CK$19,$CF$21*$B$2))),0) -> FALSE | CM104: =IF('Hoja De Calculo'!CN$13>='Hoja De Calculo'!CM$13,IF(CM$18=100,($CF$21*CM$18*$B$2)-SUM($I104:CL104),IF(CM$18>CL$19,((CM$18-CL$19+1)*$B$2*$CF$21),IF(CM$18>=CL$19,$CF$21*$B$2))),0) -> FALSE | CN104: =IF('Hoja De Calculo'!CO$13>='Hoja De Calculo'!CN$13,IF(CN$18=100,($CF$21*CN$18*$B$2)-SUM($I104:CM104),IF(CN$18>CM$19,((CN$18-CM$19+1)*$B$2*$CF$21),IF(CN$18>=CM$19,$CF$21*$B$2))),0) -> FALSE | ... CW104: =IF('Hoja De Calculo'!CX$13>='Hoja De Calculo'!CW$13,IF(CW$18=100,($CF$21*CW$18*$B$2)-SUM($I104:CV104),IF(CW$18>CV$19,((CW$18-CV$19+1)*$B$2*$CF$21),IF(CW$18>=CV$19,$CF$21*$B$2))),0) -> FALSE
A105: RP 84 | CG105: =(CG$21*$B$2*(CG$19+(IF(CG$19=100,0,1)))) -> 0 | CH105: =IF('Hoja De Calculo'!CI$13>='Hoja De Calculo'!CH$13,IF(CH$18=100,($CG$21*CH$18*$B$2)-SUM($I105:CG105),IF(CH$18>CG$19,((CH$18-CG$19+1)*$B$2*$CG$21),IF(CH$18>=CG$19,$CG$21*$B$2))),0) -> FALSE | CI105: =IF('Hoja De Calculo'!CJ$13>='Hoja De Calculo'!CI$13,IF(CI$18=100,($CG$21*CI$18*$B$2)-SUM($I105:CH105),IF(CI$18>CH$19,((CI$18-CH$19+1)*$B$2*$CG$21),IF(CI$18>=CH$19,$CG$21*$B$2))),0) -> FALSE | CJ105: =IF('Hoja De Calculo'!CK$13>='Hoja De Calculo'!CJ$13,IF(CJ$18=100,($CG$21*CJ$18*$B$2)-SUM($I105:CI105),IF(CJ$18>CI$19,((CJ$18-CI$19+1)*$B$2*$CG$21),IF(CJ$18>=CI$19,$CG$21*$B$2))),0) -> FALSE | CK105: =IF('Hoja De Calculo'!CL$13>='Hoja De Calculo'!CK$13,IF(CK$18=100,($CG$21*CK$18*$B$2)-SUM($I105:CJ105),IF(CK$18>CJ$19,((CK$18-CJ$19+1)*$B$2*$CG$21),IF(CK$18>=CJ$19,$CG$21*$B$2))),0) -> FALSE | CL105: =IF('Hoja De Calculo'!CM$13>='Hoja De Calculo'!CL$13,IF(CL$18=100,($CG$21*CL$18*$B$2)-SUM($I105:CK105),IF(CL$18>CK$19,((CL$18-CK$19+1)*$B$2*$CG$21),IF(CL$18>=CK$19,$CG$21*$B$2))),0) -> FALSE | CM105: =IF('Hoja De Calculo'!CN$13>='Hoja De Calculo'!CM$13,IF(CM$18=100,($CG$21*CM$18*$B$2)-SUM($I105:CL105),IF(CM$18>CL$19,((CM$18-CL$19+1)*$B$2*$CG$21),IF(CM$18>=CL$19,$CG$21*$B$2))),0) -> FALSE | CN105: =IF('Hoja De Calculo'!CO$13>='Hoja De Calculo'!CN$13,IF(CN$18=100,($CG$21*CN$18*$B$2)-SUM($I105:CM105),IF(CN$18>CM$19,((CN$18-CM$19+1)*$B$2*$CG$21),IF(CN$18>=CM$19,$CG$21*$B$2))),0) -> FALSE | CO105: =IF('Hoja De Calculo'!CP$13>='Hoja De Calculo'!CO$13,IF(CO$18=100,($CG$21*CO$18*$B$2)-SUM($I105:CN105),IF(CO$18>CN$19,((CO$18-CN$19+1)*$B$2*$CG$21),IF(CO$18>=CN$19,$CG$21*$B$2))),0) -> FALSE | ... CW105: =IF('Hoja De Calculo'!CX$13>='Hoja De Calculo'!CW$13,IF(CW$18=100,($CG$21*CW$18*$B$2)-SUM($I105:CV105),IF(CW$18>CV$19,((CW$18-CV$19+1)*$B$2*$CG$21),IF(CW$18>=CV$19,$CG$21*$B$2))),0) -> FALSE
