Workbook
Name EF_DM: '[1]EF Summary'!$A$24:$V$28
Name EF_N2O: '[1]EF Summary'!$A$14:$V$18
Name EF_OC: '[1]EF Summary'!$A$8:$V$12
Name gwp_ch4: [1]Constants!$B$5
Name gwp_n2o: [1]Constants!$B$6
Name LCC: '[1]Baseline EFs'!$R$2:$T$1004
Name LS_categories: [1]Grazing!$A$19:$A$32
Name MLRA_Pick: [1]MLRAs!$A$2:$A$280
Name Prior_LU: [1]MLRAs!$H$2:$H$3
Name Soil_Texture: [1]MLRAs!$F$2:$F$4
Name States: [1]Grazing!$E$3:$E$50
Name temp_grazing: [1]Grazing!$A$4:$A$16
Name Version: Instrucciones!$B$3

Sheet Instrucciones
B2: Hoja de Cálculo de Monitoreo de Carbono del Protocolo Forestal para México v3.0
B3: V3.0.3 Septiembre 2025
B4: DESCRIPCION GENERAL
B5: Esta herramienta la proporciona la Reserva de Acción Climática para acompañar al Protocolo Forestal para México v3.0, para ayudar en la cuantificación de los cálculos de los FSR de Productos de Madera Aprovechada (HWP por sus siglas en inglés) y los cálculos de los CRT en general. Esta versión debe usarse para un Proyecto Forestal con un Área de Actividad. Para proyectos con múltiples Áreas de Actividad, comuníquese con la Reserva para solicitar una versión modificada para su proyecto. Si un Proyecto Forestal tiene una reversión, favor de notificar a la Reserva. Esta herramienta tendrá que ser modificada manualmente. Para cualquier duda, comentario o sugerencia relacionada con esta herramienta, favor de mandar un correo electrónico a policy@climateactionreserve.org.
B10: NAVEGACION
C12: Instrucciones | F12: Referirse a esta hoja de cálculo para obtener información relacionada con la versión de la herramienta y su uso.
C13: Hoja De Calculo | F13: Ingresar la información del usuario para determinar la emisión de CRT para el periodo de reporte.
C14: Fondo de Aseguramiento | F14: Ingresar la información para calcular la contribución al fondo de aseguramiento. Se necesita copiar el resultado final y pegarlo en la fila 64 de la hoja de calculo para el periodo de reporte.
C15: Herramienta de Productos de Madera (HWP), Carbono de HWP en el Área de Actividad, y Línea de Base de Carbono de HWP | F15: Ingresar la información del usuario para determinar el cálculo de HWP para el periodo de reporte.

Sheet Hoja De Calculo
A1: Hoja de Cálculo para el Reporte de Monitoreo Anual | E1: Información determinada por el Proponente de Proyecto | BC1: Información determinada por el Proponente de Proyecto durante cada verificación
E2: Información que se calcula automáticamente | BC2: Información que se calcula automáticamente
A5: Numero de Áreas de Actividad en el agregado o proyecto en total (lo cual es mayor) | B5: 1
A6: *Solo incluir Áreas de Actividad que utilizan la metadologia del inventario del campo
B7: Años > | C7: 1 | D7: =C7+1 -> 2 | E7: =D7+1 -> 3 | F7: =E7+1 -> 4 | G7: =F7+1 -> 5 | H7: =G7+1 -> 6 | I7: =H7+1 -> 7 | J7: =I7+1 -> 8 | K7: =J7+1 -> 9 | ... CX7: =CW7+1 -> 100 | CZ7: Notas | DA7: Ecuación(es) Referencias (PFM) | DB7: Referencia simbólica (PFM)
A8: Fecha de Inicio (mm/dd/aa) | B8: 44549 | C8: Los proyectos tienen hasta dos años a partir de la Fecha de Inicio del proyecto para someter el Reporte de Proyecto. Si se incluye más de un Periodo de Reporte, los créditos se distribuirán cada año según la proporción de tiempo. El inventario reportado deberá ser proporcional al número de días de cada Periodo de Reporte. | CZ8: Fecha de Inicio del proyecto. Es la fecha cuando comienzan las actividades del proyecto, la cual no podrá ser mas de seis meses antes de la fecha cuando se somete el proyecto. (mm/dd/aa) | DA8: 3.12
A9: Fecha de Inicio del Periodo de Reporte (mm/dd/aa) | C9: =B8 -> 44549 | D9: =C10+DATEDIF(DATE(YEAR(C10),MONTH(C10),DAY(C10)),DATE(YEAR(C10),MONTH(C10),DAY(C10)),"d")+1 -> 44914 | E9: =D10+DATEDIF(DATE(YEAR(D10),MONTH(D10),DAY(D10)),DATE(YEAR(D10),MONTH(D10),DAY(D10)),"d")+1 -> 45279 | F9: =E10+DATEDIF(DATE(YEAR(E10),MONTH(E10),DAY(E10)),DATE(YEAR(E10),MONTH(E10),DAY(E10)),"d")+1 -> 45645 | G9: =F10+DATEDIF(DATE(YEAR(F10),MONTH(F10),DAY(F10)),DATE(YEAR(F10),MONTH(F10),DAY(F10)),"d")+1 -> 46010 | H9: =G10+DATEDIF(DATE(YEAR(G10),MONTH(G10),DAY(G10)),DATE(YEAR(G10),MONTH(G10),DAY(G10)),"d")+1 -> 46375 | I9: =H10+DATEDIF(DATE(YEAR(H10),MONTH(H10),DAY(H10)),DATE(YEAR(H10),MONTH(H10),DAY(H10)),"d")+1 -> 46740 | J9: =I10+DATEDIF(DATE(YEAR(I10),MONTH(I10),DAY(I10)),DATE(YEAR(I10),MONTH(I10),DAY(I10)),"d")+1 -> 47106 | K9: =J10+DATEDIF(DATE(YEAR(J10),MONTH(J10),DAY(J10)),DATE(YEAR(J10),MONTH(J10),DAY(J10)),"d")+1 -> 47471 | ... CX9: =CW10+DATEDIF(DATE(YEAR(CW10),MONTH(CW10),DAY(CW10)),DATE(YEAR(CW10),MONTH(CW10),DAY(CW10)),"d")+1 -> 80708
A10: Fecha de Termino del Periodo de Reporte (mm/dd/aa) | C10: 44913 | D10: =D9+DATEDIF(DATE(YEAR(D9),MONTH(D9),DAY(D9)),DATE(YEAR(D9)+1,MONTH(D9),DAY(D9)),"d")-1 -> 45278 | E10: =E9+DATEDIF(DATE(YEAR(E9),MONTH(E9),DAY(E9)),DATE(YEAR(E9)+1,MONTH(E9),DAY(E9)),"d")-1 -> 45644 | F10: =F9+DATEDIF(DATE(YEAR(F9),MONTH(F9),DAY(F9)),DATE(YEAR(F9)+1,MONTH(F9),DAY(F9)),"d")-1 -> 46009 | G10: =G9+DATEDIF(DATE(YEAR(G9),MONTH(G9),DAY(G9)),DATE(YEAR(G9)+1,MONTH(G9),DAY(G9)),"d")-1 -> 46374 | H10: =H9+DATEDIF(DATE(YEAR(H9),MONTH(H9),DAY(H9)),DATE(YEAR(H9)+1,MONTH(H9),DAY(H9)),"d")-1 -> 46739 | I10: =I9+DATEDIF(DATE(YEAR(I9),MONTH(I9),DAY(I9)),DATE(YEAR(I9)+1,MONTH(I9),DAY(I9)),"d")-1 -> 47105 | J10: =J9+DATEDIF(DATE(YEAR(J9),MONTH(J9),DAY(J9)),DATE(YEAR(J9)+1,MONTH(J9),DAY(J9)),"d")-1 -> 47470 | K10: =K9+DATEDIF(DATE(YEAR(K9),MONTH(K9),DAY(K9)),DATE(YEAR(K9)+1,MONTH(K9),DAY(K9)),"d")-1 -> 47835 | ... CX10: =CX9+DATEDIF(DATE(YEAR(CX9),MONTH(CX9),DAY(CX9)),DATE(YEAR(CX9)+1,MONTH(CX9),DAY(CX9)),"d")-1 -> 81072 | CZ10: Ingresar el final del primer periodo de reporte, el cual puede ser entre 6 y 12 meses a partir de la fecha de inicio del proyecto. Después se calcula automáticamente sumando 12 meses para cada periodo de reporte. (mm/dd/aa)
A11: Fecha de Reporte (mm/dd/aa) | C11: 44866 | D11: 45253 | E11: 45619 | F11: 45984 | CZ11: Ingresar la fecha de entrega del reporte de monitoreo y la hoja de calculo. (mm/dd/aa)
A12: Línea de Base (CO2-e) por cada Área de Actividad | B12: 8064223 | CZ12: Este es el carbono total reportado de todas las fuentes y sumideros de las Áreas de Actividades cuando se inicia el proyecto, se calcula automáticamente en CALCBOSK en el reporte de la línea de base. Al inventario inicial se le agregan las Área de Actividad nuevas que se añaden en periodos de reporte futuros. Si no se agregan Áreas de Actividad nuevas, no es necesario ingresar nuevos datos en periodos de reporte futuros. | DA12: Al inventario inicial se le agregan las Área de Actividad nuevas que se añaden en periodos de reporte futuros. Si no se agregan Áreas de Actividad nuevas, no es necesario ingresar nuevos datos en periodos de reporte futuros.
A13: Acervos de Carbono en Sito Muestreados (toneladas de CO2e) | C13: 8358707 | D13: 8670520 | E13: 8897146 | F13: 9098251 | CZ13: Este es el carbono total en todas las fuentes reportadas en los Áreas de Actividades reportadas como el mejor estimado, independientemente de la confianza estadística. Se calcula automáticamente en CALCBOSK en el reporte de estimación "Crecer las parcelas hasta la fecha". | DA13: 5.1 | DB13: AConsite, y
A14: Incertidumbre de estimación en el año corriente | B14: 0.0438 | C14: 0.0345 | D14: 0.0343 | E14: 0.0339 | F14: 0.0335 | CZ14: El error de muestreo, calculado en un intervalo de confianza del 90%, se calcula automáticamente en CALCBOSK por el reporte de estimación "Crecer las parcelas hasta la fecha". El error de muestreo no puede ser mayor al 20%. | DA14: B.4 | DB14: TSE
A15: Cálculo para la deducción por incertidumbre del proyecto | C15: =IF(C14<=(VLOOKUP('Hoja De Calculo'!$B$5,TSE!$A$1:$B$17,2,TRUE)),0,IF(AND(20%>=C14,C14>(VLOOKUP('Hoja De Calculo'!$B$5,TSE!$A$1:$B$17,2,TRUE))),(C14-(VLOOKUP('Hoja De Calculo'!$B$5,TSE!$A$1:$B$17,2,TRUE))),IF(C14>20%,100%,0))) -> 0 | D15: =IF(D14<=(VLOOKUP('Hoja De Calculo'!$B$5,TSE!$A$1:$B$17,2,TRUE)),0,IF(AND(20%>=D14,D14>(VLOOKUP('Hoja De Calculo'!$B$5,TSE!$A$1:$B$17,2,TRUE))),(D14-(VLOOKUP('Hoja De Calculo'!$B$5,TSE!$A$1:$B$17,2,TRUE))),IF(D14>20%,100%,0))) -> 0 | E15: =IF(E14<=(VLOOKUP('Hoja De Calculo'!$B$5,TSE!$A$1:$B$17,2,TRUE)),0,IF(AND(20%>=E14,E14>(VLOOKUP('Hoja De Calculo'!$B$5,TSE!$A$1:$B$17,2,TRUE))),(E14-(VLOOKUP('Hoja De Calculo'!$B$5,TSE!$A$1:$B$17,2,TRUE))),IF(E14>20%,100%,0))) -> 0 | F15: =IF(F14<=(VLOOKUP('Hoja De Calculo'!$B$5,TSE!$A$1:$B$17,2,TRUE)),0,IF(AND(20%>=F14,F14>(VLOOKUP('Hoja De Calculo'!$B$5,TSE!$A$1:$B$17,2,TRUE))),(F14-(VLOOKUP('Hoja De Calculo'!$B$5,TSE!$A$1:$B$17,2,TRUE))),IF(F14>20%,100%,0))) -> 0 | G15: =IF(G14<=(VLOOKUP('Hoja De Calculo'!$B$5,TSE!$A$1:$B$17,2,TRUE)),0,IF(AND(20%>=G14,G14>(VLOOKUP('Hoja De Calculo'!$B$5,TSE!$A$1:$B$17,2,TRUE))),(G14-(VLOOKUP('Hoja De Calculo'!$B$5,TSE!$A$1:$B$17,2,TRUE))),IF(G14>20%,100%,0))) -> 0 | H15: =IF(H14<=(VLOOKUP('Hoja De Calculo'!$B$5,TSE!$A$1:$B$17,2,TRUE)),0,IF(AND(20%>=H14,H14>(VLOOKUP('Hoja De Calculo'!$B$5,TSE!$A$1:$B$17,2,TRUE))),(H14-(VLOOKUP('Hoja De Calculo'!$B$5,TSE!$A$1:$B$17,2,TRUE))),IF(H14>20%,100%,0))) -> 0 | I15: =IF(I14<=(VLOOKUP('Hoja De Calculo'!$B$5,TSE!$A$1:$B$17,2,TRUE)),0,IF(AND(20%>=I14,I14>(VLOOKUP('Hoja De Calculo'!$B$5,TSE!$A$1:$B$17,2,TRUE))),(I14-(VLOOKUP('Hoja De Calculo'!$B$5,TSE!$A$1:$B$17,2,TRUE))),IF(I14>20%,100%,0))) -> 0 | J15: =IF(J14<=(VLOOKUP('Hoja De Calculo'!$B$5,TSE!$A$1:$B$17,2,TRUE)),0,IF(AND(20%>=J14,J14>(VLOOKUP('Hoja De Calculo'!$B$5,TSE!$A$1:$B$17,2,TRUE))),(J14-(VLOOKUP('Hoja De Calculo'!$B$5,TSE!$A$1:$B$17,2,TRUE))),IF(J14>20%,100%,0))) -> 0 | ... CX15: =IF(CX14<=(VLOOKUP('Hoja De Calculo'!$B$5,TSE!$A$1:$B$17,2,TRUE)),0,IF(AND(20%>=CX14,CX14>(VLOOKUP('Hoja De Calculo'!$B$5,TSE!$A$1:$B$17,2,TRUE))),(CX14-(VLOOKUP('Hoja De Calculo'!$B$5,TSE!$A$1:$B$17,2,TRUE))),IF(CX14>20%,100%,0))) -> 0 | CZ15: La deducción de confianza se calcula automáticamente según el error de muestreo. | DA15: B.4
A16: Acervos de Carbono en Sitio Muestreados (Ajustados por deducción de confianza) (toneladas de CO2e) | C16: =C13*(1-C15) -> 8358707 | D16: =D13*(1-D15) -> 8670520 | E16: =E13*(1-E15) -> 8897146 | F16: =F13*(1-F15) -> 9098251 | G16: =G13*(1-G15) -> 0 | H16: =H13*(1-H15) -> 0 | I16: =I13*(1-I15) -> 0 | J16: =J13*(1-J15) -> 0 | ... CX16: =CX13*(1-CX15) -> 0 | CZ16: Acervos de carbono en sitio actuales ajustados usando la deducción de confianza. | DA16: 5.1 | DB16: AConsite, y x (1-CDy)
A17: Acervos de Carbono en Sitio - Línea de Base (toneladas CO2e) | B17: =B12 -> 8064223 | C17: =B12 -> 8064223 | D17: =MAX($C$17:C17) -> 8064223 | E17: =MAX($C$17:D17) -> 8064223 | F17: =MAX($C$17:E17) -> 8064223 | G17: =MAX($C$17:F17) -> 8064223 | H17: =MAX($C$17:G17) -> 8064223 | I17: =MAX($C$17:H17) -> 8064223 | J17: =MAX($C$17:I17) -> 8064223 | K17: =MAX($C$17:J17) -> 8064223 | ... CX17: =MAX($C$17:CW17) -> 8064223 | CZ17: Estimación de la línea de base de acervos de carbono en sitio que no son afectados por la deducción de confianza. Los acervos de carbono de la línea de base se determinan del inventario inicial y se modelan siguiendo los lineamientos del PFM. | DA17: 5.1 | DB17: BConsite, y
A18: Remociones de GEI de Acervos de Carbono en Sitio Cuantificadas Verificados (toneladas CO2e) | C18: =IF(C13>$B$12,IF(C16>$B$12,IF(C13>0,C16-C17,0),0),C16-$B$12) -> 294484 | D18: =IF(D13>$B$12,IF(D16>$B$12,IF(D13>0,D16-D17,0),0),D16-$B$12) -> 606297 | E18: =IF(E13>$B$12,IF(E16>$B$12,IF(E13>0,E16-E17,0),0),E16-$B$12) -> 832923 | F18: =IF(F13>$B$12,IF(F16>$B$12,IF(F13>0,F16-F17,0),0),F16-$B$12) -> 1034028 | G18: =IF(G13>$B$12,IF(G16>$B$12,IF(G13>0,G16-G17,0),0),G16-$B$12) -> -8064223 | H18: =IF(H13>$B$12,IF(H16>$B$12,IF(H13>0,H16-H17,0),0),H16-$B$12) -> -8064223 | I18: =IF(I13>$B$12,IF(I16>$B$12,IF(I13>0,I16-I17,0),0),I16-$B$12) -> -8064223 | J18: =IF(J13>$B$12,IF(J16>$B$12,IF(J13>0,J16-J17,0),0),J16-$B$12) -> -8064223 | ... CX18: =IF(CX13>$B$12,IF(CX16>$B$12,IF(CX13>0,CX16-CX17,0),0),CX16-$B$12) -> -8064223 | CZ18: La diferencia entre los acervos de carbono actuales y la línea de base. | DA18: 5.1 | DB18: Δ AConsite - Δ BConsite
A19: Remociones de GEI de Acervos de Carbono en Sitio Verificados Anuales (toneladas CO2e) | C19: =C18 -> 294484 | D19: =IF(D18-SUM($C$19:C19)>0,IF(D13>0,D18-SUM($C$19:C19),0),0) -> 311813 | E19: =IF(E18-SUM($C$19:D19)>0,IF(E13>0,E18-SUM($C$19:D19),0),0) -> 226626 | F19: =IF(F18-SUM($C$19:E19)>0,IF(F13>0,F18-SUM($C$19:E19),0),0) -> 201105 | G19: =IF(G18-SUM($C$19:F19)>0,IF(G13>0,G18-SUM($C$19:F19),0),0) -> 0 | H19: =IF(H18-SUM($C$19:G19)>0,IF(H13>0,H18-SUM($C$19:G19),0),0) -> 0 | I19: =IF(I18-SUM($C$19:H19)>0,IF(I13>0,I18-SUM($C$19:H19),0),0) -> 0 | J19: =IF(J18-SUM($C$19:I19)>0,IF(J13>0,J18-SUM($C$19:I19),0),0) -> 0 | K19: =IF(K18-SUM($C$19:J19)>0,IF(K13>0,K18-SUM($C$19:J19),0),0) -> 0 | ... CX19: =IF(CX18-SUM($C$19:CW19)>0,IF(CX13>0,CX18-SUM($C$19:CW19),0),0) -> 0 | CZ19: La diferencia entre el incremento en los acervos de carbono actual y la línea de base, o la diferencia entre los acervos de carbono actual y del periodo de reporte anterior. Puede ser negativo, lo que indica que ha sucedido una reversión (si hubo créditos emitidos en años previos). Si no se han emitido créditos en años previos, entonces las cantidades negativas se suman a una cuenta negativa.
A20: Efectos Secundarios
A21: Carbono Actual en Árboles Aprovechados para Productos de Madera del Área de Actividad (toneladas CO2e) | C21: 76868 | D21: 72797 | E21: 62624 | F21: 65974.6 | CZ21: Basado en el carbono real de los acervos de carbono vivo en pie aprovechado para cada Periodo de Reporte, calculado para cada Periodo de Reporte dela pestaña 'Área de Actividad HWP C'. El valor debe copiarse y pegarse directamente desde la pestaña 'Área de Actividad HWP C'. | DA21: 5.4 | DB21: AChv, y
A22: Carbono Actual Acumulado en Árboles Aprovechados para Productos de Madera del Área de Actividad (toneladas CO2e) | C22: =C21 -> 76868 | D22: =SUM($C21,D21) -> 149665 | E22: =SUM($C21:E21) -> 212289 | F22: =SUM($C21:F21) -> 278263.6 | G22: =SUM($C21:G21) -> 278263.6 | H22: =SUM($C21:H21) -> 278263.6 | I22: =SUM($C21:I21) -> 278263.6 | J22: =SUM($C21:J21) -> 278263.6 | K22: =SUM($C21:K21) -> 278263.6 | L22: =SUM($C21:L21) -> 278263.6 | ... CY22: =SUM($C21:CY21) -> 278263.6
A23: Línea de base del Carbono en Árboles Aprovechados para Productos de Madera del Área de Actividad (toneladas CO2e) | C23: ='HWP C Línea de Base'!$D$22 -> 74463.814 | D23: ='HWP C Línea de Base'!$D$22 -> 74463.814 | E23: ='HWP C Línea de Base'!$D$22 -> 74463.814 | F23: ='HWP C Línea de Base'!$D$22 -> 74463.814 | G23: ='HWP C Línea de Base'!$D$22 -> 74463.814 | H23: ='HWP C Línea de Base'!$D$22 -> 74463.814 | I23: ='HWP C Línea de Base'!$D$22 -> 74463.814 | J23: ='HWP C Línea de Base'!$D$22 -> 74463.814 | ... CY23: ='HWP C Línea de Base'!$D$22 -> 74463.814 | CZ23: Basado en el carbono real de los acervos de carbono vivo acumulado en cada Periodo de Reporte en la Línea de Base, como se calcula en la pestaña 'Línea de base HWP C' | DA23: 5.4 | DB23: BChv, y
A24: Línea de base del Carbono en Árboles Aprovechados Acumulado para Productos de Madera del Área de Actividad (toneladas CO2e) | C24: =C23 -> 74463.814 | D24: =SUM($C23:$D23,) -> 148927.63 | E24: =SUM($C23:E23,) -> 223391.44 | F24: =SUM($C23:F23,) -> 297855.25 | G24: =SUM($C23:G23,) -> 372319.07 | H24: =SUM($C23:H23,) -> 446782.88 | I24: =SUM($C23:I23,) -> 521246.69 | J24: =SUM($C23:J23,) -> 595710.51 | K24: =SUM($C23:K23,) -> 670174.32 | L24: =SUM($C23:L23,) -> 744638.14 | ... CY24: =SUM($C23:CY23,) -> 7520845.2
A25: Diferencia Anual entre el Carbono Actual y la Línea de Base para Árboles Aprovechados para Productos de Madera (toneladas CO2e) | C25: =IFERROR(C21-C23,"") -> 2404.1864 | D25: =IFERROR(D21-D23,"") -> -1666.8136 | E25: =IFERROR(E21-E23,"") -> -11839.814 | F25: =IFERROR(F21-F23,"") -> -8489.2136 | G25: =IFERROR(G21-G23,"") -> -74463.814 | H25: =IFERROR(H21-H23,"") -> -74463.814 | I25: =IFERROR(I21-I23,"") -> -74463.814 | J25: =IFERROR(J21-J23,"") -> -74463.814 | ... CY25: =IFERROR(CY21-CY23,"") -> -74463.814 | CZ25: La diferencia entre los valores actuales y línea de base de carbono en madera aprovechada (diferencia entre las líneas 9 y 10) | DA25: 5.4 | DB25: AChv, y - BChv, y
A26: Diferencia Acumulado entre el Carbono Actual y la Línea de Base para Árboles Aprovechados para Productos de Madera (toneladas CO2e) | C26: =IFERROR(C22-C24,"") -> 2404.1864 | D26: =IFERROR(D22-D24,"") -> 737.3729 | E26: =IFERROR(E22-E24,"") -> -11102.441 | F26: =IFERROR(F22-F24,"") -> -19591.654 | G26: =IFERROR(G22-G24,"") -> -94055.468 | H26: =IFERROR(H22-H24,"") -> -168519.28 | I26: =IFERROR(I22-I24,"") -> -242983.09 | J26: =IFERROR(J22-J24,"") -> -317446.91 | ... CY26: =IFERROR(CY22-CY24,"") -> -7242581.6
A27: Tipo de la tasa de fugas de mercado seleccionado por el proyecto ( predeterminado o variable) | C27: Variable | D27: Variable | E27: Variable | F27: Variable | DC27: Predeterminado | DD27: Variable
A28: Efectos Secundarios Anuales Brutos para Áreas de Actividad de Manejo Forestal Mejorado | C28: =IF(C27="Predeterminado",C25*0.2,IF(C22>(0.75*C24),C25*0.2,IF(AND(C22>0.5*C24,C22<=0.75*C24),C25*0.3,IF(C22<0.5*C24,C25*0.4,"")))) -> 480.83729 | D28: =IF(D27="Predeterminado",D25*0.2,IF(D22>(0.75*D24),D25*0.2,IF(AND(D22>0.5*D24, D22<=0.75*D24),D25*0.3,IF(D22<0.5*D24,D25*0.4,"")))) -> -333.36271 | E28: =IF(E27="Predeterminado",E25*0.2,IF(E22>(0.75*E24),E25*0.2,IF(AND(E22>0.5*E24, E22<=0.75*E24),E25*0.3,IF(E22<0.5*E24,E25*0.4,"")))) -> -2367.9627 | F28: =IF(F27="Predeterminado",F25*0.2,IF(F22>(0.75*F24),F25*0.2,IF(AND(F22>0.5*F24, F22<=0.75*F24),F25*0.3,IF(F22<0.5*F24,F25*0.4,"")))) -> -1697.8427 | G28: =IF(G27="Predeterminado",G25*0.2,IF(G22>(0.75*G24),G25*0.2,IF(AND(G22>0.5*G24, G22<=0.75*G24),G25*0.3,IF(G22<0.5*G24,G25*0.4,"")))) -> -22339.144 | H28: =IF(H27="Predeterminado",H25*0.2,IF(H22>(0.75*H24),H25*0.2,IF(AND(H22>0.5*H24, H22<=0.75*H24),H25*0.3,IF(H22<0.5*H24,H25*0.4,"")))) -> -22339.144 | I28: =IF(I27="Predeterminado",I25*0.2,IF(I22>(0.75*I24),I25*0.2,IF(AND(I22>0.5*I24, I22<=0.75*I24),I25*0.3,IF(I22<0.5*I24,I25*0.4,"")))) -> -22339.144 | J28: =IF(J27="Predeterminado",J25*0.2,IF(J22>(0.75*J24),J25*0.2,IF(AND(J22>0.5*J24, J22<=0.75*J24),J25*0.3,IF(J22<0.5*J24,J25*0.4,"")))) -> -29785.525 | K28: =IF(K27="Predeterminado",K25*0.2,IF(K22>(0.75*K24),K25*0.2,IF(AND(K22>0.5*K24, K22<=0.75*K24),K25*0.3,IF(K22<0.5*K24,K25*0.4,"")))) -> -29785.525 | ... CY28: =IF(CY27="Predeterminado",CY25*0.2,IF(CY22>(0.75*CY24),CY25*0.2,IF(AND(CY22>0.5*CY24, CY22<=0.75*CY24),CY25*0.3,IF(CY22<0.5*CY24,CY25*0.4,"")))) -> -29785.525 | CZ28: Fugas anuales independientemente de como se compara el aprovechamiento actual y la línea de base de manera acumulada | DA28: 5.4 | DB28: (AChv,y - BChv,y) x 20%
A29: Emisiones de Efectos Secundarios Brutos Ajustados para Áreas de Actividad de Proyectos de Manejo Forestal Mejorado, que no permitan Efectos Secundarios positivos acumulados pero que no incluyan un traspaso positivo (toneladas CO2e) | C29: =IF(SUM($C$25:C25)>=0,0,C28) -> 0 | D29: =IF(SUM($C$29:C$29)<0,MIN(D28,ABS(SUM($C$29:C$29))),IF(SUM($C25:D25)<0,MIN(0,D28),0)) -> 0 | E29: =IF(SUM($C$29:D$29)<0,MIN(E28,ABS(SUM($C$29:D$29))),IF(SUM($C25:E25)<0,MIN(0,E28),0)) -> -2367.9627 | F29: =IF(SUM($C$29:E$29)<0,MIN(F28,ABS(SUM($C$29:E$29))),IF(SUM($C25:F25)<0,MIN(0,F28),0)) -> -1697.8427 | G29: =IF(SUM($C$29:F$29)<0,MIN(G28,ABS(SUM($C$29:F$29))),IF(SUM($C25:G25)<0,MIN(0,G28),0)) -> -22339.144 | H29: =IF(SUM($C$29:G$29)<0,MIN(H28,ABS(SUM($C$29:G$29))),IF(SUM($C25:H25)<0,MIN(0,H28),0)) -> -22339.144 | I29: =IF(SUM($C$29:H$29)<0,MIN(I28,ABS(SUM($C$29:H$29))),IF(SUM($C25:I25)<0,MIN(0,I28),0)) -> -22339.144 | J29: =IF(SUM($C$29:I$29)<0,MIN(J28,ABS(SUM($C$29:I$29))),IF(SUM($C25:J25)<0,MIN(0,J28),0)) -> -29785.525 | K29: =IF(SUM($C$29:J$29)<0,MIN(K28,ABS(SUM($C$29:J$29))),IF(SUM($C25:K25)<0,MIN(0,K28),0)) -> -29785.525 | ... CY29: =IF(SUM($C$29:CX$29)<0,MIN(CY28,ABS(SUM($C$29:CX$29))),IF(SUM($C25:CY25)<0,MIN(0,CY28),0)) -> -29785.525 | CZ29: Si el aprovechamiento real es menor que el aprovechamiento de la línea base en forma acumulativa durante el Periodo de Reporte dado, entonces este valor será la diferencia entre el aprovechamiento real y la línea de base antes de la entrega al aserradero en el Periodo de Reporte dado multiplicado por el factor de fuga determinado en la fila anterior. Si el aprovechamiento real es mayor que el aprovechamiento de referencia, en forma acumulativa durante el Periodo de Reporte anterior, este valor será cero en el Periodo de Reporte dado a menos que se recuperen las pérdidas negativas anteriores. | DA29: 5.4
A30: Traspaso Positivo de Emisiones por Efectos Secundarios del Año Previo (toneladas CO2e) | D30: =IF(AND(SUM($C$29:C29)>=0,SUM($C$25:C25)>=0),SUM($C$28:C28),0) -> 480.83729 | E30: =IF(AND(SUM($C$29:D29)>=0,SUM($C$25:D25)>=0),SUM($C$28:D28),0) -> 147.47458 | F30: =IF(AND(SUM($C$29:E29)>=0,SUM($C$25:E25)>=0),SUM($C$28:E28),0) -> 0 | G30: =IF(AND(SUM($C$29:F29)>=0,SUM($C$25:F25)>=0),SUM($C$28:F28),0) -> 0 | H30: =IF(AND(SUM($C$29:G29)>=0,SUM($C$25:G25)>=0),SUM($C$28:G28),0) -> 0 | I30: =IF(AND(SUM($C$29:H29)>=0,SUM($C$25:H25)>=0),SUM($C$28:H28),0) -> 0 | J30: =IF(AND(SUM($C$29:I29)>=0,SUM($C$25:I25)>=0),SUM($C$28:I28),0) -> 0 | K30: =IF(AND(SUM($C$29:J29)>=0,SUM($C$25:J25)>=0),SUM($C$28:J28),0) -> 0 | ... CY30: =IF(AND(SUM($C$29:CX29)>=0,SUM($C$25:CX25)>=0),SUM($C$28:CX28),0) -> 0 | CZ30: Cantidad de fugas positivas que ocurren cuando el aprovechamiento actual es mayor que la línea de base de manera acumulativa, neta de cualquier cantidad aplicada a la recuperación de fugas negativas.
A31: Emisiones Netas por Efectos Secundarios para Áreas de Actividad de MFM (toneladas CO2e); incluyendo un traspaso positivo (toneladas CO2e) | C31: =-C29 -> 0 | D31: =IFERROR(-(IF(AND(SUM($C$25:D25)<0,D29<0),MIN(0,D29+D30),MIN(D28+D30,ABS(SUM($C$31:C$31))))),0) -> 0 | E31: =IFERROR(-(IF(AND(SUM($C$25:E25)<0,E29<0),MIN(0,E29+E30),MIN(E28+E30,ABS(SUM($C$31:D$31))))),0) -> 2220.4881 | F31: =IFERROR(-(IF(AND(SUM($C$25:F25)<0,F29<0),MIN(0,F29+F30),MIN(F28+F30,ABS(SUM($C$31:E$31))))),0) -> 1697.8427 | G31: =IFERROR(-(IF(AND(SUM($C$25:G25)<0,G29<0),MIN(0,G29+G30),MIN(G28+G30,ABS(SUM($C$31:F$31))))),0) -> 22339.144 | H31: =IFERROR(-(IF(AND(SUM($C$25:H25)<0,H29<0),MIN(0,H29+H30),MIN(H28+H30,ABS(SUM($C$31:G$31))))),0) -> 22339.144 | I31: =IFERROR(-(IF(AND(SUM($C$25:I25)<0,I29<0),MIN(0,I29+I30),MIN(I28+I30,ABS(SUM($C$31:H$31))))),0) -> 22339.144 | J31: =IFERROR(-(IF(AND(SUM($C$25:J25)<0,J29<0),MIN(0,J29+J30),MIN(J28+J30,ABS(SUM($C$31:I$31))))),0) -> 29785.525 | K31: =IFERROR(-(IF(AND(SUM($C$25:K25)<0,K29<0),MIN(0,K29+K30),MIN(K28+K30,ABS(SUM($C$31:J$31))))),0) -> 29785.525 | ... CY31: =IFERROR(-(IF(AND(SUM($C$25:CY25)<0,CY29<0),MIN(0,CY29+CY30),MIN(CY28+CY30,ABS(SUM($C$31:CX$31))))),0) -> 29785.525 | CZ31: Cantidad de fugas final, neta de cualquier traspaso positivo aplicado contra fugas negativas, si el aprovechamiento actual disminuye por abajo del aprovechamiento de la línea de base de manera cumulativa después de exceder el aprovechamiento de la línea de base excedente. | DA31: 5.4 | DB31: SEy
A32: % Cobertura arbustiva antes de las actividades de la preparación del sitio | CZ32: Para Áreas de Actividad de Reforestación, ingrese el número de hectáreas que serán reforestadas donde se usa equipo mecánico, es decir, rastrillo o masticación, para la eliminación de vegetación que compite con las plántulas reforestadas en el sitio. | DA32: 5.2
A33: % Cobertura arbustiva despues de las actividades de la preparación del sitio | CZ33: Para Áreas de Actividad de Reforestación, ingrese el número de hectáreas que serán reforestadas donde se usa equipo mecánico, es decir, rastrillo o masticación, para la eliminación de vegetación que compite con las plántulas reforestadas en el sitio. | DA33: 5.2
A34: Área de Actividad (ha) | C34: 28596.95 | CZ34: El factor de emisión estándar apropiado de la Tabla 5.1 del protocolo que corresponda a la cobertura de maleza en el área de preparación del sitio. | DA34: 5.2; Tabla 5.1
A35: Deducción por los Efectos Secundarios para Emisiones de Combustión asociadas con la preparación del sitio | C35: =IF(B32>C33,1.61*(B32-C33)*C34,0) -> 0 | D35: =D33*D34 -> 0 | E35: =E33*E34 -> 0 | F35: =F33*F34 -> 0 | G35: =G33*G34 -> 0 | H35: =H33*H34 -> 0 | I35: =I33*I34 -> 0 | J35: =J33*J34 -> 0 | K35: =K33*K34 -> 0 | ... CY35: =CY33*CY34 -> 0 | CZ35: Se calcula automáticamente las emisiones de combustión asociadas con la preparación del sitio.
A36: Estimador de Proporción por Defecto para Arbustos | CZ36: El factor de emisión estándar apropiado de la Tabla 5.1 del protocolo que corresponda a la cobertura de maleza en el área de preparación del sitio. | DA36: 5.2; Tabla 5.1
A37: Dedución por los Efectos Secundarios para Emisiones de la Remoción de Biomasa asociadas con la preparación del sitio | C37: =(B32-C33)*C36 -> 0
A38: Porcentaje de riesgo de fugas asociado con el desplazamiento de practicas agrícolas o pecuarias debido a las actividades de reforestación | C38: 0 | D38: =$C$38 -> 0 | E38: =$C$38 -> 0 | F38: =$C$38 -> 0 | G38: =$C$38 -> 0 | H38: =$C$38 -> 0 | I38: =$C$38 -> 0 | J38: =$C$38 -> 0 | K38: =$C$38 -> 0 | ... CY38: =$C$38 -> 0 | CZ38: Calcula el porcentaje de riesgo de fugas asociado con el desplazamiento de practicas agrícolas o pecuarias segunda la figura 8.1 del protocolo. | DA38: Figura 5.1
A39: Deducción por fugas asociado con el desplazamiento de practicas agrícolas o pecuarias | C39: =C38*C19 -> 0 | D39: =D38*D19 -> 0 | E39: =E38*E19 -> 0 | F39: =F38*F19 -> 0 | G39: =G38*G19 -> 0 | H39: =H38*H19 -> 0 | I39: =I38*I19 -> 0 | J39: =J38*J19 -> 0 | ... CY39: =CY38*CY19 -> 0 | CZ39: Se calcula automáticamente y es la deducción basada en el porcentaje de riesgo. | DA39: 5.3 | DB39: ASy
A40: Efectos Secundarios Totales | C40: =-(C31+C35+C37+C39) -> 0 | D40: =-(D31+D39) -> 0 | E40: =-(E31+E39) -> -2220.4881 | F40: =-(F31+F39) -> -1697.8427 | G40: =-(G31+G39) -> -22339.144 | H40: =-(H31+H39) -> -22339.144 | I40: =-(I31+I39) -> -22339.144 | J40: =-(J31+J39) -> -29785.525 | K40: =-(K31+K39) -> -29785.525 | ... CY40: =-(CY31+CY39) -> -29785.525 | CZ40: Suma de los efectos secundarios totales para proyectos de mejoramiento al manejo forestal y el desplazamiento de practicas agrícolas o pecuarias. | DA40: 5.1 | DB40: SEy
A41: Remociones y Reversiones Cuantificadas
A42: Remociones Anuales Cuantificadas de CO2 netas de deducciones y los efectos secundarios (toneladas CO2e) | C42: =C19+C40 -> 294484 | D42: =IF(D16>C16,(D19+D40-C59),0) -> 311813 | E42: =IF(E16>D16,(E19+E40-D59),0) -> 224405.51 | F42: =IF(F16>E16,(F19+F40-E59),0) -> 199407.16 | G42: =IF(G16>F16,(G19+G40-F59),0) -> 0 | H42: =IF(H16>G16,(H19+H40-G59),0) -> 0 | I42: =IF(I16>H16,(I19+I40-H59),0) -> 0 | J42: =IF(J16>I16,(J19+J40-I59),0) -> 0 | K42: =IF(K16>J16,(K19+K40-J59),0) -> 0 | ... CY42: =IF(CY16>CX16,(CY19+CY40-CX59),0) -> 0 | CZ42: Se calcula automáticamente las remociones anuales cuantificadas de CO2 netos de deducciones y los efectos secundarios (toneladas CO2e)
...

Sheet TSE
A1: Areas de Actividad | B1: TSE
A2: 1 | B2: 0.05
A3: 2 | B3: 0.07
A4: 3 | B4: 0.08
A5: 4 | B5: 0.09
A6: 5 | B6: 0.1
A7: 6 | B7: 0.11
A8: 7 | B8: 0.12
A9: 8 | B9: 0.13
A10: 9 | B10: 0.14
A11: 10 | B11: 0.15
A12: 11 | B12: 0.16
A13: 12 | B13: 0.17
... A15: 14 | B15: 0.19
A16: =15 -> 15 | B16: 0.2
A17: >15 | B17: 0.2

Sheet Credit issuance TYA
B1: TYV
B2: 0.01
A18: Periodo de Compromiso - Nuevo o Extendido | B18: ='Hoja De Calculo'!C48 -> 100 | C18: ='Hoja De Calculo'!D48 -> 100 | D18: ='Hoja De Calculo'!E48 -> 100 | E18: ='Hoja De Calculo'!F48 -> 100 | F18: ='Hoja De Calculo'!G48 -> 0 | G18: ='Hoja De Calculo'!H48 -> 0 | H18: ='Hoja De Calculo'!I48 -> 0 | I18: ='Hoja De Calculo'!J48 -> 0 | ... CW18: ='Hoja De Calculo'!CX48 -> 0
A19: Periodo de Compromiso - Restante | B19: ='Hoja De Calculo'!C49 -> 100 | C19: ='Hoja De Calculo'!D49 -> 100 | D19: ='Hoja De Calculo'!E49 -> 100 | E19: ='Hoja De Calculo'!F49 -> 100 | F19: ='Hoja De Calculo'!G49 -> 99 | G19: ='Hoja De Calculo'!H49 -> 98 | H19: ='Hoja De Calculo'!I49 -> 97 | I19: ='Hoja De Calculo'!J49 -> 96 | ... CW19: ='Hoja De Calculo'!CX49 -> 4
A20: Reporting Period | B20: 1 | C20: 2 | D20: 3 | E20: 4 | F20: 5 | G20: 6 | H20: 7 | I20: 8 | J20: 9 | K20: 10 | L20: 11 | M20: 12 | N20: 13 | O20: 14 | P20: 15 | Q20: 16 | R20: 17 | S20: 18 | T20: 19 | U20: 20 | V20: 21 | W20: 22 | X20: 23 | Y20: 24 | Z20: 25 | AA20: 26 | AB20: 27 | AC20: 28 | AD20: 29 | AE20: 30 | AF20: 31 | AG20: 32 | AH20: 33 | AI20: 34 | AJ20: 35 | AK20: 36 | AL20: 37 | AM20: 38 | AN20: 39 | AO20: 40 | AP20: 41 | AQ20: 42 | AR20: 43 | AS20: 44 | AT20: 45 | AU20: 46 | AV20: 47 | AW20: 48 | AX20: 49 | AY20: 50 | AZ20: 51 | BA20: 52 | BB20: 53 | BC20: 54 | BD20: 55 | BE20: 56 | BF20: 57 | BG20: 58 | BH20: 59 | BI20: 60 | BJ20: 61 | BK20: 62 | BL20: 63 | BM20: 64 | BN20: 65 | BO20: 66 | BP20: 67 | BQ20: 68 | BR20: 69 | BS20: 70 | BT20: 71 | BU20: 72 | BV20: 73 | BW20: 74 | BX20: 75 | BY20: 76 | BZ20: 77 | CA20: 78 | CB20: 79 | CC20: 80 | CD20: 81 | CE20: 82 | CF20: 83 | CG20: 84 | CH20: 85 | CI20: 86 | CJ20: 87 | CK20: 88 | CL20: 89 | CM20: 90 | CN20: 91 | CO20: 92 | CP20: 93 | CQ20: 94 | CR20: 95 | CS20: 96 | CT20: 97 | CU20: 98 | CV20: 99 | CW20: 100
B21: ='Hoja De Calculo'!C45 -> 294484 | C21: ='Hoja De Calculo'!D45 -> 311813 | D21: ='Hoja De Calculo'!E45 -> 224405.51 | E21: ='Hoja De Calculo'!F45 -> 199407.16 | F21: ='Hoja De Calculo'!G45 -> 0 | G21: ='Hoja De Calculo'!H45 -> 0 | H21: ='Hoja De Calculo'!I45 -> 0 | I21: ='Hoja De Calculo'!J45 -> 0 | ... CW21: ='Hoja De Calculo'!CX45 -> 0
A22: RP 1 | B22: =IF(B18<100,$B$21*$B$2*(B18+1),$B$21*$B$2*(B18)) -> 294484 | C22: =IF('Hoja De Calculo'!D13>='Hoja De Calculo'!C13,IF(C18=100,($B$21*C18*$B$2)-SUM($B$22:B22),IF(C18>B19,((C18-B19+1)*$B$2*$B$21),IF(C18>=B19,$B$21*$B$2))),0) -> 0 | D22: =IF('Hoja De Calculo'!E13>='Hoja De Calculo'!D13,IF(D18=100,($B$21*D18*$B$2)-SUM($B$22:C22),IF(D18>C19,((D18-C19+1)*$B$2*$B$21),IF(D18>=C19,$B$21*$B$2))),0) -> 0 | E22: =IF('Hoja De Calculo'!F13>='Hoja De Calculo'!E13,IF(E18=100,($B$21*E18*$B$2)-SUM($B$22:D22),IF(E18>D19,((E18-D19+1)*$B$2*$B$21),IF(E18>=D19,$B$21*$B$2))),0) -> 0 | F22: =IF('Hoja De Calculo'!G13>='Hoja De Calculo'!F13,IF(F18=100,($B$21*F18*$B$2)-SUM($B$22:E22),IF(F18>E19,((F18-E19+1)*$B$2*$B$21),IF(F18>=E19,$B$21*$B$2))),0) -> 0 | G22: =IF('Hoja De Calculo'!H13>='Hoja De Calculo'!G13,IF(G18=100,($B$21*G18*$B$2)-SUM($B$22:F22),IF(G18>F19,((G18-F19+1)*$B$2*$B$21),IF(G18>=F19,$B$21*$B$2))),0) -> FALSE | H22: =IF('Hoja De Calculo'!I13>='Hoja De Calculo'!H13,IF(H18=100,($B$21*H18*$B$2)-SUM($B$22:G22),IF(H18>G19,((H18-G19+1)*$B$2*$B$21),IF(H18>=G19,$B$21*$B$2))),0) -> FALSE | I22: =IF('Hoja De Calculo'!J13>='Hoja De Calculo'!I13,IF(I18=100,($B$21*I18*$B$2)-SUM($B$22:H22),IF(I18>H19,((I18-H19+1)*$B$2*$B$21),IF(I18>=H19,$B$21*$B$2))),0) -> FALSE | J22: =IF('Hoja De Calculo'!K13>='Hoja De Calculo'!J13,IF(J18=100,($B$21*J18*$B$2)-SUM($B$22:I22),IF(J18>I19,((J18-I19+1)*$B$2*$B$21),IF(J18>=I19,$B$21*$B$2))),0) -> FALSE | ... CW22: =IF('Hoja De Calculo'!CX13>='Hoja De Calculo'!CW13,IF(CW18=100,($B$21*CW18*$B$2)-SUM($B$22:CV22),IF(CW18>CV19,((CW18-CV19+1)*$B$2*$B$21),IF(CW18>=CV19,$B$21*$B$2))),0) -> FALSE
A23: RP 2 | C23: =($C$21*$B$2*(C19+(IF(C19=100,0,1)))) -> 311813 | D23: =IF('Hoja De Calculo'!E13>='Hoja De Calculo'!D13,IF(D18=100,($C$21*D18*$B$2)-SUM($C$23:C23),IF(D18>C19,((D18-C19+1)*$B$2*$C$21),IF(D18>=C19,$C$21*$B$2))),0) -> 0 | E23: =IF('Hoja De Calculo'!F13>='Hoja De Calculo'!E13,IF(E18=100,($C$21*E18*$B$2)-SUM($C$23:D23),IF(E18>D19,((E18-D19+1)*$B$2*$C$21),IF(E18>=D19,$C$21*$B$2))),0) -> 0 | F23: =IF('Hoja De Calculo'!G13>='Hoja De Calculo'!F13,IF(F18=100,($C$21*F18*$B$2)-SUM($C$23:E23),IF(F18>E19,((F18-E19+1)*$B$2*$C$21),IF(F18>=E19,$C$21*$B$2))),0) -> 0 | G23: =IF('Hoja De Calculo'!H13>='Hoja De Calculo'!G13,IF(G18=100,($C$21*G18*$B$2)-SUM($C$23:F23),IF(G18>F19,((G18-F19+1)*$B$2*$C$21),IF(G18>=F19,$C$21*$B$2))),0) -> FALSE | H23: =IF('Hoja De Calculo'!I13>='Hoja De Calculo'!H13,IF(H18=100,($C$21*H18*$B$2)-SUM($C$23:G23),IF(H18>G19,((H18-G19+1)*$B$2*$C$21),IF(H18>=G19,$C$21*$B$2))),0) -> FALSE | I23: =IF('Hoja De Calculo'!J13>='Hoja De Calculo'!I13,IF(I18=100,($C$21*I18*$B$2)-SUM($C$23:H23),IF(I18>H19,((I18-H19+1)*$B$2*$C$21),IF(I18>=H19,$C$21*$B$2))),0) -> FALSE | J23: =IF('Hoja De Calculo'!K13>='Hoja De Calculo'!J13,IF(J18=100,($C$21*J18*$B$2)-SUM($C$23:I23),IF(J18>I19,((J18-I19+1)*$B$2*$C$21),IF(J18>=I19,$C$21*$B$2))),0) -> FALSE | K23: =IF('Hoja De Calculo'!L13>='Hoja De Calculo'!K13,IF(K18=100,($C$21*K18*$B$2)-SUM($C$23:J23),IF(K18>J19,((K18-J19+1)*$B$2*$C$21),IF(K18>=J19,$C$21*$B$2))),0) -> FALSE | ... CW23: =IF('Hoja De Calculo'!CX13>='Hoja De Calculo'!CW13,IF(CW18=100,($C$21*CW18*$B$2)-SUM($C$23:CV23),IF(CW18>CV19,((CW18-CV19+1)*$B$2*$C$21),IF(CW18>=CV19,$C$21*$B$2))),0) -> FALSE
A24: RP 3 | D24: =($D$21*$B$2*(D19+(IF(D19=100,0,1)))) -> 224405.51 | E24: =IF('Hoja De Calculo'!F13>='Hoja De Calculo'!E13,IF(E18=100,($D$21*E18*$B$2)-SUM($D$24:D24),IF(E18>D19,((E18-D19+1)*$B$2*$D$21),IF(E18>=D19,$D$21*$B$2))),0) -> 0 | F24: =IF('Hoja De Calculo'!G13>='Hoja De Calculo'!F13,IF(F18=100,($D$21*F18*$B$2)-SUM($D$24:E24),IF(F18>E19,((F18-E19+1)*$B$2*$D$21),IF(F18>=E19,$D$21*$B$2))),0) -> 0 | G24: =IF('Hoja De Calculo'!H13>='Hoja De Calculo'!G13,IF(G18=100,($D$21*G18*$B$2)-SUM($D$24:F24),IF(G18>F19,((G18-F19+1)*$B$2*$D$21),IF(G18>=F19,$D$21*$B$2))),0) -> FALSE | H24: =IF('Hoja De Calculo'!I13>='Hoja De Calculo'!H13,IF(H18=100,($D$21*H18*$B$2)-SUM($D$24:G24),IF(H18>G19,((H18-G19+1)*$B$2*$D$21),IF(H18>=G19,$D$21*$B$2))),0) -> FALSE | I24: =IF('Hoja De Calculo'!J13>='Hoja De Calculo'!I13,IF(I18=100,($D$21*I18*$B$2)-SUM($D$24:H24),IF(I18>H19,((I18-H19+1)*$B$2*$D$21),IF(I18>=H19,$D$21*$B$2))),0) -> FALSE | J24: =IF('Hoja De Calculo'!K13>='Hoja De Calculo'!J13,IF(J18=100,($D$21*J18*$B$2)-SUM($D$24:I24),IF(J18>I19,((J18-I19+1)*$B$2*$D$21),IF(J18>=I19,$D$21*$B$2))),0) -> FALSE | K24: =IF('Hoja De Calculo'!L13>='Hoja De Calculo'!K13,IF(K18=100,($D$21*K18*$B$2)-SUM($D$24:J24),IF(K18>J19,((K18-J19+1)*$B$2*$D$21),IF(K18>=J19,$D$21*$B$2))),0) -> FALSE | L24: =IF('Hoja De Calculo'!M13>='Hoja De Calculo'!L13,IF(L18=100,($D$21*L18*$B$2)-SUM($D$24:K24),IF(L18>K19,((L18-K19+1)*$B$2*$D$21),IF(L18>=K19,$D$21*$B$2))),0) -> FALSE | ... CW24: =IF('Hoja De Calculo'!CX13>='Hoja De Calculo'!CW13,IF(CW18=100,($D$21*CW18*$B$2)-SUM($D$24:CV24),IF(CW18>CV19,((CW18-CV19+1)*$B$2*$D$21),IF(CW18>=CV19,$D$21*$B$2))),0) -> FALSE
A25: RP 4 | E25: =(E$21*$B$2*(E$19+(IF(E$19=100,0,1)))) -> 199407.16 | F25: =IF('Hoja De Calculo'!G13>='Hoja De Calculo'!F13,IF(F18=100,($E$21*F18*$B$2)-SUM($E$25:E25),IF(F18>E19,((F18-E19+1)*$B$2*$E$21),IF(F18>=E19,$E$21*$B$2))),0) -> 0 | G25: =IF('Hoja De Calculo'!H13>='Hoja De Calculo'!G13,IF(G18=100,($E$21*G18*$B$2)-SUM($E$25:F25),IF(G18>F19,((G18-F19+1)*$B$2*$E$21),IF(G18>=F19,$E$21*$B$2))),0) -> FALSE | H25: =IF('Hoja De Calculo'!I13>='Hoja De Calculo'!H13,IF(H18=100,($E$21*H18*$B$2)-SUM($E$25:G25),IF(H18>G19,((H18-G19+1)*$B$2*$E$21),IF(H18>=G19,$E$21*$B$2))),0) -> FALSE | I25: =IF('Hoja De Calculo'!J13>='Hoja De Calculo'!I13,IF(I18=100,($E$21*I18*$B$2)-SUM($E$25:H25),IF(I18>H19,((I18-H19+1)*$B$2*$E$21),IF(I18>=H19,$E$21*$B$2))),0) -> FALSE | J25: =IF('Hoja De Calculo'!K13>='Hoja De Calculo'!J13,IF(J18=100,($E$21*J18*$B$2)-SUM($E$25:I25),IF(J18>I19,((J18-I19+1)*$B$2*$E$21),IF(J18>=I19,$E$21*$B$2))),0) -> FALSE | K25: =IF('Hoja De Calculo'!L13>='Hoja De Calculo'!K13,IF(K18=100,($E$21*K18*$B$2)-SUM($E$25:J25),IF(K18>J19,((K18-J19+1)*$B$2*$E$21),IF(K18>=J19,$E$21*$B$2))),0) -> FALSE | L25: =IF('Hoja De Calculo'!M13>='Hoja De Calculo'!L13,IF(L18=100,($E$21*L18*$B$2)-SUM($E$25:K25),IF(L18>K19,((L18-K19+1)*$B$2*$E$21),IF(L18>=K19,$E$21*$B$2))),0) -> FALSE | M25: =IF('Hoja De Calculo'!N13>='Hoja De Calculo'!M13,IF(M18=100,($E$21*M18*$B$2)-SUM($E$25:L25),IF(M18>L19,((M18-L19+1)*$B$2*$E$21),IF(M18>=L19,$E$21*$B$2))),0) -> FALSE | ... CW25: =IF('Hoja De Calculo'!CX13>='Hoja De Calculo'!CW13,IF(CW18=100,($E$21*CW18*$B$2)-SUM($E$25:CV25),IF(CW18>CV19,((CW18-CV19+1)*$B$2*$E$21),IF(CW18>=CV19,$E$21*$B$2))),0) -> FALSE
A26: RP 5 | F26: =(F$21*$B$2*(F$19+(IF(F$19=100,0,1)))) -> 0 | G26: =IF('Hoja De Calculo'!H13>='Hoja De Calculo'!G13,IF(G18=100,($F$21*G18*$B$2)-SUM($F$26:F26),IF(G18>F19,((G18-F19+1)*$B$2*$F$21),IF(G18>=F19,$F$21*$B$2))),0) -> FALSE | H26: =IF('Hoja De Calculo'!I13>='Hoja De Calculo'!H13,IF(H18=100,($F$21*H18*$B$2)-SUM($F$26:G26),IF(H18>G19,((H18-G19+1)*$B$2*$F$21),IF(H18>=G19,$F$21*$B$2))),0) -> FALSE | I26: =IF('Hoja De Calculo'!J13>='Hoja De Calculo'!I13,IF(I18=100,($F$21*I18*$B$2)-SUM($F$26:H26),IF(I18>H19,((I18-H19+1)*$B$2*$F$21),IF(I18>=H19,$F$21*$B$2))),0) -> FALSE | J26: =IF('Hoja De Calculo'!K13>='Hoja De Calculo'!J13,IF(J18=100,($F$21*J18*$B$2)-SUM($F$26:I26),IF(J18>I19,((J18-I19+1)*$B$2*$F$21),IF(J18>=I19,$F$21*$B$2))),0) -> FALSE | K26: =IF('Hoja De Calculo'!L13>='Hoja De Calculo'!K13,IF(K18=100,($F$21*K18*$B$2)-SUM($F$26:J26),IF(K18>J19,((K18-J19+1)*$B$2*$F$21),IF(K18>=J19,$F$21*$B$2))),0) -> FALSE | L26: =IF('Hoja De Calculo'!M13>='Hoja De Calculo'!L13,IF(L18=100,($F$21*L18*$B$2)-SUM($F$26:K26),IF(L18>K19,((L18-K19+1)*$B$2*$F$21),IF(L18>=K19,$F$21*$B$2))),0) -> FALSE | M26: =IF('Hoja De Calculo'!N13>='Hoja De Calculo'!M13,IF(M18=100,($F$21*M18*$B$2)-SUM($F$26:L26),IF(M18>L19,((M18-L19+1)*$B$2*$F$21),IF(M18>=L19,$F$21*$B$2))),0) -> FALSE | N26: =IF('Hoja De Calculo'!O13>='Hoja De Calculo'!N13,IF(N18=100,($F$21*N18*$B$2)-SUM($F$26:M26),IF(N18>M19,((N18-M19+1)*$B$2*$F$21),IF(N18>=M19,$F$21*$B$2))),0) -> FALSE | ... CW26: =IF('Hoja De Calculo'!CX13>='Hoja De Calculo'!CW13,IF(CW18=100,($F$21*CW18*$B$2)-SUM($F$26:CV26),IF(CW18>CV19,((CW18-CV19+1)*$B$2*$F$21),IF(CW18>=CV19,$F$21*$B$2))),0) -> FALSE
A27: RP 6 | G27: =(G$21*$B$2*(G$19+(IF(G$19=100,0,1)))) -> 0 | H27: =IF('Hoja De Calculo'!I13>='Hoja De Calculo'!H13,IF(H18=100,($G$21*H18*$B$2)-SUM($G$27:G27),IF(H18>G19,((H18-G19+1)*$B$2*$G$21),IF(H18>=G19,$G$21*$B$2))),0) -> FALSE | I27: =IF('Hoja De Calculo'!J13>='Hoja De Calculo'!I13,IF(I18=100,($G$21*I18*$B$2)-SUM($G$27:H27),IF(I18>H19,((I18-H19+1)*$B$2*$G$21),IF(I18>=H19,$G$21*$B$2))),0) -> FALSE | J27: =IF('Hoja De Calculo'!K13>='Hoja De Calculo'!J13,IF(J18=100,($G$21*J18*$B$2)-SUM($G$27:I27),IF(J18>I19,((J18-I19+1)*$B$2*$G$21),IF(J18>=I19,$G$21*$B$2))),0) -> FALSE | K27: =IF('Hoja De Calculo'!L13>='Hoja De Calculo'!K13,IF(K18=100,($G$21*K18*$B$2)-SUM($G$27:J27),IF(K18>J19,((K18-J19+1)*$B$2*$G$21),IF(K18>=J19,$G$21*$B$2))),0) -> FALSE | L27: =IF('Hoja De Calculo'!M13>='Hoja De Calculo'!L13,IF(L18=100,($G$21*L18*$B$2)-SUM($G$27:K27),IF(L18>K19,((L18-K19+1)*$B$2*$G$21),IF(L18>=K19,$G$21*$B$2))),0) -> FALSE | M27: =IF('Hoja De Calculo'!N13>='Hoja De Calculo'!M13,IF(M18=100,($G$21*M18*$B$2)-SUM($G$27:L27),IF(M18>L19,((M18-L19+1)*$B$2*$G$21),IF(M18>=L19,$G$21*$B$2))),0) -> FALSE | N27: =IF('Hoja De Calculo'!O13>='Hoja De Calculo'!N13,IF(N18=100,($G$21*N18*$B$2)-SUM($G$27:M27),IF(N18>M19,((N18-M19+1)*$B$2*$G$21),IF(N18>=M19,$G$21*$B$2))),0) -> FALSE | O27: =IF('Hoja De Calculo'!P13>='Hoja De Calculo'!O13,IF(O18=100,($G$21*O18*$B$2)-SUM($G$27:N27),IF(O18>N19,((O18-N19+1)*$B$2*$G$21),IF(O18>=N19,$G$21*$B$2))),0) -> FALSE | ... CW27: =IF('Hoja De Calculo'!CX13>='Hoja De Calculo'!CW13,IF(CW18=100,($G$21*CW18*$B$2)-SUM($G$27:CV27),IF(CW18>CV19,((CW18-CV19+1)*$B$2*$G$21),IF(CW18>=CV19,$G$21*$B$2))),0) -> FALSE
A28: RP 7 | H28: =(H$21*$B$2*(H$19+(IF(H$19=100,0,1)))) -> 0 | I28: =IF('Hoja De Calculo'!J13>='Hoja De Calculo'!I13,IF(I18=100,($H$21*I18*$B$2)-SUM($H$28:H28),IF(I18>H19,((I18-H19+1)*$B$2*$H$21),IF(I18>=H19,$H$21*$B$2))),0) -> FALSE | J28: =IF('Hoja De Calculo'!K13>='Hoja De Calculo'!J13,IF(J18=100,($H$21*J18*$B$2)-SUM($H$28:I28),IF(J18>I19,((J18-I19+1)*$B$2*$H$21),IF(J18>=I19,$H$21*$B$2))),0) -> FALSE | K28: =IF('Hoja De Calculo'!L13>='Hoja De Calculo'!K13,IF(K18=100,($H$21*K18*$B$2)-SUM($H$28:J28),IF(K18>J19,((K18-J19+1)*$B$2*$H$21),IF(K18>=J19,$H$21*$B$2))),0) -> FALSE | L28: =IF('Hoja De Calculo'!M13>='Hoja De Calculo'!L13,IF(L18=100,($H$21*L18*$B$2)-SUM($H$28:K28),IF(L18>K19,((L18-K19+1)*$B$2*$H$21),IF(L18>=K19,$H$21*$B$2))),0) -> FALSE | M28: =IF('Hoja De Calculo'!N13>='Hoja De Calculo'!M13,IF(M18=100,($H$21*M18*$B$2)-SUM($H$28:L28),IF(M18>L19,((M18-L19+1)*$B$2*$H$21),IF(M18>=L19,$H$21*$B$2))),0) -> FALSE | N28: =IF('Hoja De Calculo'!O13>='Hoja De Calculo'!N13,IF(N18=100,($H$21*N18*$B$2)-SUM($H$28:M28),IF(N18>M19,((N18-M19+1)*$B$2*$H$21),IF(N18>=M19,$H$21*$B$2))),0) -> FALSE | O28: =IF('Hoja De Calculo'!P13>='Hoja De Calculo'!O13,IF(O18=100,($H$21*O18*$B$2)-SUM($H$28:N28),IF(O18>N19,((O18-N19+1)*$B$2*$H$21),IF(O18>=N19,$H$21*$B$2))),0) -> FALSE | P28: =IF('Hoja De Calculo'!Q13>='Hoja De Calculo'!P13,IF(P18=100,($H$21*P18*$B$2)-SUM($H$28:O28),IF(P18>O19,((P18-O19+1)*$B$2*$H$21),IF(P18>=O19,$H$21*$B$2))),0) -> FALSE | ... CW28: =IF('Hoja De Calculo'!CX13>='Hoja De Calculo'!CW13,IF(CW18=100,($H$21*CW18*$B$2)-SUM($H$28:CV28),IF(CW18>CV19,((CW18-CV19+1)*$B$2*$H$21),IF(CW18>=CV19,$H$21*$B$2))),0) -> FALSE
A29: RP 8 | I29: =(I$21*$B$2*(I$19+(IF(I$19=100,0,1)))) -> 0 | J29: =IF('Hoja De Calculo'!K13>='Hoja De Calculo'!J13,IF(J18=100,($I$21*J$18*$B$2)-SUM($I29:I29),IF(J$18>I$19,((J$18-I$19+1)*$B$2*$I$21),IF(J$18>=I$19,$I$21*$B$2))),0) -> FALSE | K29: =IF('Hoja De Calculo'!L13>='Hoja De Calculo'!K13,IF(K18=100,($I$21*K$18*$B$2)-SUM($I29:J29),IF(K$18>J$19,((K$18-J$19+1)*$B$2*$I$21),IF(K$18>=J$19,$I$21*$B$2))),0) -> FALSE | L29: =IF('Hoja De Calculo'!M13>='Hoja De Calculo'!L13,IF(L18=100,($I$21*L$18*$B$2)-SUM($I29:K29),IF(L$18>K$19,((L$18-K$19+1)*$B$2*$I$21),IF(L$18>=K$19,$I$21*$B$2))),0) -> FALSE | M29: =IF('Hoja De Calculo'!N13>='Hoja De Calculo'!M13,IF(M18=100,($I$21*M$18*$B$2)-SUM($I29:L29),IF(M$18>L$19,((M$18-L$19+1)*$B$2*$I$21),IF(M$18>=L$19,$I$21*$B$2))),0) -> FALSE | N29: =IF('Hoja De Calculo'!O13>='Hoja De Calculo'!N13,IF(N18=100,($I$21*N$18*$B$2)-SUM($I29:M29),IF(N$18>M$19,((N$18-M$19+1)*$B$2*$I$21),IF(N$18>=M$19,$I$21*$B$2))),0) -> FALSE | O29: =IF('Hoja De Calculo'!P13>='Hoja De Calculo'!O13,IF(O18=100,($I$21*O$18*$B$2)-SUM($I29:N29),IF(O$18>N$19,((O$18-N$19+1)*$B$2*$I$21),IF(O$18>=N$19,$I$21*$B$2))),0) -> FALSE | P29: =IF('Hoja De Calculo'!Q13>='Hoja De Calculo'!P13,IF(P18=100,($I$21*P$18*$B$2)-SUM($I29:O29),IF(P$18>O$19,((P$18-O$19+1)*$B$2*$I$21),IF(P$18>=O$19,$I$21*$B$2))),0) -> FALSE | Q29: =IF('Hoja De Calculo'!R13>='Hoja De Calculo'!Q13,IF(Q18=100,($I$21*Q$18*$B$2)-SUM($I29:P29),IF(Q$18>P$19,((Q$18-P$19+1)*$B$2*$I$21),IF(Q$18>=P$19,$I$21*$B$2))),0) -> FALSE | ... CW29: =IF('Hoja De Calculo'!CX13>='Hoja De Calculo'!CW13,IF(CW18=100,($I$21*CW$18*$B$2)-SUM($I29:CV29),IF(CW$18>CV$19,((CW$18-CV$19+1)*$B$2*$I$21),IF(CW$18>=CV$19,$I$21*$B$2))),0) -> FALSE
A30: RP 9 | J30: =(J$21*$B$2*(J$19+(IF(J$19=100,0,1)))) -> 0 | K30: =IF('Hoja De Calculo'!L13>='Hoja De Calculo'!K13,IF(K$18=100,($J$21*K$18*$B$2)-SUM($I30:J30),IF(K$18>J$19,((K$18-J$19+1)*$B$2*$J$21),IF(K$18>=J$19,$J$21*$B$2))),0) -> FALSE | L30: =IF('Hoja De Calculo'!M13>='Hoja De Calculo'!L13,IF(L$18=100,($J$21*L$18*$B$2)-SUM($I30:K30),IF(L$18>K$19,((L$18-K$19+1)*$B$2*$J$21),IF(L$18>=K$19,$J$21*$B$2))),0) -> FALSE | M30: =IF('Hoja De Calculo'!N13>='Hoja De Calculo'!M13,IF(M$18=100,($J$21*M$18*$B$2)-SUM($I30:L30),IF(M$18>L$19,((M$18-L$19+1)*$B$2*$J$21),IF(M$18>=L$19,$J$21*$B$2))),0) -> FALSE | N30: =IF('Hoja De Calculo'!O13>='Hoja De Calculo'!N13,IF(N$18=100,($J$21*N$18*$B$2)-SUM($I30:M30),IF(N$18>M$19,((N$18-M$19+1)*$B$2*$J$21),IF(N$18>=M$19,$J$21*$B$2))),0) -> FALSE | O30: =IF('Hoja De Calculo'!P13>='Hoja De Calculo'!O13,IF(O$18=100,($J$21*O$18*$B$2)-SUM($I30:N30),IF(O$18>N$19,((O$18-N$19+1)*$B$2*$J$21),IF(O$18>=N$19,$J$21*$B$2))),0) -> FALSE | P30: =IF('Hoja De Calculo'!Q13>='Hoja De Calculo'!P13,IF(P$18=100,($J$21*P$18*$B$2)-SUM($I30:O30),IF(P$18>O$19,((P$18-O$19+1)*$B$2*$J$21),IF(P$18>=O$19,$J$21*$B$2))),0) -> FALSE | Q30: =IF('Hoja De Calculo'!R13>='Hoja De Calculo'!Q13,IF(Q$18=100,($J$21*Q$18*$B$2)-SUM($I30:P30),IF(Q$18>P$19,((Q$18-P$19+1)*$B$2*$J$21),IF(Q$18>=P$19,$J$21*$B$2))),0) -> FALSE | R30: =IF('Hoja De Calculo'!S13>='Hoja De Calculo'!R13,IF(R$18=100,($J$21*R$18*$B$2)-SUM($I30:Q30),IF(R$18>Q$19,((R$18-Q$19+1)*$B$2*$J$21),IF(R$18>=Q$19,$J$21*$B$2))),0) -> FALSE | ... CW30: =IF('Hoja De Calculo'!CX13>='Hoja De Calculo'!CW13,IF(CW$18=100,($J$21*CW$18*$B$2)-SUM($I30:CV30),IF(CW$18>CV$19,((CW$18-CV$19+1)*$B$2*$J$21),IF(CW$18>=CV$19,$J$21*$B$2))),0) -> FALSE
A31: RP 10 | K31: =(K$21*$B$2*(K$19+(IF(K$19=100,0,1)))) -> 0 | L31: =IF('Hoja De Calculo'!M13>='Hoja De Calculo'!L13,IF(L$18=100,($K$21*L$18*$B$2)-SUM($I31:K31),IF(L$18>K$19,((L$18-K$19+1)*$B$2*$K$21),IF(L$18>=K$19,$K$21*$B$2))),0) -> FALSE | M31: =IF('Hoja De Calculo'!N13>='Hoja De Calculo'!M13,IF(M$18=100,($K$21*M$18*$B$2)-SUM($I31:L31),IF(M$18>L$19,((M$18-L$19+1)*$B$2*$K$21),IF(M$18>=L$19,$K$21*$B$2))),0) -> FALSE | N31: =IF('Hoja De Calculo'!O13>='Hoja De Calculo'!N13,IF(N$18=100,($K$21*N$18*$B$2)-SUM($I31:M31),IF(N$18>M$19,((N$18-M$19+1)*$B$2*$K$21),IF(N$18>=M$19,$K$21*$B$2))),0) -> FALSE | O31: =IF('Hoja De Calculo'!P13>='Hoja De Calculo'!O13,IF(O$18=100,($K$21*O$18*$B$2)-SUM($I31:N31),IF(O$18>N$19,((O$18-N$19+1)*$B$2*$K$21),IF(O$18>=N$19,$K$21*$B$2))),0) -> FALSE | P31: =IF('Hoja De Calculo'!Q13>='Hoja De Calculo'!P13,IF(P$18=100,($K$21*P$18*$B$2)-SUM($I31:O31),IF(P$18>O$19,((P$18-O$19+1)*$B$2*$K$21),IF(P$18>=O$19,$K$21*$B$2))),0) -> FALSE | Q31: =IF('Hoja De Calculo'!R13>='Hoja De Calculo'!Q13,IF(Q$18=100,($K$21*Q$18*$B$2)-SUM($I31:P31),IF(Q$18>P$19,((Q$18-P$19+1)*$B$2*$K$21),IF(Q$18>=P$19,$K$21*$B$2))),0) -> FALSE | R31: =IF('Hoja De Calculo'!S13>='Hoja De Calculo'!R13,IF(R$18=100,($K$21*R$18*$B$2)-SUM($I31:Q31),IF(R$18>Q$19,((R$18-Q$19+1)*$B$2*$K$21),IF(R$18>=Q$19,$K$21*$B$2))),0) -> FALSE | S31: =IF('Hoja De Calculo'!T13>='Hoja De Calculo'!S13,IF(S$18=100,($K$21*S$18*$B$2)-SUM($I31:R31),IF(S$18>R$19,((S$18-R$19+1)*$B$2*$K$21),IF(S$18>=R$19,$K$21*$B$2))),0) -> FALSE | ... CW31: =IF('Hoja De Calculo'!CX13>='Hoja De Calculo'!CW13,IF(CW$18=100,($K$21*CW$18*$B$2)-SUM($I31:CV31),IF(CW$18>CV$19,((CW$18-CV$19+1)*$B$2*$K$21),IF(CW$18>=CV$19,$K$21*$B$2))),0) -> FALSE
A32: RP 11 | L32: =(L$21*$B$2*(L$19+(IF(L$19=100,0,1)))) -> 0 | M32: =IF('Hoja De Calculo'!N13>='Hoja De Calculo'!M13,IF(M$18=100,($L$21*M$18*$B$2)-SUM($I32:L32),IF(M$18>L$19,((M$18-L$19+1)*$B$2*$L$21),IF(M$18>=L$19,$L$21*$B$2))),0) -> FALSE | N32: =IF('Hoja De Calculo'!O13>='Hoja De Calculo'!N13,IF(N$18=100,($L$21*N$18*$B$2)-SUM($I32:M32),IF(N$18>M$19,((N$18-M$19+1)*$B$2*$L$21),IF(N$18>=M$19,$L$21*$B$2))),0) -> FALSE | O32: =IF('Hoja De Calculo'!P13>='Hoja De Calculo'!O13,IF(O$18=100,($L$21*O$18*$B$2)-SUM($I32:N32),IF(O$18>N$19,((O$18-N$19+1)*$B$2*$L$21),IF(O$18>=N$19,$L$21*$B$2))),0) -> FALSE | P32: =IF('Hoja De Calculo'!Q13>='Hoja De Calculo'!P13,IF(P$18=100,($L$21*P$18*$B$2)-SUM($I32:O32),IF(P$18>O$19,((P$18-O$19+1)*$B$2*$L$21),IF(P$18>=O$19,$L$21*$B$2))),0) -> FALSE | Q32: =IF('Hoja De Calculo'!R13>='Hoja De Calculo'!Q13,IF(Q$18=100,($L$21*Q$18*$B$2)-SUM($I32:P32),IF(Q$18>P$19,((Q$18-P$19+1)*$B$2*$L$21),IF(Q$18>=P$19,$L$21*$B$2))),0) -> FALSE | R32: =IF('Hoja De Calculo'!S13>='Hoja De Calculo'!R13,IF(R$18=100,($L$21*R$18*$B$2)-SUM($I32:Q32),IF(R$18>Q$19,((R$18-Q$19+1)*$B$2*$L$21),IF(R$18>=Q$19,$L$21*$B$2))),0) -> FALSE | S32: =IF('Hoja De Calculo'!T13>='Hoja De Calculo'!S13,IF(S$18=100,($L$21*S$18*$B$2)-SUM($I32:R32),IF(S$18>R$19,((S$18-R$19+1)*$B$2*$L$21),IF(S$18>=R$19,$L$21*$B$2))),0) -> FALSE | T32: =IF('Hoja De Calculo'!U13>='Hoja De Calculo'!T13,IF(T$18=100,($L$21*T$18*$B$2)-SUM($I32:S32),IF(T$18>S$19,((T$18-S$19+1)*$B$2*$L$21),IF(T$18>=S$19,$L$21*$B$2))),0) -> FALSE | ... CW32: =IF('Hoja De Calculo'!CX13>='Hoja De Calculo'!CW13,IF(CW$18=100,($L$21*CW$18*$B$2)-SUM($I32:CV32),IF(CW$18>CV$19,((CW$18-CV$19+1)*$B$2*$L$21),IF(CW$18>=CV$19,$L$21*$B$2))),0) -> FALSE
A33: RP 12 | M33: =(M$21*$B$2*(M$19+(IF(M$19=100,0,1)))) -> 0 | N33: =IF('Hoja De Calculo'!O13>='Hoja De Calculo'!N13,IF(N$18=100,($M$21*N$18*$B$2)-SUM($I33:M33),IF(N$18>M$19,((N$18-M$19+1)*$B$2*$M$21),IF(N$18>=M$19,$M$21*$B$2))),0) -> FALSE | O33: =IF('Hoja De Calculo'!P13>='Hoja De Calculo'!O13,IF(O$18=100,($M$21*O$18*$B$2)-SUM($I33:N33),IF(O$18>N$19,((O$18-N$19+1)*$B$2*$M$21),IF(O$18>=N$19,$M$21*$B$2))),0) -> FALSE | P33: =IF('Hoja De Calculo'!Q13>='Hoja De Calculo'!P13,IF(P$18=100,($M$21*P$18*$B$2)-SUM($I33:O33),IF(P$18>O$19,((P$18-O$19+1)*$B$2*$M$21),IF(P$18>=O$19,$M$21*$B$2))),0) -> FALSE | Q33: =IF('Hoja De Calculo'!R13>='Hoja De Calculo'!Q13,IF(Q$18=100,($M$21*Q$18*$B$2)-SUM($I33:P33),IF(Q$18>P$19,((Q$18-P$19+1)*$B$2*$M$21),IF(Q$18>=P$19,$M$21*$B$2))),0) -> FALSE | R33: =IF('Hoja De Calculo'!S13>='Hoja De Calculo'!R13,IF(R$18=100,($M$21*R$18*$B$2)-SUM($I33:Q33),IF(R$18>Q$19,((R$18-Q$19+1)*$B$2*$M$21),IF(R$18>=Q$19,$M$21*$B$2))),0) -> FALSE | S33: =IF('Hoja De Calculo'!T13>='Hoja De Calculo'!S13,IF(S$18=100,($M$21*S$18*$B$2)-SUM($I33:R33),IF(S$18>R$19,((S$18-R$19+1)*$B$2*$M$21),IF(S$18>=R$19,$M$21*$B$2))),0) -> FALSE | T33: =IF('Hoja De Calculo'!U13>='Hoja De Calculo'!T13,IF(T$18=100,($M$21*T$18*$B$2)-SUM($I33:S33),IF(T$18>S$19,((T$18-S$19+1)*$B$2*$M$21),IF(T$18>=S$19,$M$21*$B$2))),0) -> FALSE | U33: =IF('Hoja De Calculo'!V13>='Hoja De Calculo'!U13,IF(U$18=100,($M$21*U$18*$B$2)-SUM($I33:T33),IF(U$18>T$19,((U$18-T$19+1)*$B$2*$M$21),IF(U$18>=T$19,$M$21*$B$2))),0) -> FALSE | ... CW33: =IF('Hoja De Calculo'!CX13>='Hoja De Calculo'!CW13,IF(CW$18=100,($M$21*CW$18*$B$2)-SUM($I33:CV33),IF(CW$18>CV$19,((CW$18-CV$19+1)*$B$2*$M$21),IF(CW$18>=CV$19,$M$21*$B$2))),0) -> FALSE
A34: RP 13 | N34: =(N$21*$B$2*(N$19+(IF(N$19=100,0,1)))) -> 0 | O34: =IF('Hoja De Calculo'!P13>='Hoja De Calculo'!O13,IF(O$18=100,($N$21*O$18*$B$2)-SUM($I34:N34),IF(O$18>N$19,((O$18-N$19+1)*$B$2*$N$21),IF(O$18>=N$19,$N$21*$B$2))),0) -> FALSE | P34: =IF('Hoja De Calculo'!Q13>='Hoja De Calculo'!P13,IF(P$18=100,($N$21*P$18*$B$2)-SUM($I34:O34),IF(P$18>O$19,((P$18-O$19+1)*$B$2*$N$21),IF(P$18>=O$19,$N$21*$B$2))),0) -> FALSE | Q34: =IF('Hoja De Calculo'!R13>='Hoja De Calculo'!Q13,IF(Q$18=100,($N$21*Q$18*$B$2)-SUM($I34:P34),IF(Q$18>P$19,((Q$18-P$19+1)*$B$2*$N$21),IF(Q$18>=P$19,$N$21*$B$2))),0) -> FALSE | R34: =IF('Hoja De Calculo'!S13>='Hoja De Calculo'!R13,IF(R$18=100,($N$21*R$18*$B$2)-SUM($I34:Q34),IF(R$18>Q$19,((R$18-Q$19+1)*$B$2*$N$21),IF(R$18>=Q$19,$N$21*$B$2))),0) -> FALSE | S34: =IF('Hoja De Calculo'!T13>='Hoja De Calculo'!S13,IF(S$18=100,($N$21*S$18*$B$2)-SUM($I34:R34),IF(S$18>R$19,((S$18-R$19+1)*$B$2*$N$21),IF(S$18>=R$19,$N$21*$B$2))),0) -> FALSE | T34: =IF('Hoja De Calculo'!U13>='Hoja De Calculo'!T13,IF(T$18=100,($N$21*T$18*$B$2)-SUM($I34:S34),IF(T$18>S$19,((T$18-S$19+1)*$B$2*$N$21),IF(T$18>=S$19,$N$21*$B$2))),0) -> FALSE | U34: =IF('Hoja De Calculo'!V13>='Hoja De Calculo'!U13,IF(U$18=100,($N$21*U$18*$B$2)-SUM($I34:T34),IF(U$18>T$19,((U$18-T$19+1)*$B$2*$N$21),IF(U$18>=T$19,$N$21*$B$2))),0) -> FALSE | V34: =IF('Hoja De Calculo'!W13>='Hoja De Calculo'!V13,IF(V$18=100,($N$21*V$18*$B$2)-SUM($I34:U34),IF(V$18>U$19,((V$18-U$19+1)*$B$2*$N$21),IF(V$18>=U$19,$N$21*$B$2))),0) -> FALSE | ... CW34: =IF('Hoja De Calculo'!CX13>='Hoja De Calculo'!CW13,IF(CW$18=100,($N$21*CW$18*$B$2)-SUM($I34:CV34),IF(CW$18>CV$19,((CW$18-CV$19+1)*$B$2*$N$21),IF(CW$18>=CV$19,$N$21*$B$2))),0) -> FALSE
A35: RP 14 | O35: =(O$21*$B$2*(O$19+(IF(O$19=100,0,1)))) -> 0 | P35: =IF('Hoja De Calculo'!Q13>='Hoja De Calculo'!P13,IF(P$18=100,($O$21*P$18*$B$2)-SUM($I35:O35),IF(P$18>O$19,((P$18-O$19+1)*$B$2*$O$21),IF(P$18>=O$19,$O$21*$B$2))),0) -> FALSE | Q35: =IF('Hoja De Calculo'!R13>='Hoja De Calculo'!Q13,IF(Q$18=100,($O$21*Q$18*$B$2)-SUM($I35:P35),IF(Q$18>P$19,((Q$18-P$19+1)*$B$2*$O$21),IF(Q$18>=P$19,$O$21*$B$2))),0) -> FALSE | R35: =IF('Hoja De Calculo'!S13>='Hoja De Calculo'!R13,IF(R$18=100,($O$21*R$18*$B$2)-SUM($I35:Q35),IF(R$18>Q$19,((R$18-Q$19+1)*$B$2*$O$21),IF(R$18>=Q$19,$O$21*$B$2))),0) -> FALSE | S35: =IF('Hoja De Calculo'!T13>='Hoja De Calculo'!S13,IF(S$18=100,($O$21*S$18*$B$2)-SUM($I35:R35),IF(S$18>R$19,((S$18-R$19+1)*$B$2*$O$21),IF(S$18>=R$19,$O$21*$B$2))),0) -> FALSE | T35: =IF('Hoja De Calculo'!U13>='Hoja De Calculo'!T13,IF(T$18=100,($O$21*T$18*$B$2)-SUM($I35:S35),IF(T$18>S$19,((T$18-S$19+1)*$B$2*$O$21),IF(T$18>=S$19,$O$21*$B$2))),0) -> FALSE | U35: =IF('Hoja De Calculo'!V13>='Hoja De Calculo'!U13,IF(U$18=100,($O$21*U$18*$B$2)-SUM($I35:T35),IF(U$18>T$19,((U$18-T$19+1)*$B$2*$O$21),IF(U$18>=T$19,$O$21*$B$2))),0) -> FALSE | V35: =IF('Hoja De Calculo'!W13>='Hoja De Calculo'!V13,IF(V$18=100,($O$21*V$18*$B$2)-SUM($I35:U35),IF(V$18>U$19,((V$18-U$19+1)*$B$2*$O$21),IF(V$18>=U$19,$O$21*$B$2))),0) -> FALSE | W35: =IF('Hoja De Calculo'!X13>='Hoja De Calculo'!W13,IF(W$18=100,($O$21*W$18*$B$2)-SUM($I35:V35),IF(W$18>V$19,((W$18-V$19+1)*$B$2*$O$21),IF(W$18>=V$19,$O$21*$B$2))),0) -> FALSE | ... CW35: =IF('Hoja De Calculo'!CX13>='Hoja De Calculo'!CW13,IF(CW$18=100,($O$21*CW$18*$B$2)-SUM($I35:CV35),IF(CW$18>CV$19,((CW$18-CV$19+1)*$B$2*$O$21),IF(CW$18>=CV$19,$O$21*$B$2))),0) -> FALSE
A36: RP 15 | P36: =(P$21*$B$2*(P$19+(IF(P$19=100,0,1)))) -> 0 | Q36: =IF('Hoja De Calculo'!R13>='Hoja De Calculo'!Q13,IF(Q$18=100,($P$21*Q$18*$B$2)-SUM($I36:P36),IF(Q$18>P$19,((Q$18-P$19+1)*$B$2*$P$21),IF(Q$18>=P$19,$P$21*$B$2))),0) -> FALSE | R36: =IF('Hoja De Calculo'!S13>='Hoja De Calculo'!R13,IF(R$18=100,($P$21*R$18*$B$2)-SUM($I36:Q36),IF(R$18>Q$19,((R$18-Q$19+1)*$B$2*$P$21),IF(R$18>=Q$19,$P$21*$B$2))),0) -> FALSE | S36: =IF('Hoja De Calculo'!T13>='Hoja De Calculo'!S13,IF(S$18=100,($P$21*S$18*$B$2)-SUM($I36:R36),IF(S$18>R$19,((S$18-R$19+1)*$B$2*$P$21),IF(S$18>=R$19,$P$21*$B$2))),0) -> FALSE | T36: =IF('Hoja De Calculo'!U13>='Hoja De Calculo'!T13,IF(T$18=100,($P$21*T$18*$B$2)-SUM($I36:S36),IF(T$18>S$19,((T$18-S$19+1)*$B$2*$P$21),IF(T$18>=S$19,$P$21*$B$2))),0) -> FALSE | U36: =IF('Hoja De Calculo'!V13>='Hoja De Calculo'!U13,IF(U$18=100,($P$21*U$18*$B$2)-SUM($I36:T36),IF(U$18>T$19,((U$18-T$19+1)*$B$2*$P$21),IF(U$18>=T$19,$P$21*$B$2))),0) -> FALSE | V36: =IF('Hoja De Calculo'!W13>='Hoja De Calculo'!V13,IF(V$18=100,($P$21*V$18*$B$2)-SUM($I36:U36),IF(V$18>U$19,((V$18-U$19+1)*$B$2*$P$21),IF(V$18>=U$19,$P$21*$B$2))),0) -> FALSE | W36: =IF('Hoja De Calculo'!X13>='Hoja De Calculo'!W13,IF(W$18=100,($P$21*W$18*$B$2)-SUM($I36:V36),IF(W$18>V$19,((W$18-V$19+1)*$B$2*$P$21),IF(W$18>=V$19,$P$21*$B$2))),0) -> FALSE | X36: =IF('Hoja De Calculo'!Y13>='Hoja De Calculo'!X13,IF(X$18=100,($P$21*X$18*$B$2)-SUM($I36:W36),IF(X$18>W$19,((X$18-W$19+1)*$B$2*$P$21),IF(X$18>=W$19,$P$21*$B$2))),0) -> FALSE | ... CW36: =IF('Hoja De Calculo'!CX13>='Hoja De Calculo'!CW13,IF(CW$18=100,($P$21*CW$18*$B$2)-SUM($I36:CV36),IF(CW$18>CV$19,((CW$18-CV$19+1)*$B$2*$P$21),IF(CW$18>=CV$19,$P$21*$B$2))),0) -> FALSE
A37: RP 16 | Q37: =(Q$21*$B$2*(Q$19+(IF(Q$19=100,0,1)))) -> 0 | R37: =IF('Hoja De Calculo'!S13>='Hoja De Calculo'!R13,IF(R$18=100,($Q$21*R$18*$B$2)-SUM($I37:Q37),IF(R$18>Q$19,((R$18-Q$19+1)*$B$2*$Q$21),IF(R$18>=Q$19,$Q$21*$B$2))),0) -> FALSE | S37: =IF('Hoja De Calculo'!T13>='Hoja De Calculo'!S13,IF(S$18=100,($Q$21*S$18*$B$2)-SUM($I37:R37),IF(S$18>R$19,((S$18-R$19+1)*$B$2*$Q$21),IF(S$18>=R$19,$Q$21*$B$2))),0) -> FALSE | T37: =IF('Hoja De Calculo'!U13>='Hoja De Calculo'!T13,IF(T$18=100,($Q$21*T$18*$B$2)-SUM($I37:S37),IF(T$18>S$19,((T$18-S$19+1)*$B$2*$Q$21),IF(T$18>=S$19,$Q$21*$B$2))),0) -> FALSE | U37: =IF('Hoja De Calculo'!V13>='Hoja De Calculo'!U13,IF(U$18=100,($Q$21*U$18*$B$2)-SUM($I37:T37),IF(U$18>T$19,((U$18-T$19+1)*$B$2*$Q$21),IF(U$18>=T$19,$Q$21*$B$2))),0) -> FALSE | V37: =IF('Hoja De Calculo'!W13>='Hoja De Calculo'!V13,IF(V$18=100,($Q$21*V$18*$B$2)-SUM($I37:U37),IF(V$18>U$19,((V$18-U$19+1)*$B$2*$Q$21),IF(V$18>=U$19,$Q$21*$B$2))),0) -> FALSE | W37: =IF('Hoja De Calculo'!X13>='Hoja De Calculo'!W13,IF(W$18=100,($Q$21*W$18*$B$2)-SUM($I37:V37),IF(W$18>V$19,((W$18-V$19+1)*$B$2*$Q$21),IF(W$18>=V$19,$Q$21*$B$2))),0) -> FALSE | X37: =IF('Hoja De Calculo'!Y13>='Hoja De Calculo'!X13,IF(X$18=100,($Q$21*X$18*$B$2)-SUM($I37:W37),IF(X$18>W$19,((X$18-W$19+1)*$B$2*$Q$21),IF(X$18>=W$19,$Q$21*$B$2))),0) -> FALSE | Y37: =IF('Hoja De Calculo'!Z13>='Hoja De Calculo'!Y13,IF(Y$18=100,($Q$21*Y$18*$B$2)-SUM($I37:X37),IF(Y$18>X$19,((Y$18-X$19+1)*$B$2*$Q$21),IF(Y$18>=X$19,$Q$21*$B$2))),0) -> FALSE | ... CW37: =IF('Hoja De Calculo'!CX13>='Hoja De Calculo'!CW13,IF(CW$18=100,($Q$21*CW$18*$B$2)-SUM($I37:CV37),IF(CW$18>CV$19,((CW$18-CV$19+1)*$B$2*$Q$21),IF(CW$18>=CV$19,$Q$21*$B$2))),0) -> FALSE
A38: RP 17 | R38: =(R$21*$B$2*(R$19+(IF(R$19=100,0,1)))) -> 0 | S38: =IF('Hoja De Calculo'!T13>='Hoja De Calculo'!S13,IF(S$18=100,($R$21*S$18*$B$2)-SUM($I38:R38),IF(S$18>R$19,((S$18-R$19+1)*$B$2*$R$21),IF(S$18>=R$19,$R$21*$B$2))),0) -> FALSE | T38: =IF('Hoja De Calculo'!U13>='Hoja De Calculo'!T13,IF(T$18=100,($R$21*T$18*$B$2)-SUM($I38:S38),IF(T$18>S$19,((T$18-S$19+1)*$B$2*$R$21),IF(T$18>=S$19,$R$21*$B$2))),0) -> FALSE | U38: =IF('Hoja De Calculo'!V13>='Hoja De Calculo'!U13,IF(U$18=100,($R$21*U$18*$B$2)-SUM($I38:T38),IF(U$18>T$19,((U$18-T$19+1)*$B$2*$R$21),IF(U$18>=T$19,$R$21*$B$2))),0) -> FALSE | V38: =IF('Hoja De Calculo'!W13>='Hoja De Calculo'!V13,IF(V$18=100,($R$21*V$18*$B$2)-SUM($I38:U38),IF(V$18>U$19,((V$18-U$19+1)*$B$2*$R$21),IF(V$18>=U$19,$R$21*$B$2))),0) -> FALSE | W38: =IF('Hoja De Calculo'!X13>='Hoja De Calculo'!W13,IF(W$18=100,($R$21*W$18*$B$2)-SUM($I38:V38),IF(W$18>V$19,((W$18-V$19+1)*$B$2*$R$21),IF(W$18>=V$19,$R$21*$B$2))),0) -> FALSE | X38: =IF('Hoja De Calculo'!Y13>='Hoja De Calculo'!X13,IF(X$18=100,($R$21*X$18*$B$2)-SUM($I38:W38),IF(X$18>W$19,((X$18-W$19+1)*$B$2*$R$21),IF(X$18>=W$19,$R$21*$B$2))),0) -> FALSE | Y38: =IF('Hoja De Calculo'!Z13>='Hoja De Calculo'!Y13,IF(Y$18=100,($R$21*Y$18*$B$2)-SUM($I38:X38),IF(Y$18>X$19,((Y$18-X$19+1)*$B$2*$R$21),IF(Y$18>=X$19,$R$21*$B$2))),0) -> FALSE | Z38: =IF('Hoja De Calculo'!AA13>='Hoja De Calculo'!Z13,IF(Z$18=100,($R$21*Z$18*$B$2)-SUM($I38:Y38),IF(Z$18>Y$19,((Z$18-Y$19+1)*$B$2*$R$21),IF(Z$18>=Y$19,$R$21*$B$2))),0) -> FALSE | ... CW38: =IF('Hoja De Calculo'!CX13>='Hoja De Calculo'!CW13,IF(CW$18=100,($R$21*CW$18*$B$2)-SUM($I38:CV38),IF(CW$18>CV$19,((CW$18-CV$19+1)*$B$2*$R$21),IF(CW$18>=CV$19,$R$21*$B$2))),0) -> FALSE
A39: RP 18 | S39: =(S$21*$B$2*(S$19+(IF(S$19=100,0,1)))) -> 0 | T39: =IF('Hoja De Calculo'!U13>='Hoja De Calculo'!T13,IF(T$18=100,($S$21*T$18*$B$2)-SUM($I39:S39),IF(T$18>S$19,((T$18-S$19+1)*$B$2*$S$21),IF(T$18>=S$19,$S$21*$B$2))),0) -> FALSE | U39: =IF('Hoja De Calculo'!V13>='Hoja De Calculo'!U13,IF(U$18=100,($S$21*U$18*$B$2)-SUM($I39:T39),IF(U$18>T$19,((U$18-T$19+1)*$B$2*$S$21),IF(U$18>=T$19,$S$21*$B$2))),0) -> FALSE | V39: =IF('Hoja De Calculo'!W13>='Hoja De Calculo'!V13,IF(V$18=100,($S$21*V$18*$B$2)-SUM($I39:U39),IF(V$18>U$19,((V$18-U$19+1)*$B$2*$S$21),IF(V$18>=U$19,$S$21*$B$2))),0) -> FALSE | W39: =IF('Hoja De Calculo'!X13>='Hoja De Calculo'!W13,IF(W$18=100,($S$21*W$18*$B$2)-SUM($I39:V39),IF(W$18>V$19,((W$18-V$19+1)*$B$2*$S$21),IF(W$18>=V$19,$S$21*$B$2))),0) -> FALSE | X39: =IF('Hoja De Calculo'!Y13>='Hoja De Calculo'!X13,IF(X$18=100,($S$21*X$18*$B$2)-SUM($I39:W39),IF(X$18>W$19,((X$18-W$19+1)*$B$2*$S$21),IF(X$18>=W$19,$S$21*$B$2))),0) -> FALSE | Y39: =IF('Hoja De Calculo'!Z13>='Hoja De Calculo'!Y13,IF(Y$18=100,($S$21*Y$18*$B$2)-SUM($I39:X39),IF(Y$18>X$19,((Y$18-X$19+1)*$B$2*$S$21),IF(Y$18>=X$19,$S$21*$B$2))),0) -> FALSE | Z39: =IF('Hoja De Calculo'!AA13>='Hoja De Calculo'!Z13,IF(Z$18=100,($S$21*Z$18*$B$2)-SUM($I39:Y39),IF(Z$18>Y$19,((Z$18-Y$19+1)*$B$2*$S$21),IF(Z$18>=Y$19,$S$21*$B$2))),0) -> FALSE | AA39: =IF('Hoja De Calculo'!AB13>='Hoja De Calculo'!AA13,IF(AA$18=100,($S$21*AA$18*$B$2)-SUM($I39:Z39),IF(AA$18>Z$19,((AA$18-Z$19+1)*$B$2*$S$21),IF(AA$18>=Z$19,$S$21*$B$2))),0) -> FALSE | ... CW39: =IF('Hoja De Calculo'!CX13>='Hoja De Calculo'!CW13,IF(CW$18=100,($S$21*CW$18*$B$2)-SUM($I39:CV39),IF(CW$18>CV$19,((CW$18-CV$19+1)*$B$2*$S$21),IF(CW$18>=CV$19,$S$21*$B$2))),0) -> FALSE
