Workbook
Name _ftn1: ER!$E$37
Name _ftnref1: ER!$E$34

Sheet ER
K3: =J5-I4+1 -> 270 | L3: =K3*24 -> 6480
B4: Project Name | C4: Bursa-Hamitler Landfill Gas Collection and Energy Utilization Project | I4: 44869 | J4: 44926 | K4: =J4-I4+1 -> 58 | L4: =K4*24 -> 1392
B5: GS ID. | C5: 1068 | I5: 44927 | J5: 45138 | K5: =J5-I5+1 -> 212 | L5: =K5*24 -> 5088
B6: Latest date of the version | C6: 45440 | I6: Ex-ante value | J6: Actual Value
B7: Version number of sheet | C7: 2.0 | H7: Emission Reduction | I7: ='Exante Values from PDD'!D3*($J$5-$I$4+1)/365 -> 193201.33 | J7: =F13 -> 122614 | K7: =(J7-I7)/I7 -> -0.36535633
B8: Methodology | C8: ACM0001 Flaring or use of landfill gas Version 19.0 | H8: Electricity Generated | I8: ='Exante Values from PDD'!D4*($J$5-$I$4+1)/365 -> 50745.205 | J8: ='Electricity Generation'!D6 -> 25945.664 | K8: =(J8-ER!I8)/ER!I8 -> -0.48870709
H9: Number of workers | I9: 5 | J9: 19 | K9: =(J9-ER!I9)/ER!I9 -> 2.8
B10: Years | C10: Baseline Emissions (tonnes of CO2e) | D10: Project Emissions (tonnes of CO2e) | E10: Leakage Emissions (tonnes of CO2e) | F10: Overall Emission Reductions (tonnes of CO2e) | H10: Number of trainings | I10: 1 | J10: 2 | K10: =(J10-ER!I10)/ER!I10 -> 1
B11: 04/11/2022 - 31/12/2022 | C11: =SUM(F18:F19) -> 29092 | D11: =SUM(I18:I19) -> 2 | E11: =SUM(L18:L19) -> 0 | F11: =SUM(J18:J19) -> 29090
B12: 01/01/2023 - 31/07/2023 | C12: =SUM(F20:F26) -> 93532 | D12: =SUM(I19:I25) -> 8 | E12: =SUM(L19:L25) -> 0 | F12: =SUM(J20:J26) -> 93524
B13: Total | C13: =SUM(C11:C12) -> 122624 | D13: =SUM(D11:D12) -> 10 | E13: =SUM(E11:E12) -> 0 | F13: =SUM(F11:F12) -> 122614
C14: =C13/($J$5-$I$4)*365 -> 166385.72 | D14: =D13/($J$5-$I$4)*365 -> 13.568773 | E14: =E13/($J$5-$I$4)*365 -> 0 | F14: =F13/($J$5-$I$4)*365 -> 166372.16
D15: M.ID.3
B16: Start date | C16: End date | D16: BECH4-LFG | E16: BEEC | F16: BE | G16: PELFG, flaring | H16: PEEC | I16: PE | J16: ER
D17: tCO2 | E17: tCO2 | F17: tCO2 | G17: tCO2 | H17: tCO2 | I17: tCO2 | J17: tCO2
B18: 44869 | C18: 44895 | D18: ='Baseline Emission_LFG'!G25 -> 12398 | E18: ='Electricity Generation'!J15 -> 1324 | F18: =ROUNDDOWN(SUM(D18:E18),0) -> 13722 | G18: 0 | H18: ='Electricity Generation'!J28 -> 1 | I18: =SUM(G18:H18) -> 1 | J18: =ROUNDDOWN(F18-I18-L18,0) -> 13721
B19: 44896 | C19: 44926 | D19: ='Baseline Emission_LFG'!G26 -> 13735 | E19: ='Electricity Generation'!J16 -> 1635 | F19: =ROUNDDOWN(SUM(D19:E19),0) -> 15370 | G19: 0 | H19: ='Electricity Generation'!J29 -> 1 | I19: =SUM(G19:H19) -> 1 | J19: =ROUNDDOWN(F19-I19-L19,0) -> 15369
B20: 44927 | C20: 44957 | D20: ='Baseline Emission_LFG'!G27 -> 13210 | E20: ='Electricity Generation'!J17 -> 1579 | F20: =ROUNDDOWN(SUM(D20:E20),0) -> 14789 | G20: 0 | H20: ='Electricity Generation'!J30 -> 1 | I20: =SUM(G20:H20) -> 1 | J20: =ROUNDDOWN(F20-I20-L20,0) -> 14788
B21: 44958 | C21: 44985 | D21: ='Baseline Emission_LFG'!G28 -> 12104 | E21: ='Electricity Generation'!J18 -> 1405 | F21: =ROUNDDOWN(SUM(D21:E21),0) -> 13509 | G21: 0 | H21: ='Electricity Generation'!J31 -> 1 | I21: =SUM(G21:H21) -> 1 | J21: =ROUNDDOWN(F21-I21-L21,0) -> 13508
B22: 44986 | C22: 45016 | D22: ='Baseline Emission_LFG'!G29 -> 12894 | E22: ='Electricity Generation'!J19 -> 1484 | F22: =ROUNDDOWN(SUM(D22:E22),0) -> 14378 | G22: 0 | H22: ='Electricity Generation'!J32 -> 1 | I22: =SUM(G22:H22) -> 1 | J22: =ROUNDDOWN(F22-I22-L22,0) -> 14377
B23: 45017 | C23: 45046 | D23: ='Baseline Emission_LFG'!G30 -> 11114 | E23: ='Electricity Generation'!J20 -> 1300 | F23: =ROUNDDOWN(SUM(D23:E23),0) -> 12414 | G23: 0 | H23: ='Electricity Generation'!J33 -> 2 | I23: =SUM(G23:H23) -> 2 | J23: =ROUNDDOWN(F23-I23-L23,0) -> 12412
B24: 45047 | C24: 45077 | D24: ='Baseline Emission_LFG'!G31 -> 11310 | E24: ='Electricity Generation'!J21 -> 1371 | F24: =ROUNDDOWN(SUM(D24:E24),0) -> 12681 | G24: 0 | H24: ='Electricity Generation'!J34 -> 1 | I24: =SUM(G24:H24) -> 1 | J24: =ROUNDDOWN(F24-I24-L24,0) -> 12680
B25: 45078 | C25: 45107 | D25: ='Baseline Emission_LFG'!G32 -> 11192 | E25: ='Electricity Generation'!J22 -> 1315 | F25: =ROUNDDOWN(SUM(D25:E25),0) -> 12507 | G25: 0 | H25: ='Electricity Generation'!J35 -> 1 | I25: =SUM(G25:H25) -> 1 | J25: =ROUNDDOWN(F25-I25-L25,0) -> 12506
B26: 45108 | C26: 45138 | D26: ='Baseline Emission_LFG'!G33 -> 11881 | E26: ='Electricity Generation'!J23 -> 1373 | F26: =ROUNDDOWN(SUM(D26:E26),0) -> 13254 | G26: 0 | H26: ='Electricity Generation'!J36 -> 1 | I26: =SUM(G26:H26) -> 1 | J26: =ROUNDDOWN(F26-I26-L26,0) -> 13253
B27: Total | D27: =SUM(D18:D26) -> 109838 | E27: =SUM(E18:E26) -> 12786 | F27: =SUM(F18:F26) -> 122624 | G27: =SUM(G18:G26) -> 0 | H27: =SUM(H18:H26) -> 10 | I27: =SUM(I18:I26) -> 10 | J27: =SUM(J18:J26) -> 122614
B29: Period
B30: =B11 -> 04/11/2022 - 31/12/2022 | D30: =SUM(D18:D19) -> 26133 | E30: =SUM(E18:E19) -> 2959 | F30: =SUM(F18:F19) -> 29092 | G30: =SUM(G18:G19) -> 0 | H30: =SUM(H18:H19) -> 2 | I30: =SUM(I18:I19) -> 2 | J30: =SUM(J18:J19) -> 29090
B31: 01/01/2023 – 31/07/2023 | D31: =SUM(D20:D26) -> 83705 | E31: =SUM(E20:E26) -> 9827 | F31: =SUM(F20:F26) -> 93532 | G31: =SUM(G20:G26) -> 0 | H31: =SUM(H20:H26) -> 8 | I31: =SUM(I20:I26) -> 8 | J31: =SUM(J20:J26) -> 93524
D32: =D30+D31 -> 109838

Sheet LFG Data
A1: Date | B1: Month | C1: Methane to engines [tCH4] | D1: Methane Totalmeter [tCH4] | E1: LFG destroyed in engines [Nm³] | F1: LFG total [Nm³/h] | G1: Methane amount in LFG (tCH4/tLFG)(%) | H1: Methane to Flare [tCH4]
A2: 44869 | B2: =MONTH(A2) -> 11 | C2: =E2*G2*$J$3 -> 492.00855 | D2: =C2 -> 492.00855 | E2: =SUM('Daily values for LFG flow, CH4'!C6:C32) -> 1343805.2 | F2: =E2 -> 1343805.2 | G2: =AVERAGE('Daily values for LFG flow, CH4'!D6:D32)/100 -> 0.51135593 | H2: 0
A3: 44870 | B3: =MONTH(A3) -> 11 | C3: =E3*G3*$J$3 -> 0 | D3: =C3 -> 0 | F3: =E3 -> 0 | H3: 0 | J3: =J4/1000 -> 0.000716 | K3: tonnes/m3
A4: 44871 | B4: =MONTH(A4) -> 11 | C4: =E4*G4*$J$3 -> 0 | D4: =C4 -> 0 | F4: =E4 -> 0 | H4: 0 | J4: 0.716 | K4: kg/m3
A5: 44872 | B5: =MONTH(A5) -> 11 | C5: =E5*G5*$J$3 -> 0 | D5: =C5 -> 0 | F5: =E5 -> 0 | H5: 0
A6: 44873 | B6: =MONTH(A6) -> 11 | C6: =E6*G6*$J$3 -> 0 | D6: =C6 -> 0 | F6: =E6 -> 0 | H6: 0
A7: 44874 | B7: =MONTH(A7) -> 11 | C7: =E7*G7*$J$3 -> 0 | D7: =C7 -> 0 | F7: =E7 -> 0 | H7: 0
A8: 44875 | B8: =MONTH(A8) -> 11 | C8: =E8*G8*$J$3 -> 0 | D8: =C8 -> 0 | F8: =E8 -> 0 | H8: 0 | J8: Methane Totalmeter [t] | K8: =SUM(D:D) -> 4358.8035
A9: 44876 | B9: =MONTH(A9) -> 11 | C9: =E9*G9*$J$3 -> 0 | D9: =C9 -> 0 | F9: =E9 -> 0 | H9: 0 | J9: LFG destroyed in engines [m³/h] | K9: =SUM(F:F) -> 12159786
A10: 44877 | B10: =MONTH(A10) -> 11 | C10: =E10*G10*$J$3 -> 0 | D10: =C10 -> 0 | F10: =E10 -> 0 | H10: 0 | J10: Methane to flare [t] | K10: =SUM(H:H) -> 0
A11: 44878 | B11: =MONTH(A11) -> 11 | C11: =E11*G11*$J$3 -> 0 | D11: =C11 -> 0 | F11: =E11 -> 0 | H11: 0 | J11: Levels of sulphide combusted in the landfill gas engines | K11: =0.005*K9 -> 60798.929 | P11: Normal Temperature (K) | R11: Normal Pressure (atm)
A12: 44879 | B12: =MONTH(A12) -> 11 | C12: =E12*G12*$J$3 -> 0 | D12: =C12 -> 0 | F12: =E12 -> 0 | H12: 0 | P12: =273.15 -> 273.15 | R12: 1
A13: 44880 | B13: =MONTH(A13) -> 11 | C13: =E13*G13*$J$3 -> 0 | D13: =C13 -> 0 | F13: =E13 -> 0 | H13: 0
A14: 44881 | B14: =MONTH(A14) -> 11 | C14: =E14*G14*$J$3 -> 0 | D14: =C14 -> 0 | F14: =E14 -> 0 | H14: 0
A15: 44882 | B15: =MONTH(A15) -> 11 | C15: =E15*G15*$J$3 -> 0 | D15: =C15 -> 0 | F15: =E15 -> 0 | H15: 0 | S15: M.ID.4 | T15: M.ID.5
A16: 44883 | B16: =MONTH(A16) -> 11 | C16: =E16*G16*$J$3 -> 0 | D16: =C16 -> 0 | F16: =E16 -> 0 | H16: 0 | K16: Start Date | L16: End Date | M16: Methane Totalmeter [tCH4] | N16: =F1 -> LFG total [Nm³/h] | O16: Average pressure (mbar) | P16: Average pressure (atm) | Q16: Average Temperature (°C) | R16: Average Temperature (K) | S16: LFG total [m³/h] | T16: Methane amount in LFG (tCH4/tLFG)
A17: 44884 | B17: =MONTH(A17) -> 11 | C17: =E17*G17*$J$3 -> 0 | D17: =C17 -> 0 | F17: =E17 -> 0 | H17: 0 | J17: =MONTH(K17) -> 11 | K17: 44869 | L17: 44895 | M17: =SUMIF(B$2:B$332,J17,D$2:D$332) -> 492.00855 | N17: 1343805 | O17: 128.7983 | P17: =O17*0.000986923267 -> 0.12711404 | Q17: 26.9 | R17: =Q17+$P$12 -> 300.05 | S17: =N17*($R$12/P17)*(R17/$P$12) -> 11612752 | T17: =SUMIF(B$2:B$332,J17,G$2:G$332) -> 0.51135593
A18: 44885 | B18: =MONTH(A18) -> 11 | C18: =E18*G18*$J$3 -> 0 | D18: =C18 -> 0 | F18: =E18 -> 0 | H18: 0 | J18: =MONTH(K18) -> 12 | K18: 44896 | L18: 44926 | M18: =SUMIF(B$2:B$332,J18,D$2:D$332) -> 545.06057 | N18: 1498244 | O18: 124.111 | P18: =O18*0.000986923267 -> 0.12248803 | Q18: 26.3 | R18: =Q18+$P$12 -> 299.45 | S18: =(R18/P18)*N18/($P$12/$R$12) -> 13409482 | T18: =SUMIF(B$2:B$332,J18,G$2:G$332) -> 0.5081
A19: 44886 | B19: =MONTH(A19) -> 11 | C19: =E19*G19*$J$3 -> 0 | D19: =C19 -> 0 | F19: =E19 -> 0 | H19: 0 | J19: =MONTH(K19) -> 1 | K19: 44927 | L19: 44957 | M19: =SUMIF(B$2:B$332,J19,D$2:D$332) -> 524.20642 | N19: 1454374 | O19: 117.5401 | P19: =O19*0.000986923267 -> 0.11600306 | Q19: 26.1 | R19: =Q19+$P$12 -> 299.25 | S19: =(R19/P19)*N19/($P$12/$R$12) -> 13735346 | T19: =SUMIF(B$2:B$332,J19,G$2:G$332) -> 0.5034
A20: 44887 | B20: =MONTH(A20) -> 11 | C20: =E20*G20*$J$3 -> 0 | D20: =C20 -> 0 | F20: =E20 -> 0 | H20: 0 | J20: =MONTH(K20) -> 2 | K20: 44958 | L20: 44985 | M20: =SUMIF(B$2:B$332,J20,D$2:D$332) -> 480.33665 | N20: 1376973 | O20: 124.2452 | P20: =O20*0.000986923267 -> 0.12262048 | Q20: 25.4 | R20: =Q20+$P$12 -> 298.55 | S20: =(R20/P20)*N20/($P$12/$R$12) -> 12273779 | T20: =SUMIF(B$2:B$332,J20,G$2:G$332) -> 0.4872
A21: 44888 | B21: =MONTH(A21) -> 11 | C21: =E21*G21*$J$3 -> 0 | D21: =C21 -> 0 | F21: =E21 -> 0 | H21: 0 | J21: =MONTH(K21) -> 3 | K21: 44986 | L21: 45016 | M21: =SUMIF(B$2:B$332,J21,D$2:D$332) -> 511.68799 | N21: 1444902 | O21: 125.7731 | P21: =O21*0.000986923267 -> 0.1241284 | Q21: 28.7 | R21: =Q21+$P$12 -> 301.85 | S21: =(R21/P21)*N21/($P$12/$R$12) -> 12863443 | T21: =SUMIF(B$2:B$332,J21,G$2:G$332) -> 0.4946
A22: 44889 | B22: =MONTH(A22) -> 11 | C22: =E22*G22*$J$3 -> 0 | D22: =C22 -> 0 | F22: =E22 -> 0 | H22: 0 | J22: =MONTH(K22) -> 4 | K22: 45017 | L22: 45046 | M22: =SUMIF(B$2:B$332,J22,D$2:D$332) -> 441.05047 | N22: 1186883 | O22: 122.7485 | P22: =O22*0.000986923267 -> 0.12114335 | Q22: 30.6 | R22: =Q22+$P$12 -> 303.75 | S22: =(R22/P22)*N22/($P$12/$R$12) -> 10894904 | T22: =SUMIF(B$2:B$332,J22,G$2:G$332) -> 0.519
A23: 44890 | B23: =MONTH(A23) -> 11 | C23: =E23*G23*$J$3 -> 0 | D23: =C23 -> 0 | F23: =E23 -> 0 | H23: 0 | J23: =MONTH(K23) -> 5 | K23: 45047 | L23: 45077 | M23: =SUMIF(B$2:B$332,J23,D$2:D$332) -> 448.83607 | N23: 1266396 | O23: 122.6176 | P23: =O23*0.000986923267 -> 0.12101416 | Q23: 31.8 | R23: =Q23+$P$12 -> 304.95 | S23: =(R23/P23)*N23/($P$12/$R$12) -> 11683172 | T23: =SUMIF(B$2:B$332,J23,G$2:G$332) -> 0.495
A24: 44891 | B24: =MONTH(A24) -> 11 | C24: =E24*G24*$J$3 -> 0 | D24: =C24 -> 0 | F24: =E24 -> 0 | H24: 0 | J24: =MONTH(K24) -> 6 | K24: 45078 | L24: 45107 | M24: =SUMIF(B$2:B$332,J24,D$2:D$332) -> 444.12904 | N24: 1254129 | O24: 119.7083 | P24: =O24*0.000986923267 -> 0.11814291 | Q24: 36.7 | R24: =Q24+$P$12 -> 309.85 | S24: =(R24/P24)*N24/($P$12/$R$12) -> 12041618 | T24: =SUMIF(B$2:B$332,J24,G$2:G$332) -> 0.4946
A25: 44892 | B25: =MONTH(A25) -> 11 | C25: =E25*G25*$J$3 -> 0 | D25: =C25 -> 0 | F25: =E25 -> 0 | H25: 0 | J25: =MONTH(K25) -> 7 | K25: 45108 | L25: 45138 | M25: =SUMIF(B$2:B$332,J25,D$2:D$332) -> 471.48771 | N25: 1334081 | O25: 121.135 | P25: =O25*0.000986923267 -> 0.11955095 | Q25: 39.6 | R25: =Q25+$P$12 -> 312.75 | S25: =(R25/P25)*N25/($P$12/$R$12) -> 12776894 | T25: =SUMIF(B$2:B$332,J25,G$2:G$332) -> 0.4936
A26: 44893 | B26: =MONTH(A26) -> 11 | C26: =E26*G26*$J$3 -> 0 | D26: =C26 -> 0 | F26: =E26 -> 0 | H26: 0
A27: 44894 | B27: =MONTH(A27) -> 11 | C27: =E27*G27*$J$3 -> 0 | D27: =C27 -> 0 | F27: =E27 -> 0 | H27: 0
A28: 44895 | B28: =MONTH(A28) -> 11 | C28: =E28*G28*$J$3 -> 0 | D28: =C28 -> 0 | F28: =E28 -> 0 | H28: 0
A29: 44896 | B29: =MONTH(A29) -> 12 | C29: =E29*G29*$J$3 -> 545.06057 | D29: =C29 -> 545.06057 | E29: 1498244 | F29: =E29 -> 1498244 | G29: 0.5081 | H29: 0
A30: 44897 | B30: =MONTH(A30) -> 12 | C30: 0 | D30: =C30 -> 0 | F30: =E30 -> 0 | H30: 0
A31: 44898 | B31: =MONTH(A31) -> 12 | C31: =E31*G31*$J$3 -> 0 | D31: =C31 -> 0 | F31: =E31 -> 0 | H31: 0 | K31: =K30 -> 0 | L31: =L18 -> 44926 | M31: =M17+M18 -> 1037.0691 | N31: =N17+N18 -> 2842049 | P31: =AVERAGE(P17:P18) -> 0.12480104 | R31: =AVERAGE(Q17:Q18) -> 26.6 | S31: =S18+S17 -> 25022234 | T31: =AVERAGE(T17:T18) -> 0.50972797
A32: 44899 | B32: =MONTH(A32) -> 12 | C32: =E32*G32*$J$3 -> 0 | D32: =C32 -> 0 | F32: =E32 -> 0 | H32: 0 | K32: =K19 -> 44927 | L32: =L25 -> 45138 | M32: =SUM(M19:M27) -> 3321.7344 | N32: =SUM(N19:N27) -> 9317738 | P32: =AVERAGE(P19:P25) -> 0.1203719 | R32: =AVERAGE(Q19:Q25) -> 31.271429 | S32: =SUM(S19:S25) -> 86269155 | T32: =AVERAGE(T19:T25) -> 0.4982
A33: 44900 | B33: =MONTH(A33) -> 12 | C33: =E33*G33*$J$3 -> 0 | D33: =C33 -> 0 | F33: =E33 -> 0 | H33: 0 | M33: =SUM(M31:M32) -> 4358.8035 | N33: =SUM(N31:N32) -> 12159787 | S33: =S31+S32 -> 1.1129139e+08
A34: 44901 | B34: =MONTH(A34) -> 12 | C34: =E34*G34*$J$3 -> 0 | D34: =C34 -> 0 | F34: =E34 -> 0 | H34: 0
A35: 44902 | B35: =MONTH(A35) -> 12 | C35: =E35*G35*$J$3 -> 0 | D35: =C35 -> 0 | F35: =E35 -> 0 | H35: 0
A36: 44903 | B36: =MONTH(A36) -> 12 | C36: =E36*G36*$J$3 -> 0 | D36: =C36 -> 0 | F36: =E36 -> 0 | H36: 0
A37: 44904 | B37: =MONTH(A37) -> 12 | C37: =E37*G37*$J$3 -> 0 | D37: =C37 -> 0 | F37: =E37 -> 0 | H37: 0
A38: 44905 | B38: =MONTH(A38) -> 12 | C38: =E38*G38*$J$3 -> 0 | D38: =C38 -> 0 | F38: =E38 -> 0 | H38: 0
A39: 44906 | B39: =MONTH(A39) -> 12 | C39: =E39*G39*$J$3 -> 0 | D39: =C39 -> 0 | F39: =E39 -> 0 | H39: 0
A40: 44907 | B40: =MONTH(A40) -> 12 | C40: =E40*G40*$J$3 -> 0 | D40: =C40 -> 0 | F40: =E40 -> 0 | H40: 0
...

Sheet Daily values for LFG flow, CH4
B2: Date | C2: Daily Sum Flow (Nm3) | D2: Daily Average CH4 (%) | E2: Daily Average CO2 (%) | F2: Daily Average O2 (%)
B3: 44866 | C3: 52463.944 | D3: 51.142982 | E3: 37.878107 | F3: 0.42664738
B4: 44867 | C4: 49433.147 | D4: 51.05671 | E4: 37.80839 | F4: 0.4543565
B5: 44868 | C5: 51110.83 | D5: 51.098208 | E5: 37.790195 | F5: 0.39477765
B6: 44869 | C6: 52236.188 | D6: 51.170997 | E6: 37.84244 | F6: 0.7244467
B7: 44870 | C7: 51555.459 | D7: 51.109116 | E7: 37.849741 | F7: 0.43148697
B8: 44871 | C8: 51844.596 | D8: 51.147991 | E8: 37.855569 | F8: 0.43331123
B9: 44872 | C9: 51938.441 | D9: 51.219923 | E9: 37.917619 | F9: 0.38948376
B10: 44873 | C10: 48854.746 | D10: 51.144839 | E10: 37.818787 | F10: 0.39203622
B11: 44874 | C11: 51834.378 | D11: 51.163534 | E11: 37.819405 | F11: 0.41061393
B12: 44875 | C12: 49577.589 | D12: 51.184444 | E12: 37.787483 | F12: 0.40239864
B13: 44876 | C13: 49313.91 | D13: 51.21232 | E13: 37.818301 | F13: 0.42473841
B14: 44877 | C14: 49233.507 | D14: 51.049707 | E14: 37.85432 | F14: 0.43636943
... B275: 45138 | C275: 41414.769 | D275: 49.505115 | E275: 38.596057 | F275: 0.39307779

Sheet Baseline Emission_LFG
D2: Methane destroyed by flare | F2: Methane destroyed by PGUs
C3: Month | D3: Methane Sent to Flare (tCH4) | E3: PEFlare (tCH4) | F3: Methane destroyed in engines - BECH4,y (LFG)
B4: 2022 | C4: 11 | D4: =SUMIF('LFG Data'!B:B,C4,'LFG Data'!H:H) -> 0 | E4: =IF(D4=0,0,"Please calculate PE Flare") -> 0 | F4: ='LFG Data'!M17 -> 492.00855
C5: 12 | D5: =SUMIF('LFG Data'!B:B,C5,'LFG Data'!H:H) -> 0 | E5: =IF(D5=0,0,"Please calculate PE Flare") -> 0 | F5: ='LFG Data'!M18 -> 545.06057
B6: 2023 | C6: 1 | D6: =SUMIF('LFG Data'!B:B,C6,'LFG Data'!H:H) -> 0 | E6: =IF(D6=0,0,"Please calculate PE Flare") -> 0 | F6: ='LFG Data'!M19 -> 524.20642
C7: 2 | D7: =SUMIF('LFG Data'!B:B,C7,'LFG Data'!H:H) -> 0 | E7: =IF(D7=0,0,"Please calculate PE Flare") -> 0 | F7: ='LFG Data'!M20 -> 480.33665
C8: 3 | D8: =SUMIF('LFG Data'!B:B,C8,'LFG Data'!H:H) -> 0 | E8: =IF(D8=0,0,"Please calculate PE Flare") -> 0 | F8: ='LFG Data'!M21 -> 511.68799
C9: 4 | D9: =SUMIF('LFG Data'!B:B,C9,'LFG Data'!H:H) -> 0 | E9: =IF(D9=0,0,"Please calculate PE Flare") -> 0 | F9: ='LFG Data'!M22 -> 441.05047
C10: 5 | D10: =SUMIF('LFG Data'!B:B,C10,'LFG Data'!H:H) -> 0 | E10: =IF(D10=0,0,"Please calculate PE Flare") -> 0 | F10: ='LFG Data'!M23 -> 448.83607
C11: 6 | D11: =SUMIF('LFG Data'!B:B,C11,'LFG Data'!H:H) -> 0 | E11: =IF(D11=0,0,"Please calculate PE Flare") -> 0 | F11: ='LFG Data'!M24 -> 444.12904
C12: 7 | D12: =SUMIF('LFG Data'!B:B,C12,'LFG Data'!H:H) -> 0 | E12: =IF(D12=0,0,"Please calculate PE Flare") -> 0 | F12: ='LFG Data'!M25 -> 471.48771
C13: Total 2022 | D13: =SUM(D4:D5) -> 0 | E13: =SUM(E4:E5) -> 0 | F13: ='LFG Data'!M31 -> 1037.0691
C14: Total 2023 | D14: =SUM(D6:D12) -> 0 | E14: =SUM(E6:E12) -> 0 | F14: ='LFG Data'!M32 -> 3321.7344
C16: Flare: In 2022 and 2023, no LFG was sent to flare, therfore there is no flow to the flare in the whole period. This results in PE_Flare = 0.
C18: BECH4,y = ((1-OXtop_layer) * FCH4,PJ,y - FCH4,BL,y) * GWPCH4
C19: OXtop_layer | D19: 0.1
C20: FCH4,BL,y | D20: 0
C21: GWPCH4 | D21: 28
C24: Start date | D24: End date | E24: FCH4,PJ,y | F24: FCH4,BL,y | G24: BECH4,y,LFG
C25: 44869 | D25: 44895 | E25: =F4 -> 492.00855 | F25: 0 | G25: =ROUNDDOWN((E25*(1-$D$19)-F25)*$D$21,0) -> 12398
C26: 44896 | D26: 44926 | E26: =F5 -> 545.06057 | F26: 0 | G26: =ROUNDDOWN((E26*(1-$D$19)-F26)*$D$21,0) -> 13735
C27: 44927 | D27: 44957 | E27: =F6 -> 524.20642 | F27: 0 | G27: =ROUNDDOWN((E27*(1-$D$19)-F27)*$D$21,0) -> 13210
C28: 44958 | D28: 44985 | E28: =F7 -> 480.33665 | F28: 0 | G28: =ROUNDDOWN((E28*(1-$D$19)-F28)*$D$21,0) -> 12104
C29: 44986 | D29: 45016 | E29: =F8 -> 511.68799 | F29: 0 | G29: =ROUNDDOWN((E29*(1-$D$19)-F29)*$D$21,0) -> 12894
C30: 45017 | D30: 45046 | E30: =F9 -> 441.05047 | F30: 0 | G30: =ROUNDDOWN((E30*(1-$D$19)-F30)*$D$21,0) -> 11114
C31: 45047 | D31: 45077 | E31: =F10 -> 448.83607 | F31: 0 | G31: =ROUNDDOWN((E31*(1-$D$19)-F31)*$D$21,0) -> 11310
C32: 45078 | D32: 45107 | E32: =F11 -> 444.12904 | F32: 0 | G32: =ROUNDDOWN((E32*(1-$D$19)-F32)*$D$21,0) -> 11192
C33: 45108 | D33: 45138 | E33: =F12 -> 471.48771 | F33: 0 | G33: =ROUNDDOWN((E33*(1-$D$19)-F33)*$D$21,0) -> 11881
C34: Total | G34: =SUM(G25:G33) -> 109838
E36: =SUM(E25:E33) -> 4358.8035

Sheet Electricity Generation
J2: EFgrid,OM,y | K2: 0.7258 | L2: tCO2/MWh
B3: =B13 -> Start date | C3: =C13 -> End date | D3: EGPJ,y (MWh) | E3: EGEC,y (MWh) | F3: PEy (tCO2e) | G3: BEEC (tCO2e) | J3: EFgrid,BM,y | K3: 0.4153 | L3: tCO2/MWh
A4: {=YEAR(B4:B5)} -> 2022 | B4: 44869 | C4: 44926 | D4: =SUMIF(A14:A23,A4,G14:G23) -> 6004.6481 | E4: =SUM(G27:G29) -> 1.0764 | F4: =ROUNDUP(SUMIF(A27:A36,A4,J27:J36),0) -> 2 | G4: =ROUNDDOWN(SUMIF(A14:A22,A4,J14:J22),0) -> 2959 | J4: wOM | K4: 0.25
A5: 2023 | B5: 44927 | C5: 45138 | D5: =SUMIF(A14:A23,A5,G14:G23) -> 19941.016 | E5: =SUM(G30:G36) -> 7.9902 | F5: =ROUNDUP(SUMIF(A27:A36,A5,J27:J36),0) -> 8 | G5: =ROUNDDOWN(SUMIF(A14:A23,A5,J14:J23),0) -> 9827 | J5: wBM | K5: =(1-K4) -> 0.75
B6: Total | D6: =SUM(D4:D5) -> 25945.664 | E6: =SUM(G27:G36) -> 9.0666 | F6: =SUM(F4:F5) -> 10 | G6: =SUM(G4:G5) -> 12786
J7: EFgrid,CM,y | K7: =(K2*K4)+(K3*K5) -> 0.492925 | L7: tCO2/MWh
B8: BEEC,y = ECBL,k,y * EFEL,k,y * (1+TDLk,y) | D8: =D6/($C$5-$B$4+1)*365 -> 35074.694
B9: EFEL,k,y = EFgrid,CM,y
B10: ECBL,k,y = EGPJ,y
D12: as per TEIAS Meter Reading Forms | E12: as per EPIAS Screenshots | M12: Raw Data (kWh) | O12: as per TEIAS Meter Reading Forms | Q12: as per EPIAS Screenshots
B13: Start date | C13: End date | D13: Net Electricity Supplied (MWh) | E13: Net Electricity Supplied (MWh) | F13: Difference (MWh) | G13: Total Net Electricity Supplied by the plant to grid (Conservative Value) (MWh) | H13: TDLk,y | I13: Baseline Grid Emission Factor (tCO2/MWh) EFgrid,CM,y | J13: Baseline emissions from electricity consumption (tCO2e) | M13: Start date | N13: End date | O13: Electricity Generation | P13: Electricity Consumption | Q13: Electricity Generation | R13: Electricity Consumption
A14: {=YEAR(B14:B22)} -> 1900
A15: 2022 | B15: 44869 | C15: 44895 | D15: =$O$15/1000*($C$15-$B$15+1)/30-D28 -> 2686.721 | E15: =$O$15/1000*($C$15-$B$15+1)/30-E28 -> 2686.721 | F15: =(E15-D15) -> 0 | G15: =MIN(D15,E15) -> 2686.721 | H15: 0.0189 | I15: =$K$7 -> 0.492925 | J15: =ROUNDDOWN(G15*I15,0) -> 1324 | M15: 44869 | N15: 44895 | O15: =3326216.887*V38 -> 2986004.6 | P15: =745.2*V47 -> 683.1 | Q15: =3326216.8*V38 -> 2986004.5 | R15: =745.2*V47 -> 683.1
A16: 2022 | B16: 44896 | C16: 44926 | D16: =O16/1000-D29 -> 3317.9272 | E16: =Q16/1000-E29 -> 3317.9271 | F16: =(E16-D16) -> -5.3e-05 | G16: =MIN(D16,E16) -> 3317.9271 | H16: 0.0189 | I16: =$K$7 -> 0.492925 | J16: =ROUNDDOWN(G16*I16,0) -> 1635 | M16: 44896 | N16: 44926 | O16: 3318320.5 | P16: 393.3 | Q16: 3318320.4 | R16: 393.3
A17: 2023 | B17: 44927 | C17: 44957 | D17: =O17/1000-D30 -> 3203.4742 | E17: =Q17/1000-E30 -> 3203.4741 | F17: =(E17-D17) -> -9.8e-05 | G17: =MIN(D17,E17) -> 3203.4741 | H17: 0.0189 | I17: =$K$7 -> 0.492925 | J17: =ROUNDDOWN(G17*I17,0) -> 1579 | M17: 44927 | N17: 44957 | O17: 3203681.2 | P17: 207 | Q17: 3203681.1 | R17: 207
A18: 2023 | B18: 44958 | C18: 44985 | D18: =O18/1000-D31 -> 2850.9582 | E18: =Q18/1000-E31 -> 2850.9581 | F18: =(E18-D18) -> -5.1e-05 | G18: =MIN(D18,E18) -> 2850.9581 | H18: 0.0189 | I18: =$K$7 -> 0.492925 | J18: =ROUNDDOWN(G18*I18,0) -> 1405 | M18: 44958 | N18: 44985 | O18: 2851496.4 | P18: 538.2 | Q18: 2851496.3 | R18: 538.2
A19: 2023 | B19: 44986 | C19: 45016 | D19: =O19/1000-D32 -> 3010.7456 | E19: =Q19/1000-E32 -> 3010.7456 | F19: =(E19-D19) -> -6.9999996e-06 | G19: =MIN(D19,E19) -> 3010.7456 | H19: 0.0189 | I19: =$K$7 -> 0.492925 | J19: =ROUNDDOWN(G19*I19,0) -> 1484 | M19: 44986 | N19: 45016 | O19: 3011263.1 | P19: 517.5 | Q19: 3011263.1 | R19: 517.5
A20: 2023 | B20: 45017 | C20: 45046 | D20: =O20/1000-D33 -> 2638.9876 | E20: =Q20/1000-E33 -> 2638.9876 | F20: =(E20-D20) -> -3.7e-05 | G20: =MIN(D20,E20) -> 2638.9876 | H20: 0.0189 | I20: =$K$7 -> 0.492925 | J20: =ROUNDDOWN(G20*I20,0) -> 1300 | M20: 45017 | N20: 45046 | O20: 2642154.7 | P20: 3167.1 | Q20: 2642154.7 | R20: 3167.1
A21: 2023 | B21: 45047 | C21: 45077 | D21: =O21/1000-D34 -> 2781.7615 | E21: =Q21/1000-E34 -> 2781.7615 | F21: =(E21-D21) -> -3.8e-05 | G21: =MIN(D21,E21) -> 2781.7615 | H21: 0.0189 | I21: =$K$7 -> 0.492925 | J21: =ROUNDDOWN(G21*I21,0) -> 1371 | M21: 45047 | N21: 45077 | O21: 2783355.4 | P21: 1593.9 | Q21: 2783355.4 | R21: 1593.9
A22: 2023 | B22: 45078 | C22: 45107 | D22: =O22/1000-D35 -> 2668.9276 | E22: =Q22/1000-E35 -> 2668.9276 | F22: =(E22-D22) -> -1.071e-06 | G22: =MIN(D22,E22) -> 2668.9276 | H22: 0.0189 | I22: =$K$7 -> 0.492925 | J22: =ROUNDDOWN(G22*I22,0) -> 1315 | M22: 45078 | N22: 45107 | O22: 2670687.1 | P22: 1759.5 | Q22: 2670687.1 | R22: 1759.5
A23: {=YEAR(B23:B29)} -> 2023 | B23: 45108 | C23: 45138 | D23: =O23/1000-D36 -> 2786.1612 | E23: =Q23/1000-E36 -> 2786.1612 | F23: =(E23-D23) -> -4.8999999e-05 | G23: =MIN(D23,E23) -> 2786.1612 | H23: 0.0189 | I23: =$K$7 -> 0.492925 | J23: =ROUNDDOWN(G23*I23,0) -> 1373 | M23: 45108 | N23: 45138 | O23: 2786368.2 | P23: 207 | Q23: 2786368.2 | R23: 207
D25: as per TEIAS Meter Reading Forms | E25: as per EPIAS Screenshots
B26: Start date | C26: End date | D26: Electricity Drawed (MWh) | E26: Electricity Drawed (MWh) | F26: Difference (MWh) | G26: Total Electricity Drawed by the plant from grid (Conservative Value) (MWh) | H26: TDLj,y | I26: Baseline Grid Emission Factor (tCO2/MWh) EFgrid,CM,y | J26: Project Emissions (tCO2e)
A27: {=YEAR(B27:B35)} -> 1900
A28: 2022 | B28: =B15 -> 44869 | C28: =C15 -> 44895 | D28: =P15/1000 -> 0.6831 | E28: =R15/1000 -> 0.6831 | F28: =(E28-D28) -> 0 | G28: =MAX(D28,E28) -> 0.6831 | H28: 0.0189 | I28: =$K$7 -> 0.492925 | J28: =ROUNDUP(G28*I28,0) -> 1
A29: 2022 | B29: =B16 -> 44896 | C29: =C16 -> 44926 | D29: =P16/1000 -> 0.3933 | E29: =R16/1000 -> 0.3933 | F29: =(E29-D29) -> 0 | G29: =MAX(D29,E29) -> 0.3933 | H29: 0.0189 | I29: =$K$7 -> 0.492925 | J29: =ROUNDUP(G29*I29,0) -> 1
A30: 2023 | B30: =B17 -> 44927 | C30: =C17 -> 44957 | D30: =P17/1000 -> 0.207 | E30: =R17/1000 -> 0.207 | F30: =(E30-D30) -> 0 | G30: =MAX(D30,E30) -> 0.207 | H30: 0.0189 | I30: =$K$7 -> 0.492925 | J30: =ROUNDUP(G30*I30,0) -> 1
A31: 2023 | B31: =B18 -> 44958 | C31: =C18 -> 44985 | D31: =P18/1000 -> 0.5382 | E31: =R18/1000 -> 0.5382 | F31: =(E31-D31) -> 0 | G31: =MAX(D31,E31) -> 0.5382 | H31: 0.0189 | I31: =$K$7 -> 0.492925 | J31: =ROUNDUP(G31*I31,0) -> 1
A32: 2023 | B32: =B19 -> 44986 | C32: =C19 -> 45016 | D32: =P19/1000 -> 0.5175 | E32: =R19/1000 -> 0.5175 | F32: =(E32-D32) -> 0 | G32: =MAX(D32,E32) -> 0.5175 | H32: 0.0189 | I32: =$K$7 -> 0.492925 | J32: =ROUNDUP(G32*I32,0) -> 1
A33: 2023 | B33: =B20 -> 45017 | C33: =C20 -> 45046 | D33: =P20/1000 -> 3.1671 | E33: =R20/1000 -> 3.1671 | F33: =(E33-D33) -> 0 | G33: =MAX(D33,E33) -> 3.1671 | H33: 0.0189 | I33: =$K$7 -> 0.492925 | J33: =ROUNDUP(G33*I33,0) -> 2
A34: 2023 | B34: =B21 -> 45047 | C34: =C21 -> 45077 | D34: =P21/1000 -> 1.5939 | E34: =R21/1000 -> 1.5939 | F34: =(E34-D34) -> 0 | G34: =MAX(D34,E34) -> 1.5939 | H34: 0.0189 | I34: =$K$7 -> 0.492925 | J34: =ROUNDUP(G34*I34,0) -> 1 | M34: DGR November 2022
A35: 2023 | B35: =B22 -> 45078 | C35: =C22 -> 45107 | D35: =P22/1000 -> 1.7595 | E35: =R22/1000 -> 1.7595 | F35: =(E35-D35) -> 0 | G35: =MAX(D35,E35) -> 1.7595 | H35: 0.0189 | I35: =$K$7 -> 0.492925 | J35: =ROUNDUP(G35*I35,0) -> 1 | M35: Date | N35: Supply (MWh) | O35: Draw (MWh) | P35: Draw with Loss (MWh) | Q35: Supply with Loss (MWh) | R35: Draw with Loss (kWh) | S35: Supply with Loss (kWh) | U35: For Supply with loss
A36: {=YEAR(B36:B42)} -> 2023 | B36: =B23 -> 45108 | C36: =C23 -> 45138 | D36: =P23/1000 -> 0.207 | E36: =R23/1000 -> 0.207 | F36: =(E36-D36) -> 0 | G36: =MAX(D36,E36) -> 0.207 | H36: 0.0189 | I36: =$K$7 -> 0.492925 | J36: =ROUNDUP(G36*I36,0) -> 1 | M36: 44866 | N36: 117.2241 | O36: 0 | P36: 0 | Q36: 116.75261 | R36: =P36*1000 -> 0 | S36: =Q36*1000 -> 116752.61 | U36: Generation value from 01/11/2022 to 30/11/2022 | V36: =SUM(S36:S65) -> 3326216.9
M37: 44867 | N37: 110.2275 | O37: 0.0621 | P37: 0.0621 | Q37: 109.78902 | R37: =P37*1000 -> 62.1 | S37: =Q37*1000 -> 109789.02 | U37: Generation value from 04/11/2022 to 30/11/2022 | V37: =SUM(S39:S65) -> 2986004.6
M38: 44868 | N38: 114.1191 | O38: 0 | P38: 0 | Q38: 113.6707 | R38: =P38*1000 -> 0 | S38: =Q38*1000 -> 113670.7 | U38: Geneartion ratio from 04/11/2022 to 30/11/2022 | V38: =V37/V36 -> 0.89771793
M39: 44869 | N39: 116.5824 | O39: 0 | P39: 0 | Q39: 116.11591 | R39: =P39*1000 -> 0 | S39: =Q39*1000 -> 116115.91
M40: 44870 | N40: 115.092 | O40: 0 | P40: 0 | Q40: 114.6367 | R40: =P40*1000 -> 0 | S40: =Q40*1000 -> 114636.7
M41: 44871 | N41: 115.6302 | O41: 0 | P41: 0 | Q41: 115.17021 | R41: =P41*1000 -> 0 | S41: =Q41*1000 -> 115170.21
M42: 44872 | N42: 115.9821 | O42: 0.0207 | P42: 0.0207 | Q42: 115.51969 | R42: =P42*1000 -> 20.7 | S42: =Q42*1000 -> 115519.69
M43: 44873 | N43: 109.0062 | O43: 0.1242 | P43: 0.1242 | Q43: 108.58373 | R43: =P43*1000 -> 124.2 | S43: =Q43*1000 -> 108583.73 | U43: For Draw with loss
...

Sheet Exante Values from PDD
B2: Sustainable Development Goals Targeted | C2: SDG Impact | D2: Estimated Annual Average | E2: Units or Products
B3: SDG 13 Take urgent action to combat climate change and its impacts | C3: Reduction of Greenhouse gas emission | D3: =C27 -> 261179.57 | E3: tCO2/year
B4: SDG 7 Ensure access to affordable, reliable, sustainable and modern energy for all | C4: Electricity generated using landfill gas and biogas | D4: 68600 | E4: MWh/yr.
B5: SDG 8 Promote sustained, inclusive and sustainable economic growth, full and productive employment and descent work for all | C5: Employment generated due to the project activity | D5: 5 workers employed will be continued during the crediting period and at least 1 training will be conducted | E5: Number
B8: For current monitoring period;
B9: 44869 | C9: 44926 | D9: ER (tCO2e/year) | E9: BE (tCO2e/year) | F9: PE+LE (tCO2e/year) | G9: EG (MWh/year)
B10: 44927 | C10: 45138 | D10: =D3*($C$10-$B$9+1)/365 -> 193201.33 | E10: =F26*($C$10-$B$9)/365 -> 194177.89 | F10: =(G26+H26)*($C$10-$B$9)/365 -> 1691.9718 | G10: =D4*($C$10-$B$9)/365 -> 50557.26
B11: =C10-B9 -> 269
B14: Total Emission Reductions
B15: Year | C15: Annual estimation of emission reductions | E15: Year | F15: Baseline estimate | G15: Project estimate | H15: Leakage | I15: Net benefit
C16: tCO2e | F16: tCO2e | G16: tCO2e | H16: tCO2e | I16: tCO2e
B17: 01/08/2022-31/07/2023 | C17: 248427 | E17: =B17 -> 01/08/2022-31/07/2023 | F17: 250723 | G17: 2295.7982 | H17: 0 | I17: 248427
B18: 01/08/2023-31/07/2024 | C18: 252778 | E18: =B18 -> 01/08/2023-31/07/2024 | F18: 255074 | G18: 2295.7982 | H18: 0 | I18: 252778
B19: 01/08/2024-31/07/2025 | C19: 257056 | E19: =B19 -> 01/08/2024-31/07/2025 | F19: 259352 | G19: 2295.7982 | H19: 0 | I19: 257056
B20: 01/08/2025-31/07/2026 | C20: 261275 | E20: =B20 -> 01/08/2025-31/07/2026 | F20: 263571 | G20: 2295.7982 | H20: 0 | I20: 261275
B21: 01/08/2026-31/07/2027 | C21: 265447 | E21: =B21 -> 01/08/2026-31/07/2027 | F21: 267743 | G21: 2295.7982 | H21: 0 | I21: 265447
B22: 01/08/2027-31/07/2028 | C22: 269583 | E22: =B22 -> 01/08/2027-31/07/2028 | F22: 271879 | G22: 2295.7982 | H22: 0 | I22: 269583
B23: 01/08/2028-31/07/2029 | C23: 273691 | E23: =B23 -> 01/08/2028-31/07/2029 | F23: 275987 | G23: 2295.7982 | H23: 0 | I23: 273691
B25: Total emission reductions (tCO2e) | C25: 1828257 | E25: Total tCO2e | F25: 1844329 | G25: 16070.587 | H25: 0 | I25: 1828257
B26: Total number of crediting years | C26: 7 | E26: Average | F26: 263475.57 | G26: 2295.7982 | H26: 0 | I26: 261179.57
B27: Annual average over the crediting period of estimated reductions (tCO2e) | C27: 261179.57
B28: Note - As per the deviation request, no issuance will be claimed for a period of delay in design certification renewal
