Workbook

Sheet Cover Page
B2: Title of the project activity | C2: Taishan Geothermal Central Heating System
B3: GS ID of the project activity | C3: GS 11167
B4: Version number of this calculation sheet | C4: 2
B5: Date | C5: 28/07/2021

Sheet Basic Data
B1: Taishan Geothermal Central Heating System
A2: Parameters
B4: Parameters | C4: Value | D4: Unit | E4: Description
B5: EFCO2,i | C5: 87.3 | D5: tCO2/TJ | E5: IPCC default values at the lower limit of the uncertainty at a 95% confidence interval as provided in table 1.4 of Chapter 1 of Vol.2 (Energy) of 2006 IPCC Guidelines on National GHG Inventories (cooking coal)
B6: EFEL,j,y | C6: =(0.8587+0.2854)/2 -> 0.57205 | D6: tCO2/MWh | E6: Baseline emission factors of China's regional power grids for emission reduction projects in 2019
B7: Tj | C7: =150*24 -> 3600 | D7: hour | E7: Number of hours per year heat utilization at well j, the data is regulated by local government
B8: CF | C8: 3.6 | E8: Conversion factor from GWh to TJ
B9: HIm,residential | C9: 45 | D9: W/m2 | E9: Design code for city heating network CJJ 34-2010
B10: HIm,commercial | C10: 55 | D10: W/m2 | E10: Design code for city heating network CJJ 34-2010
B11: Am,residential | C11: ='BE-Step 2'!B20/10000 -> 248.0907 | D11: 10,000 m2 | E11: Net heating area for construction type of residential building, the data is from the approved FSR
B12: Am,commercial | C12: ='BE-Step 2'!C20/10000 -> 9.4516 | D12: 10,000 m2 | E12: Net heating area for construction type of commercial building, the data is from the approved FSR
B13: Hff | C13: 0 | E13: Heat supplied by fossil fuel boiler, in case a boiler is used to meet the het demand of network. In the project, no fossil fuel boiler is installed.
B14: LossPJy | C14: 0.1 | E14: To be conservative, choose the value from manufacturer specifications. It can be calculated as 10%*Am*HIm*Tj*CF*10-9
B15: ηBL,i | C15: 0.85 | E15: The highest efficiency provided by 3 manufactures and Table 4 New coal fired boiler of AM0072
B16: wi | C16: 1 | E16: Research on Heating in Winter of Taishan Village published by Xinzheng Housing and Urban-Rural Development Bureau
B17: Estimate of annual electricity consumption per m2 of heating space for residential buildings | C17: 4.9 | D17: kWh/m2 | E17: FSR
B18: Estimate of annual electricity consumption per m2 of heating space for commercial buildings | C18: 6.5 | D18: kWh/m2 | E18: FSR

Sheet BE-Step 2
A2: Baseline emissions
A4: Step 2. Estimate net quantity of heat supplied by the geothermal heat resource in the project activity
A5: ex post (HSy)
A14: Sub-area | B14: Am (m2)
B15: Residential | C15: Commercial | D15: LossPJy (TJ) | E15: Am*HIm*Tj *CF*10-9 | F15: HCAP (TJ) | G15: HSy(TJ)
A16: No.4 Village Group | B16: =770000 -> 770000 | D16: =E16*'Basic Data'!$C$14 -> 44.9064 | E16: =B16*'Basic Data'!$C$9*'Basic Data'!$C$7*'Basic Data'!$C$8/10^9 -> 449.064 | F16: =E16+D16 -> 493.9704
A17: Zhengrongfu | B17: =730400 -> 730400 | D17: =E17*'Basic Data'!$C$14 -> 42.596928 | E17: =B17*'Basic Data'!$C$9*'Basic Data'!$C$7*'Basic Data'!$C$8/10^9 -> 425.96928 | F17: =E17+D17 -> 468.56621
A18: Taishan Villa | B18: =(145052+89760+93180+102515) -> 430507 | C18: =(41808+52708) -> 94516 | D18: =E18*'Basic Data'!$C$14 -> 31.844269 | E18: =B18*'Basic Data'!$C$9*'Basic Data'!$C$7*'Basic Data'!$C$8/10^9+C18*'Basic Data'!C10*'Basic Data'!C7*'Basic Data'!C8/10^9 -> 318.44269 | F18: =E18+D18 -> 350.28696
A19: Wangdong Community | B19: =550000 -> 550000 | D19: =E19*'Basic Data'!$C$14 -> 32.076 | E19: =B19*'Basic Data'!$C$9*'Basic Data'!$C$7*'Basic Data'!$C$8/10^9 -> 320.76 | F19: =E19+D19 -> 352.836
A20: Total | B20: =SUM(B16:B19) -> 2480907 | C20: =SUM(C16:C19) -> 94516 | D20: =SUM(D16:D19) -> 151.4236 | E20: =SUM(E16:E19) -> 1514.236 | F20: =SUM(F16:F19) -> 1665.6596 | G20: =MIN(F20,$B$31) -> 1638.7272
A26: For ex ante estimation, average flow rate and temperature difference at the geothermal well will be used
A28: The average flow rate of the geothermal well | B28: 150 | C28: m3/h
A29: Temperature difference | B29: =75-9 -> 66 | C29: ℃
A30: Number of production wells | B30: 11
A31: HSy,estimated | B31: =150*1000*4.18*66/3.6*10^-9*11*3600*3.6 -> 1638.7272 | C31: TJ

Sheet BE-Step 3
B3: Baseline emissions
B5: Step 3. Calculate baseline emissions from heat produced
C9: BEy = Ʃi [ HSBLi,y  EFCO2,i /ηBL,i ]
C11: HSy - LossPJy = Ʃi HSBLi,y - LossBLy.
C13: Ʃi HSBLi,y = | D13: HSy - LossPJy + LossBLy.
B16: Year | C16: 1 | D16: 2 | E16: 3 | F16: 4 | G16: 5
B17: HSy (TJ) | C17: ='BE-Step 2'!$G$20 -> 1638.7272 | D17: ='BE-Step 2'!$G$20 -> 1638.7272 | E17: ='BE-Step 2'!$G$20 -> 1638.7272 | F17: ='BE-Step 2'!$G$20 -> 1638.7272 | G17: ='BE-Step 2'!$G$20 -> 1638.7272
B18: LossPJy (TJ) | C18: ='BE-Step 2'!$D$20 -> 151.4236 | D18: ='BE-Step 2'!$D$20 -> 151.4236 | E18: ='BE-Step 2'!$D$20 -> 151.4236 | F18: ='BE-Step 2'!$D$20 -> 151.4236 | G18: ='BE-Step 2'!$D$20 -> 151.4236
B19: LossBLy (TJ) | C19: 0 | D19: =(D17-D18)/(1-'[1]BE StepB1'!$C$27)*'[1]BE StepB1'!$C$27 -> 0 | E19: 0 | F19: =E19 -> 0 | G19: =F19 -> 0
B20: HSBLi,y (TJ) | C20: ='Basic Data'!$C$16*(C17+C19-C18) -> 1487.3036 | D20: ='Basic Data'!$C$16*(D17+D19-D18) -> 1487.3036 | E20: ='Basic Data'!$C$16*(E17+E19-E18) -> 1487.3036 | F20: ='Basic Data'!$C$16*(F17+F19-F18) -> 1487.3036 | G20: ='Basic Data'!$C$16*(G17+G19-G18) -> 1487.3036
B21: BEy (tCO2e/yr) | C21: =ROUNDDOWN(C20*'Basic Data'!$C$5/'Basic Data'!$C$15,0) -> 152754 | D21: =ROUNDDOWN(D20*'Basic Data'!$C$5/'Basic Data'!$C$15,0) -> 152754 | E21: =ROUNDDOWN(E20*'Basic Data'!$C$5/'Basic Data'!$C$15,0) -> 152754 | F21: =ROUNDDOWN(F20*'Basic Data'!$C$5/'Basic Data'!$C$15,0) -> 152754 | G21: =ROUNDDOWN(G20*'Basic Data'!$C$5/'Basic Data'!$C$15,0) -> 152754

Sheet Project Emission
B2: Project emission
B7: Step 1: Calculate project emissions from fugitive emissions resulting from non-condensable gases from the geothermal vents during the year y
B8: Equal to zero as the project is identified as a low-temperature system.
B11: Step 2: Calculate project emissions from additional electricity consumption as a result of the project activity
B15: Year | C15: 1 | D15: 2 | E15: 3 | F15: 4 | G15: 5
B16: ECPJ,j,y (kWh) | C16: ='Basic Data'!$C$17*'Basic Data'!$C$11*10000+'Basic Data'!$C$18*'Basic Data'!$C$12*10000 -> 12770798 | D16: ='Basic Data'!$C$17*'Basic Data'!$C$11*10000+'Basic Data'!$C$18*'Basic Data'!$C$12*10000 -> 12770798 | E16: ='Basic Data'!$C$17*'Basic Data'!$C$11*10000+'Basic Data'!$C$18*'Basic Data'!$C$12*10000 -> 12770798 | F16: ='Basic Data'!$C$17*'Basic Data'!$C$11*10000+'Basic Data'!$C$18*'Basic Data'!$C$12*10000 -> 12770798 | G16: ='Basic Data'!$C$17*'Basic Data'!$C$11*10000+'Basic Data'!$C$18*'Basic Data'!$C$12*10000 -> 12770798
B17: ECPJ,j,y(MWh) | C17: =C16/1000 -> 12770.798 | D17: =D16/1000 -> 12770.798 | E17: =E16/1000 -> 12770.798 | F17: =F16/1000 -> 12770.798 | G17: =G16/1000 -> 12770.798
B18: EFEL,j,y (tCO2/MWh) | C18: ='Basic Data'!$C$6 -> 0.57205 | D18: ='Basic Data'!$C$6 -> 0.57205 | E18: ='Basic Data'!$C$6 -> 0.57205 | F18: ='Basic Data'!$C$6 -> 0.57205 | G18: ='Basic Data'!$C$6 -> 0.57205
B19: (1+TDLj,y) | C19: 1.2 | D19: 1.2 | E19: 1.2 | F19: 1.2 | G19: 1.2
B20: PEEC,y (tCO2e/yr) | C20: =ROUNDUP(C17*C18*C19,0) -> 8767 | D20: =ROUNDUP(D17*D18*D19,0) -> 8767 | E20: =ROUNDUP(E17*E18*E19,0) -> 8767 | F20: =ROUNDUP(F17*F18*F19,0) -> 8767 | G20: =ROUNDUP(G17*G18*G19,0) -> 8767
B23: Step 3: Calculate project emissions from fossil fuel consumed as a direct result of the operations of the project activity
B27: Equal to zero as no fossil fuel will be used to operate the geothermal facility
B29: Project Emissions
B30: Year | C30: 1 | D30: 2 | E30: 3 | F30: 4 | G30: 5
B31: PEy | C31: =C20 -> 8767 | D31: =D20 -> 8767 | E31: =E20 -> 8767 | F31: =F20 -> 8767 | G31: =G20 -> 8767

Sheet ER
C2: Emission Reductions
C5: Year | D5: Baseline emissions (t CO2e) | E5: Project emissions (t CO2e) | F5: Leakage (t CO2e) | G5: Emission reductions (t CO2e)
C6: 01/11/2020-31/03/2021 | D6: ='BE-Step 3'!C21 -> 152754 | E6: ='Project Emission'!C31 -> 8767 | F6: 0 | G6: =D6-E6-F6 -> 143987
C7: 01/11/2021-31/03/2022 | D7: ='BE-Step 3'!D21 -> 152754 | E7: ='Project Emission'!D31 -> 8767 | F7: 0 | G7: =D7-E7-F7 -> 143987
C8: 01/11/2022-31/03/2023 | D8: =D7 -> 152754 | E8: =E7 -> 8767 | F8: 0 | G8: =D8-E8-F8 -> 143987
C9: 01/11/2023-31/03/2024 | D9: =D8 -> 152754 | E9: =E8 -> 8767 | F9: 0 | G9: =D9-E9-F9 -> 143987
C10: 01/11/2024-31/03/2025 | D10: =D9 -> 152754 | E10: =E9 -> 8767 | F10: 0 | G10: =D10-E10-F10 -> 143987
C11: Total | D11: =SUM(D6:D10) -> 763770 | E11: =SUM(E6:E10) -> 43835 | F11: 0 | G11: =D11-E11-F11 -> 719935
C12: Total number of crediting years | D12: 5
C13: Annual average over the crediting period | D13: =D11/$D$12 -> 152754 | E13: =E11/$D$12 -> 8767 | F13: =F11/$D$12 -> 0 | G13: =D13-E13 -> 143987
