Workbook

Sheet Reading
A1: Month | B1: Metering start date | C1: Metering End date | D1: Net Quantity of Electricity Exported to the Grid(KWh) | E1: Net Quantity of Electricity Exported to the Grid with calibration error(KWh) | F1: Net Quantity of Electricity Exported to the Grid(MWh)
A2: 44682 | B2: 44682 | C2: 44712 | D2: 138461136 | E2: =D2*(1-0.2%) -> 1.3818421e+08 | F2: =E2/1000 -> 138184.21
A3: 44713 | B3: 44713 | C3: 44742 | D3: 113281072 | E3: =D3*(1-0.2%) -> 1.1305451e+08 | F3: =E3/1000 -> 113054.51
A4: 44743 | B4: 44743 | C4: 44773 | D4: 90498496 | E4: =D4*(1-0.2%) -> 90317499 | F4: =E4/1000 -> 90317.499
A5: 44774 | B5: 44774 | C5: 44804 | D5: 68582100 | E5: =D5*(1-0.2%) -> 68444936 | F5: =E5/1000 -> 68444.936
A6: 44805 | B6: 44805 | C6: 44834 | D6: 53156100 | E6: =D6*(1-0.2%) -> 53049788 | F6: =E6/1000 -> 53049.788
A7: 44835 | B7: 44835 | C7: 44865 | D7: 20381700 | E7: =D7*(1-0.2%) -> 20340937 | F7: =E7/1000 -> 20340.937
A8: 44866 | B8: 44866 | C8: 44895 | D8: 16910300 | E8: =D8*(1-0.2%) -> 16876479 | F8: =E8/1000 -> 16876.479
A9: 44896 | B9: 44896 | C9: 44926 | D9: 38242800 | E9: =D9*(1-0.2%) -> 38166314 | F9: =E9/1000 -> 38166.314
A10: 44927 | B10: 44927 | C10: 44957 | D10: 67495100 | E10: =D10*(1-0.2%) -> 67360110 | F10: =E10/1000 -> 67360.11
A11: 44958 | B11: 44958 | C11: 44985 | D11: 34135200 | E11: =D11*(1-0.2%) -> 34066930 | F11: =E11/1000 -> 34066.93
A12: 44986 | B12: 44986 | C12: 45016 | D12: 38784400 | E12: =D12*(1-0.2%) -> 38706831 | F12: =E12/1000 -> 38706.831
A13: 45017 | B13: 45017 | C13: 45046 | D13: 63673000 | E13: =D13*(1-0.2%) -> 63545654 | F13: =E13/1000 -> 63545.654
... A21: 45261 | B21: 45261 | C21: 45291 | D21: 46671200 | E21: =D21*(1-0.2%) -> 46577858 | F21: =E21/1000 -> 46577.858

Sheet SDG 13
B2: Project Title: 300 MW Wind Power Project in Gujarat by Alfanar Power
B3: Version: 03 dated 28/02/2024
A5: Month | B5: Metering start date | C5: Metering End date | D5: Net Quantity of Electricity Exported to the Grid(KWh) | E5: Net Quantity of Electricity Exported to the Grid with calibration error(KWh) | F5: Net Quantity of Electricity Exported to the Grid(MWh) | J5: Year | K5: Vintage | L5: Net Quantity of Electricity Exported to the Grid(MWh) | M5: Grid Emission factor (tCO2/MWh) | N5: Emission reduction (tCO2)
A6: 44682 | B6: 44682 | C6: 44712 | D6: 138461136 | E6: =D6*(1-0.2%) -> 1.3818421e+08 | F6: =E6/1000 -> 138184.21 | J6: 2022 | K6: 01/05/2022 to 31/12/2022 | L6: =SUM(F6:F13) -> 538434.68 | M6: 0.9346 | N6: =L6*M6 -> 503221.05
A7: 44713 | B7: 44713 | C7: 44742 | D7: 113281072 | E7: =D7*(1-0.2%) -> 1.1305451e+08 | F7: =E7/1000 -> 113054.51 | J7: 2023 | K7: 01/01/2023 to 31/12/2023 | L7: =SUM(F14:F25) -> 792825.27 | M7: 0.9346 | N7: =L7*M7 -> 740974.5
A8: 44743 | B8: 44743 | C8: 44773 | D8: 90498496 | E8: =D8*(1-0.2%) -> 90317499 | F8: =E8/1000 -> 90317.499 | J8: Total | K8: 01/05/2022 to 31/12/2023 | L8: =ROUNDDOWN(SUM(L6:L7),0) -> 1331259 | M8: 0.9346 | N8: =ROUNDDOWN(SUM(N6:N7),0) -> 1244195
A9: 44774 | B9: 44774 | C9: 44804 | D9: 68582100 | E9: =D9*(1-0.2%) -> 68444936 | F9: =E9/1000 -> 68444.936
A10: 44805 | B10: 44805 | C10: 44834 | D10: 53156100 | E10: =D10*(1-0.2%) -> 53049788 | F10: =E10/1000 -> 53049.788
A11: 44835 | B11: 44835 | C11: 44865 | D11: 20381700 | E11: =D11*(1-0.2%) -> 20340937 | F11: =E11/1000 -> 20340.937
A12: 44866 | B12: 44866 | C12: 44895 | D12: 16910300 | E12: =D12*(1-0.2%) -> 16876479 | F12: =E12/1000 -> 16876.479
A13: 44896 | B13: 44896 | C13: 44926 | D13: 38242800 | E13: =D13*(1-0.2%) -> 38166314 | F13: =E13/1000 -> 38166.314
A14: 44927 | B14: 44927 | C14: 44957 | D14: 67495100 | E14: =D14*(1-0.2%) -> 67360110 | F14: =E14/1000 -> 67360.11 | H14: Annual Estimated Emission reduction as per PDD | M14: 978399 | N14: tCO2
A15: 44958 | B15: 44958 | C15: 44985 | D15: 34135200 | E15: =D15*(1-0.2%) -> 34066930 | F15: =E15/1000 -> 34066.93 | H15: Number of days in the monitoring period | M15: =Q16-P16+1 -> 610 | N15: Days
A16: 44986 | B16: 44986 | C16: 45016 | D16: 38784400 | E16: =D16*(1-0.2%) -> 38706831 | F16: =E16/1000 -> 38706.831 | H16: Estimated emission reduction for the monitoring period | M16: =M14*M15/365 -> 1635132.6 | N16: tCO2 | P16: 44682 | Q16: 45291
A17: 45017 | B17: 45017 | C17: 45046 | D17: 63673000 | E17: =D17*(1-0.2%) -> 63545654 | F17: =E17/1000 -> 63545.654 | H17: Percentage change for the monitoring period | M17: =(N8-M16)/M16 -> -0.23908616 | N17: %
A18: 45047 | B18: 45047 | C18: 45077 | D18: 103131500 | E18: =D18*(1-0.2%) -> 102925237 | F18: =E18/1000 -> 102925.24
A19: 45078 | B19: 45078 | C19: 45107 | D19: 83853800 | E19: =D19*(1-0.2%) -> 83686092 | F19: =E19/1000 -> 83686.092
A20: 45108 | B20: 45108 | C20: 45138 | D20: 81813600 | E20: =D20*(1-0.2%) -> 81649973 | F20: =E20/1000 -> 81649.973
A21: 45139 | B21: 45139 | C21: 45169 | D21: 142458200 | E21: =D21*(1-0.2%) -> 1.4217328e+08 | F21: =E21/1000 -> 142173.28
A22: 45170 | B22: 45170 | C22: 45199 | D22: 70176000 | E22: =D22*(1-0.2%) -> 70035648 | F22: =E22/1000 -> 70035.648
A23: 45200 | B23: 45200 | C23: 45230 | D23: 33505600 | E23: =D23*(1-0.2%) -> 33438589 | F23: =E23/1000 -> 33438.589
A24: 45231 | B24: 45231 | C24: 45260 | D24: 28716500 | E24: =D24*(1-0.2%) -> 28659067 | F24: =E24/1000 -> 28659.067
A25: 45261 | B25: 45261 | C25: 45291 | D25: 46671200 | E25: =D25*(1-0.2%) -> 46577858 | F25: =E25/1000 -> 46577.858

Sheet O&M staff
A1: Sl. No. | B1: Name | C1: Job Title
A2: 1 | B2: Abhilash Murali | C2: construction manager
A3: 2 | B3: R.Vigneshwaran | C3: construction manager
A4: 3 | B4: Aman Mourya | C4: Project engineer CIVIL
A5: 4 | B5: Jauhar iqbal | C5: QA/QA Engineer CIVIL
A6: 5 | B6: Dilip kumar arya | C6: QA/QA Engineer Mechanical
A7: 6 | B7: Rohit Jain | C7: QA/QA Engineer Electrical
A8: 7 | B8: Mohammed arif saiyad | C8: land supervisor
A9: 8 | B9: vivek sachan | C9: project engineer electrical
A10: 9 | B10: Rajneshkumar patel | C10: Storekeeper
A11: 10 | B11: Saddam Hussain | C11: O&M engineer Electrical
A12: 11 | B12: Vishal Dhandha | C12: Legal Advisor land
A13: 12 | B13: Yogendra Singh | C13: Project engineer CIVIL
... A23: 22 | B23: Javed khan | C23: O&M engineer SCADA

Sheet Training
A1: S.NO | B1: Name of Training | C1: Training Date | D1: Number of participants
A2: 1 | B2: Mock Drill- Electrical panel fire | C2: 45045 | D2: 6
A3: 2 | B3: Mock Drill- Food poisioning | C3: 45197 | D3: 9
A4: 3 | B4: Mock Drill- Heat stroke | C4: 45077 | D4: 8
A5: 4 | B5: Mock Drill- Natural calamities | C5: 45107 | D5: 10
A6: 5 | B6: Mock Drill- property damage incidence | C6: 45132 | D6: 7
A7: 6 | B7: Mock Drill- Road accident | C7: 44951 | D7: 6
A8: 7 | B8: Emergency Response Drill - Fire Fighting | C8: 45143 | D8: 13
A9: 8 | B9: Mock Drill- Self rescue | C9: 45016 | D9: 7
A10: 9 | B10: Mock Drill- Slip due to oil spillage | C10: 45147 | D10: 9
A11: 10 | B11: Mock drill-snake bite | C11: 44975 | D11: 7
A12: 11 | B12: Mock drill for snake bite | C12: 45067 | D12: 6
A13: 12 | B13: Mock drill- switchyard fire | C13: 45217 | D13: 9
... A17: 16 | B17: First Aid Training | C17: 45269 | D17: 26

Sheet SDG 8
A2: SDG 8: Decent Work and Economic Growth
A3: Parameter | B3: Vintage | C3: Project value | D3: Baseline Value | E3: Net Benefit
A4: Number of training provided to employees & O&M staff | B4: 01/05/2022 to 31/12/2023 | C4: 16 | D4: 0 | E4: =C4 -> 16
B5: Total | C5: =SUM(C4:C4) -> 16 | D5: =SUM(D4:D4) -> 0 | E5: =SUM(E4:E4) -> 16
A8: Parameter | B8: Vintage | C8: Project value | D8: Baseline Value | E8: Net Benefit
A9: Cost spent for O&M (Million INR) | B9: 01/05/2022 to 31/12/2023 | C9: 110.29 | D9: 0 | E9: =C9 -> 110.29
B10: Total | C10: =SUM(C9:C9) -> 110.29 | D10: =SUM(D9:D9) -> 0 | E10: =E9 -> 110.29
A13: Parameter | B13: Vintage | C13: Project value | D13: Baseline Value | E13: Net Benefit
A14: Number of O&M Staff involved | B14: 01/05/2022 to 31/12/2023 | C14: 22 | D14: 0 | E14: =C14 -> 22
B15: Average | C15: =SUM(C14:C14) -> 22 | D15: 0 | E15: =SUM(E14:E14) -> 22

Sheet SDG 7
A1: SDG 7 Affordable and Clean Energy :
A2: Parameter | B2: Vintage | C2: Project value | D2: Baseline Value | E2: Net Benefit
A3: Net Electricity supplied to grid (MWh) | B3: ='SDG 13'!K6 -> 01/05/2022 to 31/12/2022 | C3: ='SDG 13'!L6 -> 538434.68 | D3: 0 | E3: =C3 -> 538434.68
B4: ='SDG 13'!K7 -> 01/01/2023 to 31/12/2023 | C4: ='SDG 13'!L7 -> 792825.27 | D4: 0 | E4: =C4 -> 792825.27
B5: Total (01/05/2022 to 31/12/2023) | C5: =SUM(C3+C4) -> 1331259.9 | D5: =SUM(D4) -> 0 | E5: =SUM(E3:E4) -> 1331259.9

Sheet Ex-ante estimate
B2: SDG Goal | C2: SDG 7 | D2: SDG 8 | G2: SDG 13
B3: SDG Impact | C3: Electricity generated (MWh) | D3: Trainings provided to O&M staff (Nos) | E3: Money spent on O&M (Mn INR) | F3: Jobs Created (Nos) | G3: Emission reduction (tCO2)
B4: Estimation as per PDD (for 1 year) | C4: 1046865 | D4: 2 | E4: 155 | F4: 100 | G4: ='SDG 13'!M14 -> 978399
B5: Number of days in the monitoring period | C5: ='SDG 13'!$M$15 -> 610 | D5: ='SDG 13'!$M$15 -> 610 | E5: ='SDG 13'!$M$15 -> 610 | F5: ='SDG 13'!$M$15 -> 610 | G5: ='SDG 13'!$M$15 -> 610
B6: Estimation for the monitoring period (610 days) | C6: =C4*C5/365 -> 1749555.2 | D6: =D4*D5/365 -> 3.3424658 | E6: =E4*E5/365 -> 259.0411 | F6: =F4*F5/365 -> 167.12329 | G6: =G4*G5/365 -> 1635132.6
